BEGIN:VCALENDAR
VERSION:2.0
PRODID:-//Greenwich Review - ECPv6.15.20//NONSGML v1.0//EN
CALSCALE:GREGORIAN
METHOD:PUBLISH
X-ORIGINAL-URL:https://greenwichreview.com
X-WR-CALDESC:Events for Greenwich Review
REFRESH-INTERVAL;VALUE=DURATION:PT1H
X-Robots-Tag:noindex
X-PUBLISHED-TTL:PT1H
BEGIN:VTIMEZONE
TZID:UTC
BEGIN:STANDARD
TZOFFSETFROM:+0000
TZOFFSETTO:+0000
TZNAME:UTC
DTSTART:20240101T000000
END:STANDARD
END:VTIMEZONE
BEGIN:VEVENT
DTSTART;TZID=UTC:20250905T183000
DTEND;TZID=UTC:20250905T213000
DTSTAMP:20260424T202234
CREATED:20250709T203520Z
LAST-MODIFIED:20250709T203520Z
UID:10003641-1757097000-1757107800@greenwichreview.com
SUMMARY:Severndroog Late with La Divas
DESCRIPTION:Tickets to be announced and on sale from 1st August.
URL:https://greenwichreview.com/event/severndroog-late-with-la-divas/
LOCATION:Severndroog Castle\, Castlewood Drive\, Shooters Hill\, London\, SE18 3RT
END:VEVENT
END:VCALENDAR