BEGIN:VCALENDAR
VERSION:2.0
PRODID:-//Greenwich Review - ECPv6.15.20//NONSGML v1.0//EN
CALSCALE:GREGORIAN
METHOD:PUBLISH
X-WR-CALNAME:Greenwich Review
X-ORIGINAL-URL:https://greenwichreview.com
X-WR-CALDESC:Events for Greenwich Review
REFRESH-INTERVAL;VALUE=DURATION:PT1H
X-Robots-Tag:noindex
X-PUBLISHED-TTL:PT1H
BEGIN:VTIMEZONE
TZID:UTC
BEGIN:STANDARD
TZOFFSETFROM:+0000
TZOFFSETTO:+0000
TZNAME:UTC
DTSTART:20240101T000000
END:STANDARD
END:VTIMEZONE
BEGIN:VEVENT
DTSTART;TZID=UTC:20250907T100000
DTEND;TZID=UTC:20250907T150000
DTSTAMP:20260425T015937
CREATED:20250709T203019Z
LAST-MODIFIED:20250709T203019Z
UID:10003640-1757239200-1757257200@greenwichreview.com
SUMMARY:Sevendroog Castle September Producers Market
DESCRIPTION:Sevendroog Castle September Producers Market
URL:https://greenwichreview.com/event/sevendroog-castle-september-producers-market/
LOCATION:Severndroog Castle\, Castlewood Drive\, Shooters Hill\, London\, SE18 3RT
END:VEVENT
BEGIN:VEVENT
DTSTART;TZID=UTC:20250907T110000
DTEND;TZID=UTC:20250907T180000
DTSTAMP:20260425T015937
CREATED:20231011T120553Z
LAST-MODIFIED:20231011T120658Z
UID:10000901-1757242800-1757268000@greenwichreview.com
SUMMARY:Peninsular Market
DESCRIPTION:
URL:https://greenwichreview.com/event/2339/2025-09-07/
LOCATION:Peninsular Square\, Peninsula Square\, London\, SE10 0SQ
END:VEVENT
END:VCALENDAR