BEGIN:VCALENDAR
VERSION:2.0
PRODID:-//Greenwich Review - ECPv6.15.20//NONSGML v1.0//EN
CALSCALE:GREGORIAN
METHOD:PUBLISH
X-WR-CALNAME:Greenwich Review
X-ORIGINAL-URL:https://greenwichreview.com
X-WR-CALDESC:Events for Greenwich Review
REFRESH-INTERVAL;VALUE=DURATION:PT1H
X-Robots-Tag:noindex
X-PUBLISHED-TTL:PT1H
BEGIN:VTIMEZONE
TZID:UTC
BEGIN:STANDARD
TZOFFSETFROM:+0000
TZOFFSETTO:+0000
TZNAME:UTC
DTSTART:20240101T000000
END:STANDARD
END:VTIMEZONE
BEGIN:VEVENT
DTSTART;TZID=UTC:20250910T193000
DTEND;TZID=UTC:20250910T203000
DTSTAMP:20260425T015937
CREATED:20241026T200507Z
LAST-MODIFIED:20241026T200507Z
UID:10003276-1757532600-1757536200@greenwichreview.com
SUMMARY:The Quiz People at the Pelton Arms
DESCRIPTION:Speed quizzing using smartphones with a £2 entry fee and cash prizes.
URL:https://greenwichreview.com/event/the-quiz-people-at-the-pelton-arms/2025-09-10/
LOCATION:The Pelton Arms\, 23-25 Pelton Rd\,\, London\, SE10 9PQ
END:VEVENT
BEGIN:VEVENT
DTSTART;TZID=UTC:20250910T193000
DTEND;TZID=UTC:20250910T213000
DTSTAMP:20260425T015937
CREATED:20250507T213958Z
LAST-MODIFIED:20250507T213958Z
UID:10003542-1757532600-1757539800@greenwichreview.com
SUMMARY:Using Data to Counter Quackery and Alternative Medicine
DESCRIPTION:Michael Marshall\, who is the project director of the Good Thinking Society gives a presentation on addressing the widespread issue of quackery\, particularly when promoted by authorities or too prevalent for individual intervention. He will discuss examples ranging from NHS homeopathy and alternative medicine in midwifery to questionable charities and overseas cancer clinics. Marshall will explain how a thorough analysis of public data can illuminate the extent of the problem and provide the media with the necessary evidence to raise public awareness and drive change.
URL:https://greenwichreview.com/event/using-data-to-counter-quackery-and-alternative-medicine/
LOCATION:Duke of Greenwich\, 91 Colomb Street\, London\, SE10 9EZ
ORGANIZER;CN="Greenwich Skeptics In The Pub":MAILTO:contact@sitp.online
END:VEVENT
BEGIN:VEVENT
DTSTART;TZID=UTC:20250910T200000
DTEND;TZID=UTC:20250910T213000
DTSTAMP:20260425T015937
CREATED:20231015T103619Z
LAST-MODIFIED:20231015T103619Z
UID:10001350-1757534400-1757539800@greenwichreview.com
SUMMARY:Captain Cutty's Pub Quiz
DESCRIPTION:Captain Cutty’s pub quiz every Wednesday at 20:00 at the Cutty Sark pub.
URL:https://greenwichreview.com/event/captain-cuttys-pub-quiz/2025-09-10/
LOCATION:Cutty Sark Pub\, 4-6 Ballast Quay\, London\, SE10 9PD\, United Kingdom
END:VEVENT
END:VCALENDAR