BEGIN:VCALENDAR
VERSION:2.0
PRODID:-//Greenwich Review - ECPv6.15.20//NONSGML v1.0//EN
CALSCALE:GREGORIAN
METHOD:PUBLISH
X-ORIGINAL-URL:https://greenwichreview.com
X-WR-CALDESC:Events for Greenwich Review
REFRESH-INTERVAL;VALUE=DURATION:PT1H
X-Robots-Tag:noindex
X-PUBLISHED-TTL:PT1H
BEGIN:VTIMEZONE
TZID:UTC
BEGIN:STANDARD
TZOFFSETFROM:+0000
TZOFFSETTO:+0000
TZNAME:UTC
DTSTART:20240101T000000
END:STANDARD
END:VTIMEZONE
BEGIN:VEVENT
DTSTART;TZID=UTC:20250924T193000
DTEND;TZID=UTC:20250924T203000
DTSTAMP:20260424T222704
CREATED:20241026T200507Z
LAST-MODIFIED:20241026T200507Z
UID:10003278-1758742200-1758745800@greenwichreview.com
SUMMARY:The Quiz People at the Pelton Arms
DESCRIPTION:Speed quizzing using smartphones with a £2 entry fee and cash prizes.
URL:https://greenwichreview.com/event/the-quiz-people-at-the-pelton-arms/2025-09-24/
LOCATION:The Pelton Arms\, 23-25 Pelton Rd\,\, London\, SE10 9PQ
END:VEVENT
BEGIN:VEVENT
DTSTART;TZID=UTC:20250924T194500
DTEND;TZID=UTC:20250924T220000
DTSTAMP:20260424T222704
CREATED:20250526T210003Z
LAST-MODIFIED:20250526T210035Z
UID:10003580-1758743100-1758751200@greenwichreview.com
SUMMARY:Mr Burns - A post electric play.
DESCRIPTION:In the wake of an unspecified apocalypse\, six survivors gather around a campfire\, seeking solace from their grief by recounting the “Cape Feare” episode of The Simpsons and other media. \n\nSeven Years Later\nThe group has transformed into a traveling theatre company\, specializing in performing Simpsons episodes. Live theatre has become a dominant form of entertainment in this new society\, with troupes fiercely competing to authentically replicate pre-apocalyptic stories. Despite their dedication\, their rendition of “Cape Feare” subtly diverges from the original. During a rehearsal\, armed robbers attack the group\, leaving their fates unknown. \n\n75 Years Later\n“Cape Feare” is now a musical performed in a theatre dedicated to The Simpsons. The characters\, plot\, and morals have evolved into more serious and epic forms. For instance\, Mr. Burns has merged with Sideshow Bob (the original “Cape Feare” villain) and is reimagined as a supernatural embodiment of death and destruction.
URL:https://greenwichreview.com/event/mr-burns-a-post-electric-play/
LOCATION:Bob Hope Theatre\, Wythfield Road\, London\, SE9 5TG
ORGANIZER;CN="Bob Hope Theatre":MAILTO:info@bobhopetheatre.co.uk
END:VEVENT
BEGIN:VEVENT
DTSTART;TZID=UTC:20250924T200000
DTEND;TZID=UTC:20250924T213000
DTSTAMP:20260424T222704
CREATED:20231015T103619Z
LAST-MODIFIED:20231015T103619Z
UID:10001352-1758744000-1758749400@greenwichreview.com
SUMMARY:Captain Cutty's Pub Quiz
DESCRIPTION:Captain Cutty’s pub quiz every Wednesday at 20:00 at the Cutty Sark pub.
URL:https://greenwichreview.com/event/captain-cuttys-pub-quiz/2025-09-24/
LOCATION:Cutty Sark Pub\, 4-6 Ballast Quay\, London\, SE10 9PD\, United Kingdom
END:VEVENT
END:VCALENDAR