BEGIN:VCALENDAR
VERSION:2.0
PRODID:-//Greenwich Review - ECPv6.15.20//NONSGML v1.0//EN
CALSCALE:GREGORIAN
METHOD:PUBLISH
X-WR-CALNAME:Greenwich Review
X-ORIGINAL-URL:https://greenwichreview.com
X-WR-CALDESC:Events for Greenwich Review
REFRESH-INTERVAL;VALUE=DURATION:PT1H
X-Robots-Tag:noindex
X-PUBLISHED-TTL:PT1H
BEGIN:VTIMEZONE
TZID:UTC
BEGIN:STANDARD
TZOFFSETFROM:+0000
TZOFFSETTO:+0000
TZNAME:UTC
DTSTART:20240101T000000
END:STANDARD
END:VTIMEZONE
BEGIN:VEVENT
DTSTART;TZID=UTC:20251001T193000
DTEND;TZID=UTC:20251001T203000
DTSTAMP:20260424T145515
CREATED:20241026T200507Z
LAST-MODIFIED:20241026T200507Z
UID:10003279-1759347000-1759350600@greenwichreview.com
SUMMARY:The Quiz People at the Pelton Arms
DESCRIPTION:Speed quizzing using smartphones with a £2 entry fee and cash prizes.
URL:https://greenwichreview.com/event/the-quiz-people-at-the-pelton-arms/2025-10-01/
LOCATION:The Pelton Arms\, 23-25 Pelton Rd\,\, London\, SE10 9PQ
END:VEVENT
BEGIN:VEVENT
DTSTART;TZID=UTC:20251001T200000
DTEND;TZID=UTC:20251001T213000
DTSTAMP:20260424T145515
CREATED:20231015T103619Z
LAST-MODIFIED:20231015T103619Z
UID:10001353-1759348800-1759354200@greenwichreview.com
SUMMARY:Captain Cutty's Pub Quiz
DESCRIPTION:Captain Cutty’s pub quiz every Wednesday at 20:00 at the Cutty Sark pub.
URL:https://greenwichreview.com/event/captain-cuttys-pub-quiz/2025-10-01/
LOCATION:Cutty Sark Pub\, 4-6 Ballast Quay\, London\, SE10 9PD\, United Kingdom
END:VEVENT
END:VCALENDAR