BEGIN:VCALENDAR
VERSION:2.0
PRODID:-//Greenwich Review - ECPv6.15.20//NONSGML v1.0//EN
CALSCALE:GREGORIAN
METHOD:PUBLISH
X-WR-CALNAME:Greenwich Review
X-ORIGINAL-URL:https://greenwichreview.com
X-WR-CALDESC:Events for Greenwich Review
REFRESH-INTERVAL;VALUE=DURATION:PT1H
X-Robots-Tag:noindex
X-PUBLISHED-TTL:PT1H
BEGIN:VTIMEZONE
TZID:UTC
BEGIN:STANDARD
TZOFFSETFROM:+0000
TZOFFSETTO:+0000
TZNAME:UTC
DTSTART:20240101T000000
END:STANDARD
END:VTIMEZONE
BEGIN:VEVENT
DTSTART;TZID=UTC:20251002T193000
DTEND;TZID=UTC:20251002T210000
DTSTAMP:20260424T145237
CREATED:20241026T203003Z
LAST-MODIFIED:20241026T203003Z
UID:10003296-1759433400-1759438800@greenwichreview.com
SUMMARY:Monthly Music Quiz
DESCRIPTION:Monthly Music Quiz. Every first Thursday of the month. \n7:30 pm for a prompt 8 pm start.
URL:https://greenwichreview.com/event/monthly-music-quiz-2/2025-10-02/
LOCATION:The Pelton Arms\, 23-25 Pelton Rd\,\, London\, SE10 9PQ
END:VEVENT
BEGIN:VEVENT
DTSTART;TZID=UTC:20251002T193000
DTEND;TZID=UTC:20251002T213000
DTSTAMP:20260424T145237
CREATED:20240427T102207Z
LAST-MODIFIED:20240427T102207Z
UID:10002218-1759433400-1759440600@greenwichreview.com
SUMMARY:Monthly Music Quiz
DESCRIPTION:Monthly music quiz every first Thursday of the month. \nBegins at 7:30 pm for an 8 pm start.
URL:https://greenwichreview.com/event/monthly-music-quiz/2025-10-02/
LOCATION:The Pelton Arms\, 23-25 Pelton Rd\,\, London\, SE10 9PQ
END:VEVENT
END:VCALENDAR