BEGIN:VCALENDAR
VERSION:2.0
PRODID:-//Greenwich Review - ECPv6.15.20//NONSGML v1.0//EN
CALSCALE:GREGORIAN
METHOD:PUBLISH
X-WR-CALNAME:Greenwich Review
X-ORIGINAL-URL:https://greenwichreview.com
X-WR-CALDESC:Events for Greenwich Review
REFRESH-INTERVAL;VALUE=DURATION:PT1H
X-Robots-Tag:noindex
X-PUBLISHED-TTL:PT1H
BEGIN:VTIMEZONE
TZID:UTC
BEGIN:STANDARD
TZOFFSETFROM:+0000
TZOFFSETTO:+0000
TZNAME:UTC
DTSTART:20240101T000000
END:STANDARD
END:VTIMEZONE
BEGIN:VEVENT
DTSTART;TZID=UTC:20251005T100000
DTEND;TZID=UTC:20251005T150000
DTSTAMP:20260424T163547
CREATED:20250709T203905Z
LAST-MODIFIED:20250709T203905Z
UID:10003642-1759658400-1759676400@greenwichreview.com
SUMMARY:Severndroog Castle October Producers Market
DESCRIPTION:Severndroog Castle October Producers Market
URL:https://greenwichreview.com/event/severndroog-castle-october-producers-market/
LOCATION:Severndroog Castle\, Castlewood Drive\, Shooters Hill\, London\, SE18 3RT
END:VEVENT
BEGIN:VEVENT
DTSTART;TZID=UTC:20251005T110000
DTEND;TZID=UTC:20251005T180000
DTSTAMP:20260424T163547
CREATED:20231011T120553Z
LAST-MODIFIED:20231011T120658Z
UID:10000909-1759662000-1759687200@greenwichreview.com
SUMMARY:Peninsular Market
DESCRIPTION:
URL:https://greenwichreview.com/event/2339/2025-10-05/
LOCATION:Peninsular Square\, Peninsula Square\, London\, SE10 0SQ
END:VEVENT
END:VCALENDAR