BEGIN:VCALENDAR
VERSION:2.0
PRODID:-//Greenwich Review - ECPv6.15.20//NONSGML v1.0//EN
CALSCALE:GREGORIAN
METHOD:PUBLISH
X-WR-CALNAME:Greenwich Review
X-ORIGINAL-URL:https://greenwichreview.com
X-WR-CALDESC:Events for Greenwich Review
REFRESH-INTERVAL;VALUE=DURATION:PT1H
X-Robots-Tag:noindex
X-PUBLISHED-TTL:PT1H
BEGIN:VTIMEZONE
TZID:UTC
BEGIN:STANDARD
TZOFFSETFROM:+0000
TZOFFSETTO:+0000
TZNAME:UTC
DTSTART:20240101T000000
END:STANDARD
END:VTIMEZONE
BEGIN:VEVENT
DTSTART;TZID=UTC:20251231T070000
DTEND;TZID=UTC:20260101T020000
DTSTAMP:20260424T094313
CREATED:20251214T230042Z
LAST-MODIFIED:20251214T230042Z
UID:10003725-1767164400-1767232800@greenwichreview.com
SUMMARY:Subtle Hustle
DESCRIPTION:3 piece Rock covers band. \nNew Years Eve live music \n£20 tickets available behind the bar.
URL:https://greenwichreview.com/event/subtle-hustle-4/
LOCATION:The Pelton Arms\, 23-25 Pelton Rd\,\, London\, SE10 9PQ
END:VEVENT
BEGIN:VEVENT
DTSTART;TZID=UTC:20260101T100000
DTEND;TZID=UTC:20260101T210000
DTSTAMP:20260424T094313
CREATED:20251219T103924Z
LAST-MODIFIED:20251219T103924Z
UID:10004142-1767261600-1767301200@greenwichreview.com
SUMMARY:Queens House Ice Rink
DESCRIPTION:Adult: from £19.00\nChildren: From £16.50\nFamily: From £49.95
URL:https://greenwichreview.com/event/queens-house-ice-rink/2026-01-01/
LOCATION:Queens House\, Romney Rd\, London\, SE10 9NF\, United Kingdom
END:VEVENT
BEGIN:VEVENT
DTSTART;TZID=UTC:20260101T120000
DTEND;TZID=UTC:20260101T200000
DTSTAMP:20260424T094313
CREATED:20251214T232553Z
LAST-MODIFIED:20251214T232553Z
UID:10003747-1767268800-1767297600@greenwichreview.com
SUMMARY:Royal Arsenal Pop-Ups
DESCRIPTION:Various pop up stalls in dial up square near the Royal Arsenal Gates. \nNo 1 Street\, SE18 6HD
URL:https://greenwichreview.com/event/royal-arsenal-pop-ups/2026-01-01/
LOCATION:Royal Arsenal Farmers Market\, Artillery Square\, No 1 Street\, Royal Arsenal Riverside\, London\, SE18 6FB
END:VEVENT
BEGIN:VEVENT
DTSTART;TZID=UTC:20260101T193000
DTEND;TZID=UTC:20260101T213000
DTSTAMP:20260424T094313
CREATED:20240427T102207Z
LAST-MODIFIED:20240427T102207Z
UID:10002221-1767295800-1767303000@greenwichreview.com
SUMMARY:Monthly Music Quiz
DESCRIPTION:Monthly music quiz every first Thursday of the month. \nBegins at 7:30 pm for an 8 pm start.
URL:https://greenwichreview.com/event/monthly-music-quiz/2026-01-01/
LOCATION:The Pelton Arms\, 23-25 Pelton Rd\,\, London\, SE10 9PQ
END:VEVENT
END:VCALENDAR