BEGIN:VCALENDAR
VERSION:2.0
PRODID:-//Greenwich Review - ECPv6.15.20//NONSGML v1.0//EN
CALSCALE:GREGORIAN
METHOD:PUBLISH
X-WR-CALNAME:Greenwich Review
X-ORIGINAL-URL:https://greenwichreview.com
X-WR-CALDESC:Events for Greenwich Review
REFRESH-INTERVAL;VALUE=DURATION:PT1H
X-Robots-Tag:noindex
X-PUBLISHED-TTL:PT1H
BEGIN:VTIMEZONE
TZID:UTC
BEGIN:STANDARD
TZOFFSETFROM:+0000
TZOFFSETTO:+0000
TZNAME:UTC
DTSTART:20240101T000000
END:STANDARD
END:VTIMEZONE
BEGIN:VEVENT
DTSTART;TZID=UTC:20251206T210000
DTEND;TZID=UTC:20251206T233000
DTSTAMP:20260424T154444
CREATED:20250415T215052Z
LAST-MODIFIED:20250415T215052Z
UID:10003527-1765054800-1765063800@greenwichreview.com
SUMMARY:The Johns
DESCRIPTION:Band singing mainly covers from the 60s and 70s.
URL:https://greenwichreview.com/event/the-johns-2/
LOCATION:The Lord Herbert\, 47 Herbert Rd\, London\, SE18 3SZ
END:VEVENT
BEGIN:VEVENT
DTSTART;TZID=UTC:20251206T193000
DTEND;TZID=UTC:20251206T230000
DTSTAMP:20260424T154444
CREATED:20250415T213204Z
LAST-MODIFIED:20250415T213204Z
UID:10003521-1765049400-1765062000@greenwichreview.com
SUMMARY:The Jones
DESCRIPTION:The Smith tribute band.
URL:https://greenwichreview.com/event/the-jones-3/
LOCATION:The Pelton Arms\, 23-25 Pelton Rd\,\, London\, SE10 9PQ
END:VEVENT
BEGIN:VEVENT
DTSTART;TZID=UTC:20251206T110000
DTEND;TZID=UTC:20251206T180000
DTSTAMP:20260424T154444
CREATED:20231011T120553Z
LAST-MODIFIED:20231011T120658Z
UID:10000926-1765018800-1765044000@greenwichreview.com
SUMMARY:Peninsular Market
DESCRIPTION:
URL:https://greenwichreview.com/event/2339/2025-12-06/
LOCATION:Peninsular Square\, Peninsula Square\, London\, SE10 0SQ
END:VEVENT
BEGIN:VEVENT
DTSTART;TZID=UTC:20251206T100000
DTEND;TZID=UTC:20251206T210000
DTSTAMP:20260424T154444
CREATED:20251219T103924Z
LAST-MODIFIED:20251219T103924Z
UID:10004117-1765015200-1765054800@greenwichreview.com
SUMMARY:Queens House Ice Rink
DESCRIPTION:Adult: from £19.00\nChildren: From £16.50\nFamily: From £49.95
URL:https://greenwichreview.com/event/queens-house-ice-rink/2025-12-06/
LOCATION:Queens House\, Romney Rd\, London\, SE10 9NF\, United Kingdom
END:VEVENT
BEGIN:VEVENT
DTSTART;TZID=UTC:20251205T210000
DTEND;TZID=UTC:20251205T230000
DTSTAMP:20260424T154444
CREATED:20251122T101009Z
LAST-MODIFIED:20251122T101009Z
UID:10003708-1764968400-1764975600@greenwichreview.com
SUMMARY:The Native Oysters Band
DESCRIPTION:New Orleans themed funk band.
URL:https://greenwichreview.com/event/the-native-oysters-band-2/
LOCATION:The Pelton Arms\, 23-25 Pelton Rd\,\, London\, SE10 9PQ
END:VEVENT
BEGIN:VEVENT
DTSTART;TZID=UTC:20251205T100000
DTEND;TZID=UTC:20251205T210000
DTSTAMP:20260424T154444
CREATED:20251219T103924Z
LAST-MODIFIED:20251219T103924Z
UID:10004116-1764928800-1764968400@greenwichreview.com
SUMMARY:Queens House Ice Rink
DESCRIPTION:Adult: from £19.00\nChildren: From £16.50\nFamily: From £49.95
URL:https://greenwichreview.com/event/queens-house-ice-rink/2025-12-05/
LOCATION:Queens House\, Romney Rd\, London\, SE10 9NF\, United Kingdom
END:VEVENT
BEGIN:VEVENT
DTSTART;TZID=UTC:20251204T193000
DTEND;TZID=UTC:20251204T213000
DTSTAMP:20260424T154444
CREATED:20240427T102207Z
LAST-MODIFIED:20240427T102207Z
UID:10002220-1764876600-1764883800@greenwichreview.com
SUMMARY:Monthly Music Quiz
DESCRIPTION:Monthly music quiz every first Thursday of the month. \nBegins at 7:30 pm for an 8 pm start.
URL:https://greenwichreview.com/event/monthly-music-quiz/2025-12-04/
LOCATION:The Pelton Arms\, 23-25 Pelton Rd\,\, London\, SE10 9PQ
END:VEVENT
BEGIN:VEVENT
DTSTART;TZID=UTC:20251204T100000
DTEND;TZID=UTC:20251204T210000
DTSTAMP:20260424T154444
CREATED:20251219T103924Z
LAST-MODIFIED:20251219T103924Z
UID:10004115-1764842400-1764882000@greenwichreview.com
SUMMARY:Queens House Ice Rink
DESCRIPTION:Adult: from £19.00\nChildren: From £16.50\nFamily: From £49.95
URL:https://greenwichreview.com/event/queens-house-ice-rink/2025-12-04/
LOCATION:Queens House\, Romney Rd\, London\, SE10 9NF\, United Kingdom
END:VEVENT
BEGIN:VEVENT
DTSTART;TZID=UTC:20251203T100000
DTEND;TZID=UTC:20251203T210000
DTSTAMP:20260424T154444
CREATED:20251219T103924Z
LAST-MODIFIED:20251219T103924Z
UID:10004114-1764756000-1764795600@greenwichreview.com
SUMMARY:Queens House Ice Rink
DESCRIPTION:Adult: from £19.00\nChildren: From £16.50\nFamily: From £49.95
URL:https://greenwichreview.com/event/queens-house-ice-rink/2025-12-03/
LOCATION:Queens House\, Romney Rd\, London\, SE10 9NF\, United Kingdom
END:VEVENT
BEGIN:VEVENT
DTSTART;TZID=UTC:20251202T203000
DTEND;TZID=UTC:20251202T203000
DTSTAMP:20260424T154444
CREATED:20251122T094649Z
LAST-MODIFIED:20251122T094852Z
UID:10003647-1764707400-1764707400@greenwichreview.com
SUMMARY:Pelton Pub Quiz
DESCRIPTION:Every Tuesday 830PM – Cash Prizes \n£2 Quiz entry fee.
URL:https://greenwichreview.com/event/pelton-pub-quiz-3/2025-12-02/
LOCATION:The Pelton Arms\, 23-25 Pelton Rd\,\, London\, SE10 9PQ
END:VEVENT
BEGIN:VEVENT
DTSTART;TZID=UTC:20251202T100000
DTEND;TZID=UTC:20251202T210000
DTSTAMP:20260424T154444
CREATED:20251219T103924Z
LAST-MODIFIED:20251219T103924Z
UID:10004113-1764669600-1764709200@greenwichreview.com
SUMMARY:Queens House Ice Rink
DESCRIPTION:Adult: from £19.00\nChildren: From £16.50\nFamily: From £49.95
URL:https://greenwichreview.com/event/queens-house-ice-rink/2025-12-02/
LOCATION:Queens House\, Romney Rd\, London\, SE10 9NF\, United Kingdom
END:VEVENT
BEGIN:VEVENT
DTSTART;TZID=UTC:20251201T100000
DTEND;TZID=UTC:20251201T210000
DTSTAMP:20260424T154444
CREATED:20251219T103924Z
LAST-MODIFIED:20251219T103924Z
UID:10004112-1764583200-1764622800@greenwichreview.com
SUMMARY:Queens House Ice Rink
DESCRIPTION:Adult: from £19.00\nChildren: From £16.50\nFamily: From £49.95
URL:https://greenwichreview.com/event/queens-house-ice-rink/2025-12-01/
LOCATION:Queens House\, Romney Rd\, London\, SE10 9NF\, United Kingdom
END:VEVENT
BEGIN:VEVENT
DTSTART;TZID=UTC:20251130T180000
DTEND;TZID=UTC:20251130T210000
DTSTAMP:20260424T154444
CREATED:20251122T100557Z
LAST-MODIFIED:20251122T100557Z
UID:10003707-1764525600-1764536400@greenwichreview.com
SUMMARY:Dennis Greaves Blues Jam
DESCRIPTION:ll performers are welcome and get the chance to play alongside Dennis and his house band.
URL:https://greenwichreview.com/event/dennis-greaves-blues-jam-9/
LOCATION:The Pelton Arms\, 23-25 Pelton Rd\,\, London\, SE10 9PQ
END:VEVENT
BEGIN:VEVENT
DTSTART;TZID=UTC:20251130T110000
DTEND;TZID=UTC:20251130T180000
DTSTAMP:20260424T154444
CREATED:20231011T120553Z
LAST-MODIFIED:20231011T120658Z
UID:10000925-1764500400-1764525600@greenwichreview.com
SUMMARY:Peninsular Market
DESCRIPTION:
URL:https://greenwichreview.com/event/2339/2025-11-30/
LOCATION:Peninsular Square\, Peninsula Square\, London\, SE10 0SQ
END:VEVENT
BEGIN:VEVENT
DTSTART;TZID=UTC:20251130T100000
DTEND;TZID=UTC:20251130T210000
DTSTAMP:20260424T154444
CREATED:20251219T103924Z
LAST-MODIFIED:20251219T103924Z
UID:10004111-1764496800-1764536400@greenwichreview.com
SUMMARY:Queens House Ice Rink
DESCRIPTION:Adult: from £19.00\nChildren: From £16.50\nFamily: From £49.95
URL:https://greenwichreview.com/event/queens-house-ice-rink/2025-11-30/
LOCATION:Queens House\, Romney Rd\, London\, SE10 9NF\, United Kingdom
END:VEVENT
BEGIN:VEVENT
DTSTART;TZID=UTC:20251129T210000
DTEND;TZID=UTC:20251129T230000
DTSTAMP:20260424T154444
CREATED:20251122T100308Z
LAST-MODIFIED:20251122T100308Z
UID:10003706-1764450000-1764457200@greenwichreview.com
SUMMARY:Thunderstruck
DESCRIPTION:AC-DC Tribute band.
URL:https://greenwichreview.com/event/thunderstruck/
LOCATION:The Pelton Arms\, 23-25 Pelton Rd\,\, London\, SE10 9PQ
END:VEVENT
BEGIN:VEVENT
DTSTART;TZID=UTC:20251129T110000
DTEND;TZID=UTC:20251129T180000
DTSTAMP:20260424T154444
CREATED:20231011T120553Z
LAST-MODIFIED:20231011T120658Z
UID:10000924-1764414000-1764439200@greenwichreview.com
SUMMARY:Peninsular Market
DESCRIPTION:
URL:https://greenwichreview.com/event/2339/2025-11-29/
LOCATION:Peninsular Square\, Peninsula Square\, London\, SE10 0SQ
END:VEVENT
BEGIN:VEVENT
DTSTART;TZID=UTC:20251129T100000
DTEND;TZID=UTC:20251129T210000
DTSTAMP:20260424T154444
CREATED:20251219T103924Z
LAST-MODIFIED:20251219T103924Z
UID:10004110-1764410400-1764450000@greenwichreview.com
SUMMARY:Queens House Ice Rink
DESCRIPTION:Adult: from £19.00\nChildren: From £16.50\nFamily: From £49.95
URL:https://greenwichreview.com/event/queens-house-ice-rink/2025-11-29/
LOCATION:Queens House\, Romney Rd\, London\, SE10 9NF\, United Kingdom
END:VEVENT
BEGIN:VEVENT
DTSTART;TZID=UTC:20251129T100000
DTEND;TZID=UTC:20251129T160000
DTSTAMP:20260424T154444
CREATED:20250527T205607Z
LAST-MODIFIED:20250527T205607Z
UID:10003597-1764410400-1764432000@greenwichreview.com
SUMMARY:Royal Arsenal Farmers Market
DESCRIPTION:The Royal Arsenal Market takes place on the second and last Saturday of each month. That’s two opportunities a month to support local and small businesses. You can also find us each day at Royal Arsenal Pop-Ups for delicious street food and hot drinks.
URL:https://greenwichreview.com/event/royal-arsenal-farmers-market-38/
LOCATION:Royal Arsenal Farmers Market\, Artillery Square\, No 1 Street\, Royal Arsenal Riverside\, London\, SE18 6FB
END:VEVENT
BEGIN:VEVENT
DTSTART;TZID=UTC:20251128T190000
DTEND;TZID=UTC:20251128T230000
DTSTAMP:20260424T154444
CREATED:20251122T095906Z
LAST-MODIFIED:20251122T100117Z
UID:10003705-1764356400-1764370800@greenwichreview.com
SUMMARY:Murphstock
DESCRIPTION:A charity music event featuring live music acts raising money for mental health awareness. \nFeaturing bands: \nOne Way \nLemon and Lime \nTonight Matthew \nMT Pockets
URL:https://greenwichreview.com/event/murphstock-2/
LOCATION:The Pelton Arms\, 23-25 Pelton Rd\,\, London\, SE10 9PQ
END:VEVENT
BEGIN:VEVENT
DTSTART;TZID=UTC:20251128T100000
DTEND;TZID=UTC:20251128T210000
DTSTAMP:20260424T154444
CREATED:20251219T103924Z
LAST-MODIFIED:20251219T103924Z
UID:10004109-1764324000-1764363600@greenwichreview.com
SUMMARY:Queens House Ice Rink
DESCRIPTION:Adult: from £19.00\nChildren: From £16.50\nFamily: From £49.95
URL:https://greenwichreview.com/event/queens-house-ice-rink/2025-11-28/
LOCATION:Queens House\, Romney Rd\, London\, SE10 9NF\, United Kingdom
END:VEVENT
BEGIN:VEVENT
DTSTART;TZID=UTC:20251127T200000
DTEND;TZID=UTC:20251127T220000
DTSTAMP:20260424T154444
CREATED:20251122T095421Z
LAST-MODIFIED:20251122T095625Z
UID:10003704-1764273600-1764280800@greenwichreview.com
SUMMARY:Archie Keane and  Flint Pascoe
DESCRIPTION:From Hillbilly Bluegrass America to foot stomping Rock n’ Roll. \nDoors: 7:00\nArchie Keane: 8 – 8.40\nFlint Pascoe: 9-10
URL:https://greenwichreview.com/event/archie-keane/
LOCATION:The Pelton Arms\, 23-25 Pelton Rd\,\, London\, SE10 9PQ
END:VEVENT
BEGIN:VEVENT
DTSTART;TZID=UTC:20251127T100000
DTEND;TZID=UTC:20251127T210000
DTSTAMP:20260424T154444
CREATED:20251219T103924Z
LAST-MODIFIED:20251219T103924Z
UID:10004108-1764237600-1764277200@greenwichreview.com
SUMMARY:Queens House Ice Rink
DESCRIPTION:Adult: from £19.00\nChildren: From £16.50\nFamily: From £49.95
URL:https://greenwichreview.com/event/queens-house-ice-rink/2025-11-27/
LOCATION:Queens House\, Romney Rd\, London\, SE10 9NF\, United Kingdom
END:VEVENT
BEGIN:VEVENT
DTSTART;TZID=UTC:20251126T100000
DTEND;TZID=UTC:20251126T210000
DTSTAMP:20260424T154444
CREATED:20251219T103924Z
LAST-MODIFIED:20251219T103924Z
UID:10004107-1764151200-1764190800@greenwichreview.com
SUMMARY:Queens House Ice Rink
DESCRIPTION:Adult: from £19.00\nChildren: From £16.50\nFamily: From £49.95
URL:https://greenwichreview.com/event/queens-house-ice-rink/2025-11-26/
LOCATION:Queens House\, Romney Rd\, London\, SE10 9NF\, United Kingdom
END:VEVENT
BEGIN:VEVENT
DTSTART;TZID=UTC:20251125T203000
DTEND;TZID=UTC:20251125T203000
DTSTAMP:20260424T154444
CREATED:20251122T094649Z
LAST-MODIFIED:20251122T094852Z
UID:10003646-1764102600-1764102600@greenwichreview.com
SUMMARY:Pelton Pub Quiz
DESCRIPTION:Every Tuesday 830PM – Cash Prizes \n£2 Quiz entry fee.
URL:https://greenwichreview.com/event/pelton-pub-quiz-3/2025-11-25/
LOCATION:The Pelton Arms\, 23-25 Pelton Rd\,\, London\, SE10 9PQ
END:VEVENT
BEGIN:VEVENT
DTSTART;TZID=UTC:20251125T100000
DTEND;TZID=UTC:20251125T210000
DTSTAMP:20260424T154445
CREATED:20251219T103924Z
LAST-MODIFIED:20251219T103924Z
UID:10004106-1764064800-1764104400@greenwichreview.com
SUMMARY:Queens House Ice Rink
DESCRIPTION:Adult: from £19.00\nChildren: From £16.50\nFamily: From £49.95
URL:https://greenwichreview.com/event/queens-house-ice-rink/2025-11-25/
LOCATION:Queens House\, Romney Rd\, London\, SE10 9NF\, United Kingdom
END:VEVENT
BEGIN:VEVENT
DTSTART;TZID=UTC:20251124T100000
DTEND;TZID=UTC:20251124T210000
DTSTAMP:20260424T154445
CREATED:20251219T103924Z
LAST-MODIFIED:20251219T103924Z
UID:10004105-1763978400-1764018000@greenwichreview.com
SUMMARY:Queens House Ice Rink
DESCRIPTION:Adult: from £19.00\nChildren: From £16.50\nFamily: From £49.95
URL:https://greenwichreview.com/event/queens-house-ice-rink/2025-11-24/
LOCATION:Queens House\, Romney Rd\, London\, SE10 9NF\, United Kingdom
END:VEVENT
BEGIN:VEVENT
DTSTART;TZID=UTC:20251123T193000
DTEND;TZID=UTC:20251123T220000
DTSTAMP:20260424T154445
CREATED:20251110T204056Z
LAST-MODIFIED:20251110T204240Z
UID:10003643-1763926200-1763935200@greenwichreview.com
SUMMARY:SE7 at Cattleya Thai Restaurant
DESCRIPTION:SE7 Play at the Cattleya  Thai  Restaurant. \nChris Harrison and the Charlton Central Tenants Association amateur band SE7 play a variety of genres. \nGuest artists to be announced  on the night.
URL:https://greenwichreview.com/event/se7-at-cattleya-thai-restaurant-3/
LOCATION:Cattleya Thai Restaurant\, 52 Charlton Church Lane\, London\, SE7 7AB
END:VEVENT
BEGIN:VEVENT
DTSTART;TZID=UTC:20251123T170000
DTEND;TZID=UTC:20251123T193000
DTSTAMP:20260424T154445
CREATED:20251122T094248Z
LAST-MODIFIED:20251122T094248Z
UID:10003645-1763917200-1763926200@greenwichreview.com
SUMMARY:The Konks
DESCRIPTION:A tribute band to Ray Davies and the Kinks.
URL:https://greenwichreview.com/event/the-konks-2/
LOCATION:The Pelton Arms\, 23-25 Pelton Rd\,\, London\, SE10 9PQ
END:VEVENT
BEGIN:VEVENT
DTSTART;TZID=UTC:20251123T110000
DTEND;TZID=UTC:20251123T180000
DTSTAMP:20260424T154445
CREATED:20231011T120553Z
LAST-MODIFIED:20231011T120658Z
UID:10000923-1763895600-1763920800@greenwichreview.com
SUMMARY:Peninsular Market
DESCRIPTION:
URL:https://greenwichreview.com/event/2339/2025-11-23/
LOCATION:Peninsular Square\, Peninsula Square\, London\, SE10 0SQ
END:VEVENT
END:VCALENDAR