BEGIN:VCALENDAR
VERSION:2.0
PRODID:-//Greenwich Review - ECPv6.15.20//NONSGML v1.0//EN
CALSCALE:GREGORIAN
METHOD:PUBLISH
X-WR-CALNAME:Greenwich Review
X-ORIGINAL-URL:https://greenwichreview.com
X-WR-CALDESC:Events for Greenwich Review
REFRESH-INTERVAL;VALUE=DURATION:PT1H
X-Robots-Tag:noindex
X-PUBLISHED-TTL:PT1H
BEGIN:VTIMEZONE
TZID:UTC
BEGIN:STANDARD
TZOFFSETFROM:+0000
TZOFFSETTO:+0000
TZNAME:UTC
DTSTART:20250101T000000
END:STANDARD
END:VTIMEZONE
BEGIN:VEVENT
DTSTART;TZID=UTC:20260409T120000
DTEND;TZID=UTC:20260409T200000
DTSTAMP:20260424T001210
CREATED:20251214T232553Z
LAST-MODIFIED:20251214T232553Z
UID:10003845-1775736000-1775764800@greenwichreview.com
SUMMARY:Royal Arsenal Pop-Ups
DESCRIPTION:Various pop up stalls in dial up square near the Royal Arsenal Gates. \nNo 1 Street\, SE18 6HD
URL:https://greenwichreview.com/event/royal-arsenal-pop-ups/2026-04-09/
LOCATION:Royal Arsenal Farmers Market\, Artillery Square\, No 1 Street\, Royal Arsenal Riverside\, London\, SE18 6FB
END:VEVENT
BEGIN:VEVENT
DTSTART;TZID=UTC:20260408T120000
DTEND;TZID=UTC:20260408T200000
DTSTAMP:20260424T001210
CREATED:20251214T232553Z
LAST-MODIFIED:20251214T232553Z
UID:10003844-1775649600-1775678400@greenwichreview.com
SUMMARY:Royal Arsenal Pop-Ups
DESCRIPTION:Various pop up stalls in dial up square near the Royal Arsenal Gates. \nNo 1 Street\, SE18 6HD
URL:https://greenwichreview.com/event/royal-arsenal-pop-ups/2026-04-08/
LOCATION:Royal Arsenal Farmers Market\, Artillery Square\, No 1 Street\, Royal Arsenal Riverside\, London\, SE18 6FB
END:VEVENT
BEGIN:VEVENT
DTSTART;TZID=UTC:20260407T203000
DTEND;TZID=UTC:20260407T203000
DTSTAMP:20260424T001210
CREATED:20251122T094649Z
LAST-MODIFIED:20251122T094852Z
UID:10003665-1775593800-1775593800@greenwichreview.com
SUMMARY:Pelton Pub Quiz
DESCRIPTION:Every Tuesday 830PM – Cash Prizes \n£2 Quiz entry fee.
URL:https://greenwichreview.com/event/pelton-pub-quiz-3/2026-04-07/
LOCATION:The Pelton Arms\, 23-25 Pelton Rd\,\, London\, SE10 9PQ
END:VEVENT
BEGIN:VEVENT
DTSTART;TZID=UTC:20260407T120000
DTEND;TZID=UTC:20260407T200000
DTSTAMP:20260424T001210
CREATED:20251214T232553Z
LAST-MODIFIED:20251214T232553Z
UID:10003843-1775563200-1775592000@greenwichreview.com
SUMMARY:Royal Arsenal Pop-Ups
DESCRIPTION:Various pop up stalls in dial up square near the Royal Arsenal Gates. \nNo 1 Street\, SE18 6HD
URL:https://greenwichreview.com/event/royal-arsenal-pop-ups/2026-04-07/
LOCATION:Royal Arsenal Farmers Market\, Artillery Square\, No 1 Street\, Royal Arsenal Riverside\, London\, SE18 6FB
END:VEVENT
BEGIN:VEVENT
DTSTART;TZID=UTC:20260406T120000
DTEND;TZID=UTC:20260406T200000
DTSTAMP:20260424T001210
CREATED:20251214T232553Z
LAST-MODIFIED:20251214T232553Z
UID:10003842-1775476800-1775505600@greenwichreview.com
SUMMARY:Royal Arsenal Pop-Ups
DESCRIPTION:Various pop up stalls in dial up square near the Royal Arsenal Gates. \nNo 1 Street\, SE18 6HD
URL:https://greenwichreview.com/event/royal-arsenal-pop-ups/2026-04-06/
LOCATION:Royal Arsenal Farmers Market\, Artillery Square\, No 1 Street\, Royal Arsenal Riverside\, London\, SE18 6FB
END:VEVENT
BEGIN:VEVENT
DTSTART;TZID=UTC:20260405T120000
DTEND;TZID=UTC:20260405T200000
DTSTAMP:20260424T001210
CREATED:20251214T232553Z
LAST-MODIFIED:20251214T232553Z
UID:10003841-1775390400-1775419200@greenwichreview.com
SUMMARY:Royal Arsenal Pop-Ups
DESCRIPTION:Various pop up stalls in dial up square near the Royal Arsenal Gates. \nNo 1 Street\, SE18 6HD
URL:https://greenwichreview.com/event/royal-arsenal-pop-ups/2026-04-05/
LOCATION:Royal Arsenal Farmers Market\, Artillery Square\, No 1 Street\, Royal Arsenal Riverside\, London\, SE18 6FB
END:VEVENT
BEGIN:VEVENT
DTSTART;TZID=UTC:20260405T110000
DTEND;TZID=UTC:20260405T180000
DTSTAMP:20260424T001210
CREATED:20231011T120553Z
LAST-MODIFIED:20231011T120658Z
UID:10000961-1775386800-1775412000@greenwichreview.com
SUMMARY:Peninsular Market
DESCRIPTION:
URL:https://greenwichreview.com/event/2339/2026-04-05/
LOCATION:Peninsular Square\, Peninsula Square\, London\, SE10 0SQ
END:VEVENT
BEGIN:VEVENT
DTSTART;TZID=UTC:20260404T120000
DTEND;TZID=UTC:20260404T200000
DTSTAMP:20260424T001210
CREATED:20251214T232553Z
LAST-MODIFIED:20251214T232553Z
UID:10003840-1775304000-1775332800@greenwichreview.com
SUMMARY:Royal Arsenal Pop-Ups
DESCRIPTION:Various pop up stalls in dial up square near the Royal Arsenal Gates. \nNo 1 Street\, SE18 6HD
URL:https://greenwichreview.com/event/royal-arsenal-pop-ups/2026-04-04/
LOCATION:Royal Arsenal Farmers Market\, Artillery Square\, No 1 Street\, Royal Arsenal Riverside\, London\, SE18 6FB
END:VEVENT
BEGIN:VEVENT
DTSTART;TZID=UTC:20260404T110000
DTEND;TZID=UTC:20260404T180000
DTSTAMP:20260424T001210
CREATED:20231011T120553Z
LAST-MODIFIED:20231011T120658Z
UID:10000960-1775300400-1775325600@greenwichreview.com
SUMMARY:Peninsular Market
DESCRIPTION:
URL:https://greenwichreview.com/event/2339/2026-04-04/
LOCATION:Peninsular Square\, Peninsula Square\, London\, SE10 0SQ
END:VEVENT
BEGIN:VEVENT
DTSTART;TZID=UTC:20260403T120000
DTEND;TZID=UTC:20260403T200000
DTSTAMP:20260424T001210
CREATED:20251214T232553Z
LAST-MODIFIED:20251214T232553Z
UID:10003839-1775217600-1775246400@greenwichreview.com
SUMMARY:Royal Arsenal Pop-Ups
DESCRIPTION:Various pop up stalls in dial up square near the Royal Arsenal Gates. \nNo 1 Street\, SE18 6HD
URL:https://greenwichreview.com/event/royal-arsenal-pop-ups/2026-04-03/
LOCATION:Royal Arsenal Farmers Market\, Artillery Square\, No 1 Street\, Royal Arsenal Riverside\, London\, SE18 6FB
END:VEVENT
BEGIN:VEVENT
DTSTART;TZID=UTC:20260402T193000
DTEND;TZID=UTC:20260402T213000
DTSTAMP:20260424T001210
CREATED:20240427T102207Z
LAST-MODIFIED:20240427T102207Z
UID:10002224-1775158200-1775165400@greenwichreview.com
SUMMARY:Monthly Music Quiz
DESCRIPTION:Monthly music quiz every first Thursday of the month. \nBegins at 7:30 pm for an 8 pm start.
URL:https://greenwichreview.com/event/monthly-music-quiz/2026-04-02/
LOCATION:The Pelton Arms\, 23-25 Pelton Rd\,\, London\, SE10 9PQ
END:VEVENT
BEGIN:VEVENT
DTSTART;TZID=UTC:20260402T120000
DTEND;TZID=UTC:20260402T200000
DTSTAMP:20260424T001210
CREATED:20251214T232553Z
LAST-MODIFIED:20251214T232553Z
UID:10003838-1775131200-1775160000@greenwichreview.com
SUMMARY:Royal Arsenal Pop-Ups
DESCRIPTION:Various pop up stalls in dial up square near the Royal Arsenal Gates. \nNo 1 Street\, SE18 6HD
URL:https://greenwichreview.com/event/royal-arsenal-pop-ups/2026-04-02/
LOCATION:Royal Arsenal Farmers Market\, Artillery Square\, No 1 Street\, Royal Arsenal Riverside\, London\, SE18 6FB
END:VEVENT
BEGIN:VEVENT
DTSTART;TZID=UTC:20260401T120000
DTEND;TZID=UTC:20260401T200000
DTSTAMP:20260424T001210
CREATED:20251214T232553Z
LAST-MODIFIED:20251214T232553Z
UID:10003837-1775044800-1775073600@greenwichreview.com
SUMMARY:Royal Arsenal Pop-Ups
DESCRIPTION:Various pop up stalls in dial up square near the Royal Arsenal Gates. \nNo 1 Street\, SE18 6HD
URL:https://greenwichreview.com/event/royal-arsenal-pop-ups/2026-04-01/
LOCATION:Royal Arsenal Farmers Market\, Artillery Square\, No 1 Street\, Royal Arsenal Riverside\, London\, SE18 6FB
END:VEVENT
BEGIN:VEVENT
DTSTART;TZID=UTC:20260331T203000
DTEND;TZID=UTC:20260331T203000
DTSTAMP:20260424T001210
CREATED:20251122T094649Z
LAST-MODIFIED:20251122T094852Z
UID:10003664-1774989000-1774989000@greenwichreview.com
SUMMARY:Pelton Pub Quiz
DESCRIPTION:Every Tuesday 830PM – Cash Prizes \n£2 Quiz entry fee.
URL:https://greenwichreview.com/event/pelton-pub-quiz-3/2026-03-31/
LOCATION:The Pelton Arms\, 23-25 Pelton Rd\,\, London\, SE10 9PQ
END:VEVENT
BEGIN:VEVENT
DTSTART;TZID=UTC:20260331T120000
DTEND;TZID=UTC:20260331T200000
DTSTAMP:20260424T001210
CREATED:20251214T232553Z
LAST-MODIFIED:20251214T232553Z
UID:10003836-1774958400-1774987200@greenwichreview.com
SUMMARY:Royal Arsenal Pop-Ups
DESCRIPTION:Various pop up stalls in dial up square near the Royal Arsenal Gates. \nNo 1 Street\, SE18 6HD
URL:https://greenwichreview.com/event/royal-arsenal-pop-ups/2026-03-31/
LOCATION:Royal Arsenal Farmers Market\, Artillery Square\, No 1 Street\, Royal Arsenal Riverside\, London\, SE18 6FB
END:VEVENT
BEGIN:VEVENT
DTSTART;TZID=UTC:20260330T120000
DTEND;TZID=UTC:20260330T200000
DTSTAMP:20260424T001210
CREATED:20251214T232553Z
LAST-MODIFIED:20251214T232553Z
UID:10003835-1774872000-1774900800@greenwichreview.com
SUMMARY:Royal Arsenal Pop-Ups
DESCRIPTION:Various pop up stalls in dial up square near the Royal Arsenal Gates. \nNo 1 Street\, SE18 6HD
URL:https://greenwichreview.com/event/royal-arsenal-pop-ups/2026-03-30/
LOCATION:Royal Arsenal Farmers Market\, Artillery Square\, No 1 Street\, Royal Arsenal Riverside\, London\, SE18 6FB
END:VEVENT
BEGIN:VEVENT
DTSTART;TZID=UTC:20260329T120000
DTEND;TZID=UTC:20260329T200000
DTSTAMP:20260424T001210
CREATED:20251214T232553Z
LAST-MODIFIED:20251214T232553Z
UID:10003834-1774785600-1774814400@greenwichreview.com
SUMMARY:Royal Arsenal Pop-Ups
DESCRIPTION:Various pop up stalls in dial up square near the Royal Arsenal Gates. \nNo 1 Street\, SE18 6HD
URL:https://greenwichreview.com/event/royal-arsenal-pop-ups/2026-03-29/
LOCATION:Royal Arsenal Farmers Market\, Artillery Square\, No 1 Street\, Royal Arsenal Riverside\, London\, SE18 6FB
END:VEVENT
BEGIN:VEVENT
DTSTART;TZID=UTC:20260329T110000
DTEND;TZID=UTC:20260329T180000
DTSTAMP:20260424T001210
CREATED:20231011T120553Z
LAST-MODIFIED:20231011T120658Z
UID:10000959-1774782000-1774807200@greenwichreview.com
SUMMARY:Peninsular Market
DESCRIPTION:
URL:https://greenwichreview.com/event/2339/2026-03-29/
LOCATION:Peninsular Square\, Peninsula Square\, London\, SE10 0SQ
END:VEVENT
BEGIN:VEVENT
DTSTART;TZID=UTC:20260328T120000
DTEND;TZID=UTC:20260328T200000
DTSTAMP:20260424T001210
CREATED:20251214T232553Z
LAST-MODIFIED:20251214T232553Z
UID:10003833-1774699200-1774728000@greenwichreview.com
SUMMARY:Royal Arsenal Pop-Ups
DESCRIPTION:Various pop up stalls in dial up square near the Royal Arsenal Gates. \nNo 1 Street\, SE18 6HD
URL:https://greenwichreview.com/event/royal-arsenal-pop-ups/2026-03-28/
LOCATION:Royal Arsenal Farmers Market\, Artillery Square\, No 1 Street\, Royal Arsenal Riverside\, London\, SE18 6FB
END:VEVENT
BEGIN:VEVENT
DTSTART;TZID=UTC:20260328T110000
DTEND;TZID=UTC:20260328T180000
DTSTAMP:20260424T001210
CREATED:20231011T120553Z
LAST-MODIFIED:20231011T120658Z
UID:10000958-1774695600-1774720800@greenwichreview.com
SUMMARY:Peninsular Market
DESCRIPTION:
URL:https://greenwichreview.com/event/2339/2026-03-28/
LOCATION:Peninsular Square\, Peninsula Square\, London\, SE10 0SQ
END:VEVENT
BEGIN:VEVENT
DTSTART;TZID=UTC:20260328T100000
DTEND;TZID=UTC:20260328T160000
DTSTAMP:20260424T001210
CREATED:20250527T211705Z
LAST-MODIFIED:20250527T211705Z
UID:10003605-1774692000-1774713600@greenwichreview.com
SUMMARY:Royal Arsenal Farmers Market
DESCRIPTION:The Royal Arsenal Market takes place on the second and last Saturday of each month. That’s two opportunities a month to support local and small businesses. You can also find us each day at Royal Arsenal Pop-Ups for delicious street food and hot drinks.
URL:https://greenwichreview.com/event/royal-arsenal-farmers-market-46/
LOCATION:Royal Arsenal Farmers Market\, Artillery Square\, No 1 Street\, Royal Arsenal Riverside\, London\, SE18 6FB
END:VEVENT
BEGIN:VEVENT
DTSTART;TZID=UTC:20260327T120000
DTEND;TZID=UTC:20260327T200000
DTSTAMP:20260424T001210
CREATED:20251214T232553Z
LAST-MODIFIED:20251214T232553Z
UID:10003832-1774612800-1774641600@greenwichreview.com
SUMMARY:Royal Arsenal Pop-Ups
DESCRIPTION:Various pop up stalls in dial up square near the Royal Arsenal Gates. \nNo 1 Street\, SE18 6HD
URL:https://greenwichreview.com/event/royal-arsenal-pop-ups/2026-03-27/
LOCATION:Royal Arsenal Farmers Market\, Artillery Square\, No 1 Street\, Royal Arsenal Riverside\, London\, SE18 6FB
END:VEVENT
BEGIN:VEVENT
DTSTART;TZID=UTC:20260326T120000
DTEND;TZID=UTC:20260326T200000
DTSTAMP:20260424T001210
CREATED:20251214T232553Z
LAST-MODIFIED:20251214T232553Z
UID:10003831-1774526400-1774555200@greenwichreview.com
SUMMARY:Royal Arsenal Pop-Ups
DESCRIPTION:Various pop up stalls in dial up square near the Royal Arsenal Gates. \nNo 1 Street\, SE18 6HD
URL:https://greenwichreview.com/event/royal-arsenal-pop-ups/2026-03-26/
LOCATION:Royal Arsenal Farmers Market\, Artillery Square\, No 1 Street\, Royal Arsenal Riverside\, London\, SE18 6FB
END:VEVENT
BEGIN:VEVENT
DTSTART;TZID=UTC:20260325T120000
DTEND;TZID=UTC:20260325T200000
DTSTAMP:20260424T001210
CREATED:20251214T232553Z
LAST-MODIFIED:20251214T232553Z
UID:10003830-1774440000-1774468800@greenwichreview.com
SUMMARY:Royal Arsenal Pop-Ups
DESCRIPTION:Various pop up stalls in dial up square near the Royal Arsenal Gates. \nNo 1 Street\, SE18 6HD
URL:https://greenwichreview.com/event/royal-arsenal-pop-ups/2026-03-25/
LOCATION:Royal Arsenal Farmers Market\, Artillery Square\, No 1 Street\, Royal Arsenal Riverside\, London\, SE18 6FB
END:VEVENT
BEGIN:VEVENT
DTSTART;TZID=UTC:20260324T203000
DTEND;TZID=UTC:20260324T203000
DTSTAMP:20260424T001210
CREATED:20251122T094649Z
LAST-MODIFIED:20251122T094852Z
UID:10003663-1774384200-1774384200@greenwichreview.com
SUMMARY:Pelton Pub Quiz
DESCRIPTION:Every Tuesday 830PM – Cash Prizes \n£2 Quiz entry fee.
URL:https://greenwichreview.com/event/pelton-pub-quiz-3/2026-03-24/
LOCATION:The Pelton Arms\, 23-25 Pelton Rd\,\, London\, SE10 9PQ
END:VEVENT
BEGIN:VEVENT
DTSTART;TZID=UTC:20260324T120000
DTEND;TZID=UTC:20260324T200000
DTSTAMP:20260424T001210
CREATED:20251214T232553Z
LAST-MODIFIED:20251214T232553Z
UID:10003829-1774353600-1774382400@greenwichreview.com
SUMMARY:Royal Arsenal Pop-Ups
DESCRIPTION:Various pop up stalls in dial up square near the Royal Arsenal Gates. \nNo 1 Street\, SE18 6HD
URL:https://greenwichreview.com/event/royal-arsenal-pop-ups/2026-03-24/
LOCATION:Royal Arsenal Farmers Market\, Artillery Square\, No 1 Street\, Royal Arsenal Riverside\, London\, SE18 6FB
END:VEVENT
BEGIN:VEVENT
DTSTART;TZID=UTC:20260323T120000
DTEND;TZID=UTC:20260323T200000
DTSTAMP:20260424T001210
CREATED:20251214T232553Z
LAST-MODIFIED:20251214T232553Z
UID:10003828-1774267200-1774296000@greenwichreview.com
SUMMARY:Royal Arsenal Pop-Ups
DESCRIPTION:Various pop up stalls in dial up square near the Royal Arsenal Gates. \nNo 1 Street\, SE18 6HD
URL:https://greenwichreview.com/event/royal-arsenal-pop-ups/2026-03-23/
LOCATION:Royal Arsenal Farmers Market\, Artillery Square\, No 1 Street\, Royal Arsenal Riverside\, London\, SE18 6FB
END:VEVENT
BEGIN:VEVENT
DTSTART;TZID=UTC:20260322T120000
DTEND;TZID=UTC:20260322T200000
DTSTAMP:20260424T001210
CREATED:20251214T232553Z
LAST-MODIFIED:20251214T232553Z
UID:10003827-1774180800-1774209600@greenwichreview.com
SUMMARY:Royal Arsenal Pop-Ups
DESCRIPTION:Various pop up stalls in dial up square near the Royal Arsenal Gates. \nNo 1 Street\, SE18 6HD
URL:https://greenwichreview.com/event/royal-arsenal-pop-ups/2026-03-22/
LOCATION:Royal Arsenal Farmers Market\, Artillery Square\, No 1 Street\, Royal Arsenal Riverside\, London\, SE18 6FB
END:VEVENT
BEGIN:VEVENT
DTSTART;TZID=UTC:20260322T110000
DTEND;TZID=UTC:20260322T180000
DTSTAMP:20260424T001210
CREATED:20231011T120553Z
LAST-MODIFIED:20231011T120658Z
UID:10000957-1774177200-1774202400@greenwichreview.com
SUMMARY:Peninsular Market
DESCRIPTION:
URL:https://greenwichreview.com/event/2339/2026-03-22/
LOCATION:Peninsular Square\, Peninsula Square\, London\, SE10 0SQ
END:VEVENT
BEGIN:VEVENT
DTSTART;TZID=UTC:20260321T120000
DTEND;TZID=UTC:20260321T200000
DTSTAMP:20260424T001210
CREATED:20251214T232553Z
LAST-MODIFIED:20251214T232553Z
UID:10003826-1774094400-1774123200@greenwichreview.com
SUMMARY:Royal Arsenal Pop-Ups
DESCRIPTION:Various pop up stalls in dial up square near the Royal Arsenal Gates. \nNo 1 Street\, SE18 6HD
URL:https://greenwichreview.com/event/royal-arsenal-pop-ups/2026-03-21/
LOCATION:Royal Arsenal Farmers Market\, Artillery Square\, No 1 Street\, Royal Arsenal Riverside\, London\, SE18 6FB
END:VEVENT
END:VCALENDAR