BEGIN:VCALENDAR
VERSION:2.0
PRODID:-//Greenwich Review - ECPv6.15.20//NONSGML v1.0//EN
CALSCALE:GREGORIAN
METHOD:PUBLISH
X-WR-CALNAME:Greenwich Review
X-ORIGINAL-URL:https://greenwichreview.com
X-WR-CALDESC:Events for Greenwich Review
REFRESH-INTERVAL;VALUE=DURATION:PT1H
X-Robots-Tag:noindex
X-PUBLISHED-TTL:PT1H
BEGIN:VTIMEZONE
TZID:UTC
BEGIN:STANDARD
TZOFFSETFROM:+0000
TZOFFSETTO:+0000
TZNAME:UTC
DTSTART:20250101T000000
END:STANDARD
END:VTIMEZONE
BEGIN:VEVENT
DTSTART;TZID=UTC:20260427T120000
DTEND;TZID=UTC:20260427T200000
DTSTAMP:20260424T004032
CREATED:20251214T232553Z
LAST-MODIFIED:20251214T232553Z
UID:10003863-1777291200-1777320000@greenwichreview.com
SUMMARY:Royal Arsenal Pop-Ups
DESCRIPTION:Various pop up stalls in dial up square near the Royal Arsenal Gates. \nNo 1 Street\, SE18 6HD
URL:https://greenwichreview.com/event/royal-arsenal-pop-ups/2026-04-27/
LOCATION:Royal Arsenal Farmers Market\, Artillery Square\, No 1 Street\, Royal Arsenal Riverside\, London\, SE18 6FB
END:VEVENT
BEGIN:VEVENT
DTSTART;TZID=UTC:20260428T120000
DTEND;TZID=UTC:20260428T200000
DTSTAMP:20260424T004032
CREATED:20251214T232553Z
LAST-MODIFIED:20251214T232553Z
UID:10003864-1777377600-1777406400@greenwichreview.com
SUMMARY:Royal Arsenal Pop-Ups
DESCRIPTION:Various pop up stalls in dial up square near the Royal Arsenal Gates. \nNo 1 Street\, SE18 6HD
URL:https://greenwichreview.com/event/royal-arsenal-pop-ups/2026-04-28/
LOCATION:Royal Arsenal Farmers Market\, Artillery Square\, No 1 Street\, Royal Arsenal Riverside\, London\, SE18 6FB
END:VEVENT
BEGIN:VEVENT
DTSTART;TZID=UTC:20260428T203000
DTEND;TZID=UTC:20260428T203000
DTSTAMP:20260424T004032
CREATED:20251122T094649Z
LAST-MODIFIED:20251122T094852Z
UID:10003668-1777408200-1777408200@greenwichreview.com
SUMMARY:Pelton Pub Quiz
DESCRIPTION:Every Tuesday 830PM – Cash Prizes \n£2 Quiz entry fee.
URL:https://greenwichreview.com/event/pelton-pub-quiz-3/2026-04-28/
LOCATION:The Pelton Arms\, 23-25 Pelton Rd\,\, London\, SE10 9PQ
END:VEVENT
BEGIN:VEVENT
DTSTART;TZID=UTC:20260429T120000
DTEND;TZID=UTC:20260429T200000
DTSTAMP:20260424T004032
CREATED:20251214T232553Z
LAST-MODIFIED:20251214T232553Z
UID:10003865-1777464000-1777492800@greenwichreview.com
SUMMARY:Royal Arsenal Pop-Ups
DESCRIPTION:Various pop up stalls in dial up square near the Royal Arsenal Gates. \nNo 1 Street\, SE18 6HD
URL:https://greenwichreview.com/event/royal-arsenal-pop-ups/2026-04-29/
LOCATION:Royal Arsenal Farmers Market\, Artillery Square\, No 1 Street\, Royal Arsenal Riverside\, London\, SE18 6FB
END:VEVENT
BEGIN:VEVENT
DTSTART;TZID=UTC:20260430T120000
DTEND;TZID=UTC:20260430T200000
DTSTAMP:20260424T004032
CREATED:20251214T232553Z
LAST-MODIFIED:20251214T232553Z
UID:10003866-1777550400-1777579200@greenwichreview.com
SUMMARY:Royal Arsenal Pop-Ups
DESCRIPTION:Various pop up stalls in dial up square near the Royal Arsenal Gates. \nNo 1 Street\, SE18 6HD
URL:https://greenwichreview.com/event/royal-arsenal-pop-ups/2026-04-30/
LOCATION:Royal Arsenal Farmers Market\, Artillery Square\, No 1 Street\, Royal Arsenal Riverside\, London\, SE18 6FB
END:VEVENT
BEGIN:VEVENT
DTSTART;TZID=UTC:20260501T120000
DTEND;TZID=UTC:20260501T200000
DTSTAMP:20260424T004032
CREATED:20251214T232553Z
LAST-MODIFIED:20251214T232553Z
UID:10003867-1777636800-1777665600@greenwichreview.com
SUMMARY:Royal Arsenal Pop-Ups
DESCRIPTION:Various pop up stalls in dial up square near the Royal Arsenal Gates. \nNo 1 Street\, SE18 6HD
URL:https://greenwichreview.com/event/royal-arsenal-pop-ups/2026-05-01/
LOCATION:Royal Arsenal Farmers Market\, Artillery Square\, No 1 Street\, Royal Arsenal Riverside\, London\, SE18 6FB
END:VEVENT
BEGIN:VEVENT
DTSTART;TZID=UTC:20260502T110000
DTEND;TZID=UTC:20260502T180000
DTSTAMP:20260424T004032
CREATED:20231011T120553Z
LAST-MODIFIED:20231011T120658Z
UID:10000968-1777719600-1777744800@greenwichreview.com
SUMMARY:Peninsular Market
DESCRIPTION:
URL:https://greenwichreview.com/event/2339/2026-05-02/
LOCATION:Peninsular Square\, Peninsula Square\, London\, SE10 0SQ
END:VEVENT
BEGIN:VEVENT
DTSTART;TZID=UTC:20260502T120000
DTEND;TZID=UTC:20260502T200000
DTSTAMP:20260424T004032
CREATED:20251214T232553Z
LAST-MODIFIED:20251214T232553Z
UID:10003868-1777723200-1777752000@greenwichreview.com
SUMMARY:Royal Arsenal Pop-Ups
DESCRIPTION:Various pop up stalls in dial up square near the Royal Arsenal Gates. \nNo 1 Street\, SE18 6HD
URL:https://greenwichreview.com/event/royal-arsenal-pop-ups/2026-05-02/
LOCATION:Royal Arsenal Farmers Market\, Artillery Square\, No 1 Street\, Royal Arsenal Riverside\, London\, SE18 6FB
END:VEVENT
BEGIN:VEVENT
DTSTART;TZID=UTC:20260503T110000
DTEND;TZID=UTC:20260503T180000
DTSTAMP:20260424T004032
CREATED:20231011T120553Z
LAST-MODIFIED:20231011T120658Z
UID:10000969-1777806000-1777831200@greenwichreview.com
SUMMARY:Peninsular Market
DESCRIPTION:
URL:https://greenwichreview.com/event/2339/2026-05-03/
LOCATION:Peninsular Square\, Peninsula Square\, London\, SE10 0SQ
END:VEVENT
BEGIN:VEVENT
DTSTART;TZID=UTC:20260503T120000
DTEND;TZID=UTC:20260503T200000
DTSTAMP:20260424T004032
CREATED:20251214T232553Z
LAST-MODIFIED:20251214T232553Z
UID:10003869-1777809600-1777838400@greenwichreview.com
SUMMARY:Royal Arsenal Pop-Ups
DESCRIPTION:Various pop up stalls in dial up square near the Royal Arsenal Gates. \nNo 1 Street\, SE18 6HD
URL:https://greenwichreview.com/event/royal-arsenal-pop-ups/2026-05-03/
LOCATION:Royal Arsenal Farmers Market\, Artillery Square\, No 1 Street\, Royal Arsenal Riverside\, London\, SE18 6FB
END:VEVENT
BEGIN:VEVENT
DTSTART;TZID=UTC:20260504T120000
DTEND;TZID=UTC:20260504T200000
DTSTAMP:20260424T004032
CREATED:20251214T232553Z
LAST-MODIFIED:20251214T232553Z
UID:10003870-1777896000-1777924800@greenwichreview.com
SUMMARY:Royal Arsenal Pop-Ups
DESCRIPTION:Various pop up stalls in dial up square near the Royal Arsenal Gates. \nNo 1 Street\, SE18 6HD
URL:https://greenwichreview.com/event/royal-arsenal-pop-ups/2026-05-04/
LOCATION:Royal Arsenal Farmers Market\, Artillery Square\, No 1 Street\, Royal Arsenal Riverside\, London\, SE18 6FB
END:VEVENT
BEGIN:VEVENT
DTSTART;TZID=UTC:20260505T120000
DTEND;TZID=UTC:20260505T200000
DTSTAMP:20260424T004032
CREATED:20251214T232553Z
LAST-MODIFIED:20251214T232553Z
UID:10003871-1777982400-1778011200@greenwichreview.com
SUMMARY:Royal Arsenal Pop-Ups
DESCRIPTION:Various pop up stalls in dial up square near the Royal Arsenal Gates. \nNo 1 Street\, SE18 6HD
URL:https://greenwichreview.com/event/royal-arsenal-pop-ups/2026-05-05/
LOCATION:Royal Arsenal Farmers Market\, Artillery Square\, No 1 Street\, Royal Arsenal Riverside\, London\, SE18 6FB
END:VEVENT
BEGIN:VEVENT
DTSTART;TZID=UTC:20260505T203000
DTEND;TZID=UTC:20260505T203000
DTSTAMP:20260424T004032
CREATED:20251122T094649Z
LAST-MODIFIED:20251122T094852Z
UID:10003669-1778013000-1778013000@greenwichreview.com
SUMMARY:Pelton Pub Quiz
DESCRIPTION:Every Tuesday 830PM – Cash Prizes \n£2 Quiz entry fee.
URL:https://greenwichreview.com/event/pelton-pub-quiz-3/2026-05-05/
LOCATION:The Pelton Arms\, 23-25 Pelton Rd\,\, London\, SE10 9PQ
END:VEVENT
BEGIN:VEVENT
DTSTART;TZID=UTC:20260506T120000
DTEND;TZID=UTC:20260506T200000
DTSTAMP:20260424T004032
CREATED:20251214T232553Z
LAST-MODIFIED:20251214T232553Z
UID:10003872-1778068800-1778097600@greenwichreview.com
SUMMARY:Royal Arsenal Pop-Ups
DESCRIPTION:Various pop up stalls in dial up square near the Royal Arsenal Gates. \nNo 1 Street\, SE18 6HD
URL:https://greenwichreview.com/event/royal-arsenal-pop-ups/2026-05-06/
LOCATION:Royal Arsenal Farmers Market\, Artillery Square\, No 1 Street\, Royal Arsenal Riverside\, London\, SE18 6FB
END:VEVENT
BEGIN:VEVENT
DTSTART;TZID=UTC:20260507T120000
DTEND;TZID=UTC:20260507T200000
DTSTAMP:20260424T004032
CREATED:20251214T232553Z
LAST-MODIFIED:20251214T232553Z
UID:10003873-1778155200-1778184000@greenwichreview.com
SUMMARY:Royal Arsenal Pop-Ups
DESCRIPTION:Various pop up stalls in dial up square near the Royal Arsenal Gates. \nNo 1 Street\, SE18 6HD
URL:https://greenwichreview.com/event/royal-arsenal-pop-ups/2026-05-07/
LOCATION:Royal Arsenal Farmers Market\, Artillery Square\, No 1 Street\, Royal Arsenal Riverside\, London\, SE18 6FB
END:VEVENT
BEGIN:VEVENT
DTSTART;TZID=UTC:20260507T193000
DTEND;TZID=UTC:20260507T213000
DTSTAMP:20260424T004032
CREATED:20240427T102207Z
LAST-MODIFIED:20240427T102207Z
UID:10002225-1778182200-1778189400@greenwichreview.com
SUMMARY:Monthly Music Quiz
DESCRIPTION:Monthly music quiz every first Thursday of the month. \nBegins at 7:30 pm for an 8 pm start.
URL:https://greenwichreview.com/event/monthly-music-quiz/2026-05-07/
LOCATION:The Pelton Arms\, 23-25 Pelton Rd\,\, London\, SE10 9PQ
END:VEVENT
BEGIN:VEVENT
DTSTART;TZID=UTC:20260508T120000
DTEND;TZID=UTC:20260508T200000
DTSTAMP:20260424T004032
CREATED:20251214T232553Z
LAST-MODIFIED:20251214T232553Z
UID:10003874-1778241600-1778270400@greenwichreview.com
SUMMARY:Royal Arsenal Pop-Ups
DESCRIPTION:Various pop up stalls in dial up square near the Royal Arsenal Gates. \nNo 1 Street\, SE18 6HD
URL:https://greenwichreview.com/event/royal-arsenal-pop-ups/2026-05-08/
LOCATION:Royal Arsenal Farmers Market\, Artillery Square\, No 1 Street\, Royal Arsenal Riverside\, London\, SE18 6FB
END:VEVENT
BEGIN:VEVENT
DTSTART;TZID=UTC:20260509T100000
DTEND;TZID=UTC:20260509T160000
DTSTAMP:20260424T004032
CREATED:20250527T211921Z
LAST-MODIFIED:20250527T211921Z
UID:10003608-1778320800-1778342400@greenwichreview.com
SUMMARY:Royal Arsenal Farmers Market
DESCRIPTION:The Royal Arsenal Market takes place on the second and last Saturday of each month. That’s two opportunities a month to support local and small businesses. You can also find us each day at Royal Arsenal Pop-Ups for delicious street food and hot drinks.
URL:https://greenwichreview.com/event/royal-arsenal-farmers-market-49/
LOCATION:Royal Arsenal Farmers Market\, Artillery Square\, No 1 Street\, Royal Arsenal Riverside\, London\, SE18 6FB
END:VEVENT
BEGIN:VEVENT
DTSTART;TZID=UTC:20260509T110000
DTEND;TZID=UTC:20260509T180000
DTSTAMP:20260424T004032
CREATED:20231011T120553Z
LAST-MODIFIED:20231011T120658Z
UID:10000970-1778324400-1778349600@greenwichreview.com
SUMMARY:Peninsular Market
DESCRIPTION:
URL:https://greenwichreview.com/event/2339/2026-05-09/
LOCATION:Peninsular Square\, Peninsula Square\, London\, SE10 0SQ
END:VEVENT
BEGIN:VEVENT
DTSTART;TZID=UTC:20260509T120000
DTEND;TZID=UTC:20260509T200000
DTSTAMP:20260424T004032
CREATED:20251214T232553Z
LAST-MODIFIED:20251214T232553Z
UID:10003875-1778328000-1778356800@greenwichreview.com
SUMMARY:Royal Arsenal Pop-Ups
DESCRIPTION:Various pop up stalls in dial up square near the Royal Arsenal Gates. \nNo 1 Street\, SE18 6HD
URL:https://greenwichreview.com/event/royal-arsenal-pop-ups/2026-05-09/
LOCATION:Royal Arsenal Farmers Market\, Artillery Square\, No 1 Street\, Royal Arsenal Riverside\, London\, SE18 6FB
END:VEVENT
BEGIN:VEVENT
DTSTART;TZID=UTC:20260510T110000
DTEND;TZID=UTC:20260510T180000
DTSTAMP:20260424T004032
CREATED:20231011T120553Z
LAST-MODIFIED:20231011T120658Z
UID:10000971-1778410800-1778436000@greenwichreview.com
SUMMARY:Peninsular Market
DESCRIPTION:
URL:https://greenwichreview.com/event/2339/2026-05-10/
LOCATION:Peninsular Square\, Peninsula Square\, London\, SE10 0SQ
END:VEVENT
BEGIN:VEVENT
DTSTART;TZID=UTC:20260510T120000
DTEND;TZID=UTC:20260510T200000
DTSTAMP:20260424T004032
CREATED:20251214T232553Z
LAST-MODIFIED:20251214T232553Z
UID:10003876-1778414400-1778443200@greenwichreview.com
SUMMARY:Royal Arsenal Pop-Ups
DESCRIPTION:Various pop up stalls in dial up square near the Royal Arsenal Gates. \nNo 1 Street\, SE18 6HD
URL:https://greenwichreview.com/event/royal-arsenal-pop-ups/2026-05-10/
LOCATION:Royal Arsenal Farmers Market\, Artillery Square\, No 1 Street\, Royal Arsenal Riverside\, London\, SE18 6FB
END:VEVENT
BEGIN:VEVENT
DTSTART;TZID=UTC:20260511T120000
DTEND;TZID=UTC:20260511T200000
DTSTAMP:20260424T004032
CREATED:20251214T232553Z
LAST-MODIFIED:20251214T232553Z
UID:10003877-1778500800-1778529600@greenwichreview.com
SUMMARY:Royal Arsenal Pop-Ups
DESCRIPTION:Various pop up stalls in dial up square near the Royal Arsenal Gates. \nNo 1 Street\, SE18 6HD
URL:https://greenwichreview.com/event/royal-arsenal-pop-ups/2026-05-11/
LOCATION:Royal Arsenal Farmers Market\, Artillery Square\, No 1 Street\, Royal Arsenal Riverside\, London\, SE18 6FB
END:VEVENT
BEGIN:VEVENT
DTSTART;TZID=UTC:20260512T120000
DTEND;TZID=UTC:20260512T200000
DTSTAMP:20260424T004032
CREATED:20251214T232553Z
LAST-MODIFIED:20251214T232553Z
UID:10003878-1778587200-1778616000@greenwichreview.com
SUMMARY:Royal Arsenal Pop-Ups
DESCRIPTION:Various pop up stalls in dial up square near the Royal Arsenal Gates. \nNo 1 Street\, SE18 6HD
URL:https://greenwichreview.com/event/royal-arsenal-pop-ups/2026-05-12/
LOCATION:Royal Arsenal Farmers Market\, Artillery Square\, No 1 Street\, Royal Arsenal Riverside\, London\, SE18 6FB
END:VEVENT
BEGIN:VEVENT
DTSTART;TZID=UTC:20260512T203000
DTEND;TZID=UTC:20260512T203000
DTSTAMP:20260424T004032
CREATED:20251122T094649Z
LAST-MODIFIED:20251122T094852Z
UID:10003670-1778617800-1778617800@greenwichreview.com
SUMMARY:Pelton Pub Quiz
DESCRIPTION:Every Tuesday 830PM – Cash Prizes \n£2 Quiz entry fee.
URL:https://greenwichreview.com/event/pelton-pub-quiz-3/2026-05-12/
LOCATION:The Pelton Arms\, 23-25 Pelton Rd\,\, London\, SE10 9PQ
END:VEVENT
BEGIN:VEVENT
DTSTART;TZID=UTC:20260513T120000
DTEND;TZID=UTC:20260513T200000
DTSTAMP:20260424T004032
CREATED:20251214T232553Z
LAST-MODIFIED:20251214T232553Z
UID:10003879-1778673600-1778702400@greenwichreview.com
SUMMARY:Royal Arsenal Pop-Ups
DESCRIPTION:Various pop up stalls in dial up square near the Royal Arsenal Gates. \nNo 1 Street\, SE18 6HD
URL:https://greenwichreview.com/event/royal-arsenal-pop-ups/2026-05-13/
LOCATION:Royal Arsenal Farmers Market\, Artillery Square\, No 1 Street\, Royal Arsenal Riverside\, London\, SE18 6FB
END:VEVENT
BEGIN:VEVENT
DTSTART;TZID=UTC:20260514T120000
DTEND;TZID=UTC:20260514T200000
DTSTAMP:20260424T004032
CREATED:20251214T232553Z
LAST-MODIFIED:20251214T232553Z
UID:10003880-1778760000-1778788800@greenwichreview.com
SUMMARY:Royal Arsenal Pop-Ups
DESCRIPTION:Various pop up stalls in dial up square near the Royal Arsenal Gates. \nNo 1 Street\, SE18 6HD
URL:https://greenwichreview.com/event/royal-arsenal-pop-ups/2026-05-14/
LOCATION:Royal Arsenal Farmers Market\, Artillery Square\, No 1 Street\, Royal Arsenal Riverside\, London\, SE18 6FB
END:VEVENT
BEGIN:VEVENT
DTSTART;TZID=UTC:20260515T120000
DTEND;TZID=UTC:20260515T200000
DTSTAMP:20260424T004032
CREATED:20251214T232553Z
LAST-MODIFIED:20251214T232553Z
UID:10003881-1778846400-1778875200@greenwichreview.com
SUMMARY:Royal Arsenal Pop-Ups
DESCRIPTION:Various pop up stalls in dial up square near the Royal Arsenal Gates. \nNo 1 Street\, SE18 6HD
URL:https://greenwichreview.com/event/royal-arsenal-pop-ups/2026-05-15/
LOCATION:Royal Arsenal Farmers Market\, Artillery Square\, No 1 Street\, Royal Arsenal Riverside\, London\, SE18 6FB
END:VEVENT
BEGIN:VEVENT
DTSTART;TZID=UTC:20260516T110000
DTEND;TZID=UTC:20260516T180000
DTSTAMP:20260424T004032
CREATED:20231011T120553Z
LAST-MODIFIED:20231011T120658Z
UID:10000972-1778929200-1778954400@greenwichreview.com
SUMMARY:Peninsular Market
DESCRIPTION:
URL:https://greenwichreview.com/event/2339/2026-05-16/
LOCATION:Peninsular Square\, Peninsula Square\, London\, SE10 0SQ
END:VEVENT
BEGIN:VEVENT
DTSTART;TZID=UTC:20260516T120000
DTEND;TZID=UTC:20260516T200000
DTSTAMP:20260424T004032
CREATED:20251214T232553Z
LAST-MODIFIED:20251214T232553Z
UID:10003882-1778932800-1778961600@greenwichreview.com
SUMMARY:Royal Arsenal Pop-Ups
DESCRIPTION:Various pop up stalls in dial up square near the Royal Arsenal Gates. \nNo 1 Street\, SE18 6HD
URL:https://greenwichreview.com/event/royal-arsenal-pop-ups/2026-05-16/
LOCATION:Royal Arsenal Farmers Market\, Artillery Square\, No 1 Street\, Royal Arsenal Riverside\, London\, SE18 6FB
END:VEVENT
END:VCALENDAR