BEGIN:VCALENDAR
VERSION:2.0
PRODID:-//Greenwich Review - ECPv6.15.20//NONSGML v1.0//EN
CALSCALE:GREGORIAN
METHOD:PUBLISH
X-ORIGINAL-URL:https://greenwichreview.com
X-WR-CALDESC:Events for Greenwich Review
REFRESH-INTERVAL;VALUE=DURATION:PT1H
X-Robots-Tag:noindex
X-PUBLISHED-TTL:PT1H
BEGIN:VTIMEZONE
TZID:UTC
BEGIN:STANDARD
TZOFFSETFROM:+0000
TZOFFSETTO:+0000
TZNAME:UTC
DTSTART:20240101T000000
END:STANDARD
END:VTIMEZONE
BEGIN:VEVENT
DTSTART;TZID=UTC:20251207T100000
DTEND;TZID=UTC:20251207T210000
DTSTAMP:20260424T095053
CREATED:20251219T103924Z
LAST-MODIFIED:20251219T103924Z
UID:10004118-1765101600-1765141200@greenwichreview.com
SUMMARY:Queens House Ice Rink
DESCRIPTION:Adult: from £19.00\nChildren: From £16.50\nFamily: From £49.95
URL:https://greenwichreview.com/event/queens-house-ice-rink/2025-12-07/
LOCATION:Queens House\, Romney Rd\, London\, SE10 9NF\, United Kingdom
END:VEVENT
BEGIN:VEVENT
DTSTART;TZID=UTC:20251207T110000
DTEND;TZID=UTC:20251207T180000
DTSTAMP:20260424T095053
CREATED:20231011T120553Z
LAST-MODIFIED:20231011T120658Z
UID:10000927-1765105200-1765130400@greenwichreview.com
SUMMARY:Peninsular Market
DESCRIPTION:
URL:https://greenwichreview.com/event/2339/2025-12-07/
LOCATION:Peninsular Square\, Peninsula Square\, London\, SE10 0SQ
END:VEVENT
BEGIN:VEVENT
DTSTART;TZID=UTC:20251208T100000
DTEND;TZID=UTC:20251208T210000
DTSTAMP:20260424T095053
CREATED:20251219T103924Z
LAST-MODIFIED:20251219T103924Z
UID:10004119-1765188000-1765227600@greenwichreview.com
SUMMARY:Queens House Ice Rink
DESCRIPTION:Adult: from £19.00\nChildren: From £16.50\nFamily: From £49.95
URL:https://greenwichreview.com/event/queens-house-ice-rink/2025-12-08/
LOCATION:Queens House\, Romney Rd\, London\, SE10 9NF\, United Kingdom
END:VEVENT
BEGIN:VEVENT
DTSTART;TZID=UTC:20251209T100000
DTEND;TZID=UTC:20251209T210000
DTSTAMP:20260424T095053
CREATED:20251219T103924Z
LAST-MODIFIED:20251219T103924Z
UID:10004120-1765274400-1765314000@greenwichreview.com
SUMMARY:Queens House Ice Rink
DESCRIPTION:Adult: from £19.00\nChildren: From £16.50\nFamily: From £49.95
URL:https://greenwichreview.com/event/queens-house-ice-rink/2025-12-09/
LOCATION:Queens House\, Romney Rd\, London\, SE10 9NF\, United Kingdom
END:VEVENT
BEGIN:VEVENT
DTSTART;TZID=UTC:20251209T203000
DTEND;TZID=UTC:20251209T203000
DTSTAMP:20260424T095053
CREATED:20251122T094649Z
LAST-MODIFIED:20251122T094852Z
UID:10003648-1765312200-1765312200@greenwichreview.com
SUMMARY:Pelton Pub Quiz
DESCRIPTION:Every Tuesday 830PM – Cash Prizes \n£2 Quiz entry fee.
URL:https://greenwichreview.com/event/pelton-pub-quiz-3/2025-12-09/
LOCATION:The Pelton Arms\, 23-25 Pelton Rd\,\, London\, SE10 9PQ
END:VEVENT
BEGIN:VEVENT
DTSTART;TZID=UTC:20251210T100000
DTEND;TZID=UTC:20251210T210000
DTSTAMP:20260424T095053
CREATED:20251219T103924Z
LAST-MODIFIED:20251219T103924Z
UID:10004121-1765360800-1765400400@greenwichreview.com
SUMMARY:Queens House Ice Rink
DESCRIPTION:Adult: from £19.00\nChildren: From £16.50\nFamily: From £49.95
URL:https://greenwichreview.com/event/queens-house-ice-rink/2025-12-10/
LOCATION:Queens House\, Romney Rd\, London\, SE10 9NF\, United Kingdom
END:VEVENT
BEGIN:VEVENT
DTSTART;TZID=UTC:20251211T100000
DTEND;TZID=UTC:20251211T210000
DTSTAMP:20260424T095053
CREATED:20251219T103924Z
LAST-MODIFIED:20251219T103924Z
UID:10004122-1765447200-1765486800@greenwichreview.com
SUMMARY:Queens House Ice Rink
DESCRIPTION:Adult: from £19.00\nChildren: From £16.50\nFamily: From £49.95
URL:https://greenwichreview.com/event/queens-house-ice-rink/2025-12-11/
LOCATION:Queens House\, Romney Rd\, London\, SE10 9NF\, United Kingdom
END:VEVENT
BEGIN:VEVENT
DTSTART;TZID=UTC:20251212T100000
DTEND;TZID=UTC:20251212T210000
DTSTAMP:20260424T095053
CREATED:20251219T103924Z
LAST-MODIFIED:20251219T103924Z
UID:10004123-1765533600-1765573200@greenwichreview.com
SUMMARY:Queens House Ice Rink
DESCRIPTION:Adult: from £19.00\nChildren: From £16.50\nFamily: From £49.95
URL:https://greenwichreview.com/event/queens-house-ice-rink/2025-12-12/
LOCATION:Queens House\, Romney Rd\, London\, SE10 9NF\, United Kingdom
END:VEVENT
BEGIN:VEVENT
DTSTART;TZID=UTC:20251213T100000
DTEND;TZID=UTC:20251213T160000
DTSTAMP:20260424T095053
CREATED:20250527T210329Z
LAST-MODIFIED:20250527T210329Z
UID:10003598-1765620000-1765641600@greenwichreview.com
SUMMARY:Royal Arsenal Farmers Market
DESCRIPTION:The Royal Arsenal Market takes place on the second and last Saturday of each month. That’s two opportunities a month to support local and small businesses. You can also find us each day at Royal Arsenal Pop-Ups for delicious street food and hot drinks.
URL:https://greenwichreview.com/event/royal-arsenal-farmers-market-39/
LOCATION:Royal Arsenal Farmers Market\, Artillery Square\, No 1 Street\, Royal Arsenal Riverside\, London\, SE18 6FB
END:VEVENT
BEGIN:VEVENT
DTSTART;TZID=UTC:20251213T100000
DTEND;TZID=UTC:20251213T210000
DTSTAMP:20260424T095053
CREATED:20251219T103924Z
LAST-MODIFIED:20251219T103924Z
UID:10004124-1765620000-1765659600@greenwichreview.com
SUMMARY:Queens House Ice Rink
DESCRIPTION:Adult: from £19.00\nChildren: From £16.50\nFamily: From £49.95
URL:https://greenwichreview.com/event/queens-house-ice-rink/2025-12-13/
LOCATION:Queens House\, Romney Rd\, London\, SE10 9NF\, United Kingdom
END:VEVENT
BEGIN:VEVENT
DTSTART;TZID=UTC:20251213T110000
DTEND;TZID=UTC:20251213T180000
DTSTAMP:20260424T095053
CREATED:20231011T120553Z
LAST-MODIFIED:20231011T120658Z
UID:10000928-1765623600-1765648800@greenwichreview.com
SUMMARY:Peninsular Market
DESCRIPTION:
URL:https://greenwichreview.com/event/2339/2025-12-13/
LOCATION:Peninsular Square\, Peninsula Square\, London\, SE10 0SQ
END:VEVENT
BEGIN:VEVENT
DTSTART;TZID=UTC:20251213T210000
DTEND;TZID=UTC:20251213T230000
DTSTAMP:20260424T095053
CREATED:20251213T085807Z
LAST-MODIFIED:20251213T085807Z
UID:10003711-1765659600-1765666800@greenwichreview.com
SUMMARY:The Madchester Experience
DESCRIPTION:Experience the crazy 90s Manchester music scene.
URL:https://greenwichreview.com/event/the-madchester-experience/
LOCATION:The Pelton Arms\, 23-25 Pelton Rd\,\, London\, SE10 9PQ
END:VEVENT
BEGIN:VEVENT
DTSTART;TZID=UTC:20251214T100000
DTEND;TZID=UTC:20251214T210000
DTSTAMP:20260424T095053
CREATED:20251219T103924Z
LAST-MODIFIED:20251219T103924Z
UID:10004125-1765706400-1765746000@greenwichreview.com
SUMMARY:Queens House Ice Rink
DESCRIPTION:Adult: from £19.00\nChildren: From £16.50\nFamily: From £49.95
URL:https://greenwichreview.com/event/queens-house-ice-rink/2025-12-14/
LOCATION:Queens House\, Romney Rd\, London\, SE10 9NF\, United Kingdom
END:VEVENT
BEGIN:VEVENT
DTSTART;TZID=UTC:20251214T110000
DTEND;TZID=UTC:20251214T180000
DTSTAMP:20260424T095053
CREATED:20231011T120553Z
LAST-MODIFIED:20231011T120658Z
UID:10000929-1765710000-1765735200@greenwichreview.com
SUMMARY:Peninsular Market
DESCRIPTION:
URL:https://greenwichreview.com/event/2339/2025-12-14/
LOCATION:Peninsular Square\, Peninsula Square\, London\, SE10 0SQ
END:VEVENT
BEGIN:VEVENT
DTSTART;TZID=UTC:20251214T170000
DTEND;TZID=UTC:20251214T190000
DTSTAMP:20260424T095053
CREATED:20251213T090106Z
LAST-MODIFIED:20251213T090106Z
UID:10003712-1765731600-1765738800@greenwichreview.com
SUMMARY:The Shambolicks
DESCRIPTION:Good old\, down ‘n dirty rock ‘n roll\, feat. members of Not The Rolling Stones and The Konks.
URL:https://greenwichreview.com/event/the-shambolicks-3/
LOCATION:The Pelton Arms\, 23-25 Pelton Rd\,\, London\, SE10 9PQ
END:VEVENT
BEGIN:VEVENT
DTSTART;TZID=UTC:20251215T100000
DTEND;TZID=UTC:20251215T210000
DTSTAMP:20260424T095053
CREATED:20251219T103924Z
LAST-MODIFIED:20251219T103924Z
UID:10004126-1765792800-1765832400@greenwichreview.com
SUMMARY:Queens House Ice Rink
DESCRIPTION:Adult: from £19.00\nChildren: From £16.50\nFamily: From £49.95
URL:https://greenwichreview.com/event/queens-house-ice-rink/2025-12-15/
LOCATION:Queens House\, Romney Rd\, London\, SE10 9NF\, United Kingdom
END:VEVENT
BEGIN:VEVENT
DTSTART;TZID=UTC:20251215T120000
DTEND;TZID=UTC:20251215T200000
DTSTAMP:20260424T095053
CREATED:20251214T232735Z
LAST-MODIFIED:20251214T232736Z
UID:10003730-1765800000-1765828800@greenwichreview.com
SUMMARY:Royal Arsenal Pop-Ups
DESCRIPTION:Various pop up stalls in dial up square near the Royal Arsenal Gates. \nNo 1 Street\, SE18 6HD \nToday: Macs Corn Dogs\, Woodfire Kitchen.
URL:https://greenwichreview.com/event/royal-arsenal-pop-ups-2/
LOCATION:Royal Arsenal Farmers Market\, Artillery Square\, No 1 Street\, Royal Arsenal Riverside\, London\, SE18 6FB
END:VEVENT
BEGIN:VEVENT
DTSTART;TZID=UTC:20251216T100000
DTEND;TZID=UTC:20251216T210000
DTSTAMP:20260424T095053
CREATED:20251219T103924Z
LAST-MODIFIED:20251219T103924Z
UID:10004127-1765879200-1765918800@greenwichreview.com
SUMMARY:Queens House Ice Rink
DESCRIPTION:Adult: from £19.00\nChildren: From £16.50\nFamily: From £49.95
URL:https://greenwichreview.com/event/queens-house-ice-rink/2025-12-16/
LOCATION:Queens House\, Romney Rd\, London\, SE10 9NF\, United Kingdom
END:VEVENT
BEGIN:VEVENT
DTSTART;TZID=UTC:20251216T120000
DTEND;TZID=UTC:20251216T200000
DTSTAMP:20260424T095053
CREATED:20251214T232921Z
LAST-MODIFIED:20251214T232922Z
UID:10003731-1765886400-1765915200@greenwichreview.com
SUMMARY:Royal Arsenal Pop-Ups
DESCRIPTION:Various pop up stalls in dial up square near the Royal Arsenal Gates. \nNo 1 Street\, SE18 6HD \nToday: Steak and Chips. \n 
URL:https://greenwichreview.com/event/royal-arsenal-pop-ups-3/
LOCATION:Royal Arsenal Farmers Market\, Artillery Square\, No 1 Street\, Royal Arsenal Riverside\, London\, SE18 6FB
END:VEVENT
BEGIN:VEVENT
DTSTART;TZID=UTC:20251216T190000
DTEND;TZID=UTC:20251216T203000
DTSTAMP:20260424T095053
CREATED:20251213T090459Z
LAST-MODIFIED:20251213T090459Z
UID:10003713-1765911600-1765917000@greenwichreview.com
SUMMARY:Carol Singing
DESCRIPTION:Carol singing with Jazzy Jeff and friends. \nIn aid of the Cystic Fibrosis Trust. \nPrize for the best Christmas jumper and free mince pies.
URL:https://greenwichreview.com/event/carol-singing/
LOCATION:The Pelton Arms\, 23-25 Pelton Rd\,\, London\, SE10 9PQ
END:VEVENT
BEGIN:VEVENT
DTSTART;TZID=UTC:20251216T203000
DTEND;TZID=UTC:20251216T203000
DTSTAMP:20260424T095053
CREATED:20251122T094649Z
LAST-MODIFIED:20251122T094852Z
UID:10003649-1765917000-1765917000@greenwichreview.com
SUMMARY:Pelton Pub Quiz
DESCRIPTION:Every Tuesday 830PM – Cash Prizes \n£2 Quiz entry fee.
URL:https://greenwichreview.com/event/pelton-pub-quiz-3/2025-12-16/
LOCATION:The Pelton Arms\, 23-25 Pelton Rd\,\, London\, SE10 9PQ
END:VEVENT
BEGIN:VEVENT
DTSTART;TZID=UTC:20251217T100000
DTEND;TZID=UTC:20251217T210000
DTSTAMP:20260424T095053
CREATED:20251219T103924Z
LAST-MODIFIED:20251219T103924Z
UID:10004128-1765965600-1766005200@greenwichreview.com
SUMMARY:Queens House Ice Rink
DESCRIPTION:Adult: from £19.00\nChildren: From £16.50\nFamily: From £49.95
URL:https://greenwichreview.com/event/queens-house-ice-rink/2025-12-17/
LOCATION:Queens House\, Romney Rd\, London\, SE10 9NF\, United Kingdom
END:VEVENT
BEGIN:VEVENT
DTSTART;TZID=UTC:20251217T120000
DTEND;TZID=UTC:20251217T200000
DTSTAMP:20260424T095053
CREATED:20251214T233111Z
LAST-MODIFIED:20251214T233112Z
UID:10003732-1765972800-1766001600@greenwichreview.com
SUMMARY:Royal Arsenal Pop-Ups
DESCRIPTION:Various pop up stalls in dial up square near the Royal Arsenal Gates. \nNo 1 Street\, SE18 6HD \nToday: Flavours of Jamrock\, Paradise Gozleme.
URL:https://greenwichreview.com/event/royal-arsenal-pop-ups-4/
LOCATION:Royal Arsenal Farmers Market\, Artillery Square\, No 1 Street\, Royal Arsenal Riverside\, London\, SE18 6FB
END:VEVENT
BEGIN:VEVENT
DTSTART;TZID=UTC:20251218T100000
DTEND;TZID=UTC:20251218T210000
DTSTAMP:20260424T095053
CREATED:20251219T103924Z
LAST-MODIFIED:20251219T103924Z
UID:10004129-1766052000-1766091600@greenwichreview.com
SUMMARY:Queens House Ice Rink
DESCRIPTION:Adult: from £19.00\nChildren: From £16.50\nFamily: From £49.95
URL:https://greenwichreview.com/event/queens-house-ice-rink/2025-12-18/
LOCATION:Queens House\, Romney Rd\, London\, SE10 9NF\, United Kingdom
END:VEVENT
BEGIN:VEVENT
DTSTART;TZID=UTC:20251218T120000
DTEND;TZID=UTC:20251218T200000
DTSTAMP:20260424T095053
CREATED:20251214T233243Z
LAST-MODIFIED:20251214T233245Z
UID:10003733-1766059200-1766088000@greenwichreview.com
SUMMARY:Royal Arsenal Pop-Ups
DESCRIPTION:Various pop up stalls in dial up square near the Royal Arsenal Gates. \nNo 1 Street\, SE18 6HD \nToday: One Pan Noodle\, other trader tbc.
URL:https://greenwichreview.com/event/royal-arsenal-pop-ups-5/
LOCATION:Royal Arsenal Farmers Market\, Artillery Square\, No 1 Street\, Royal Arsenal Riverside\, London\, SE18 6FB
END:VEVENT
BEGIN:VEVENT
DTSTART;TZID=UTC:20251219T100000
DTEND;TZID=UTC:20251219T210000
DTSTAMP:20260424T095053
CREATED:20251219T103924Z
LAST-MODIFIED:20251219T103924Z
UID:10004130-1766138400-1766178000@greenwichreview.com
SUMMARY:Queens House Ice Rink
DESCRIPTION:Adult: from £19.00\nChildren: From £16.50\nFamily: From £49.95
URL:https://greenwichreview.com/event/queens-house-ice-rink/2025-12-19/
LOCATION:Queens House\, Romney Rd\, London\, SE10 9NF\, United Kingdom
END:VEVENT
BEGIN:VEVENT
DTSTART;TZID=UTC:20251219T160000
DTEND;TZID=UTC:20251219T200000
DTSTAMP:20260424T095053
CREATED:20251214T233443Z
LAST-MODIFIED:20251214T233444Z
UID:10003734-1766160000-1766174400@greenwichreview.com
SUMMARY:Royal Arsenal Pop-Ups
DESCRIPTION:Various pop up stalls in dial up square near the Royal Arsenal Gates. \nNo 1 Street\, SE18 6HD \nToday: Billingsgate Wrap\, Himalayan Tiffin.
URL:https://greenwichreview.com/event/royal-arsenal-pop-ups-6/
LOCATION:Royal Arsenal Farmers Market\, Artillery Square\, No 1 Street\, Royal Arsenal Riverside\, London\, SE18 6FB
END:VEVENT
BEGIN:VEVENT
DTSTART;TZID=UTC:20251219T210000
DTEND;TZID=UTC:20251219T230000
DTSTAMP:20260424T095053
CREATED:20251213T090746Z
LAST-MODIFIED:20251213T090746Z
UID:10003714-1766178000-1766185200@greenwichreview.com
SUMMARY:Frank the Cat
DESCRIPTION:60s\, 70s and 80s soul and disco and funk covers.
URL:https://greenwichreview.com/event/frank-the-cat-3/
LOCATION:The Pelton Arms\, 23-25 Pelton Rd\,\, London\, SE10 9PQ
END:VEVENT
BEGIN:VEVENT
DTSTART;TZID=UTC:20251220T100000
DTEND;TZID=UTC:20251220T160000
DTSTAMP:20260424T095053
CREATED:20251214T232001Z
LAST-MODIFIED:20251214T232001Z
UID:10003729-1766224800-1766246400@greenwichreview.com
SUMMARY:Royal Arsenal Market
DESCRIPTION:Christmas at the Royal Arsenal Market.
URL:https://greenwichreview.com/event/royal-arsenal-market/
LOCATION:Royal Arsenal Farmers Market\, Artillery Square\, No 1 Street\, Royal Arsenal Riverside\, London\, SE18 6FB
END:VEVENT
BEGIN:VEVENT
DTSTART;TZID=UTC:20251220T100000
DTEND;TZID=UTC:20251220T160000
DTSTAMP:20260424T095053
CREATED:20251214T233700Z
LAST-MODIFIED:20251214T233702Z
UID:10003735-1766224800-1766246400@greenwichreview.com
SUMMARY:Royal Arsenal Pop-Ups
DESCRIPTION:Various pop up stalls in dial up square near the Royal Arsenal Gates. \nNo 1 Street\, SE18 6HD \nToday: It’s market day in Artillery Square.
URL:https://greenwichreview.com/event/royal-arsenal-pop-ups-7/
LOCATION:Royal Arsenal Farmers Market\, Artillery Square\, No 1 Street\, Royal Arsenal Riverside\, London\, SE18 6FB
END:VEVENT
END:VCALENDAR