BEGIN:VCALENDAR
VERSION:2.0
PRODID:-//Greenwich Review - ECPv6.15.20//NONSGML v1.0//EN
CALSCALE:GREGORIAN
METHOD:PUBLISH
X-ORIGINAL-URL:https://greenwichreview.com
X-WR-CALDESC:Events for Greenwich Review
REFRESH-INTERVAL;VALUE=DURATION:PT1H
X-Robots-Tag:noindex
X-PUBLISHED-TTL:PT1H
BEGIN:VTIMEZONE
TZID:UTC
BEGIN:STANDARD
TZOFFSETFROM:+0000
TZOFFSETTO:+0000
TZNAME:UTC
DTSTART:20250101T000000
END:STANDARD
END:VTIMEZONE
BEGIN:VEVENT
DTSTART;TZID=UTC:20260824T120000
DTEND;TZID=UTC:20260824T200000
DTSTAMP:20260424T151412
CREATED:20251214T232553Z
LAST-MODIFIED:20251214T232553Z
UID:10003982-1787572800-1787601600@greenwichreview.com
SUMMARY:Royal Arsenal Pop-Ups
DESCRIPTION:Various pop up stalls in dial up square near the Royal Arsenal Gates. \nNo 1 Street\, SE18 6HD
URL:https://greenwichreview.com/event/royal-arsenal-pop-ups/2026-08-24/
LOCATION:Royal Arsenal Farmers Market\, Artillery Square\, No 1 Street\, Royal Arsenal Riverside\, London\, SE18 6FB
END:VEVENT
BEGIN:VEVENT
DTSTART;TZID=UTC:20260825T120000
DTEND;TZID=UTC:20260825T200000
DTSTAMP:20260424T151412
CREATED:20251214T232553Z
LAST-MODIFIED:20251214T232553Z
UID:10003983-1787659200-1787688000@greenwichreview.com
SUMMARY:Royal Arsenal Pop-Ups
DESCRIPTION:Various pop up stalls in dial up square near the Royal Arsenal Gates. \nNo 1 Street\, SE18 6HD
URL:https://greenwichreview.com/event/royal-arsenal-pop-ups/2026-08-25/
LOCATION:Royal Arsenal Farmers Market\, Artillery Square\, No 1 Street\, Royal Arsenal Riverside\, London\, SE18 6FB
END:VEVENT
BEGIN:VEVENT
DTSTART;TZID=UTC:20260825T203000
DTEND;TZID=UTC:20260825T203000
DTSTAMP:20260424T151412
CREATED:20251122T094649Z
LAST-MODIFIED:20251122T094852Z
UID:10003685-1787689800-1787689800@greenwichreview.com
SUMMARY:Pelton Pub Quiz
DESCRIPTION:Every Tuesday 830PM – Cash Prizes \n£2 Quiz entry fee.
URL:https://greenwichreview.com/event/pelton-pub-quiz-3/2026-08-25/
LOCATION:The Pelton Arms\, 23-25 Pelton Rd\,\, London\, SE10 9PQ
END:VEVENT
BEGIN:VEVENT
DTSTART;TZID=UTC:20260826T120000
DTEND;TZID=UTC:20260826T200000
DTSTAMP:20260424T151412
CREATED:20251214T232553Z
LAST-MODIFIED:20251214T232553Z
UID:10003984-1787745600-1787774400@greenwichreview.com
SUMMARY:Royal Arsenal Pop-Ups
DESCRIPTION:Various pop up stalls in dial up square near the Royal Arsenal Gates. \nNo 1 Street\, SE18 6HD
URL:https://greenwichreview.com/event/royal-arsenal-pop-ups/2026-08-26/
LOCATION:Royal Arsenal Farmers Market\, Artillery Square\, No 1 Street\, Royal Arsenal Riverside\, London\, SE18 6FB
END:VEVENT
BEGIN:VEVENT
DTSTART;TZID=UTC:20260827T120000
DTEND;TZID=UTC:20260827T200000
DTSTAMP:20260424T151412
CREATED:20251214T232553Z
LAST-MODIFIED:20251214T232553Z
UID:10003985-1787832000-1787860800@greenwichreview.com
SUMMARY:Royal Arsenal Pop-Ups
DESCRIPTION:Various pop up stalls in dial up square near the Royal Arsenal Gates. \nNo 1 Street\, SE18 6HD
URL:https://greenwichreview.com/event/royal-arsenal-pop-ups/2026-08-27/
LOCATION:Royal Arsenal Farmers Market\, Artillery Square\, No 1 Street\, Royal Arsenal Riverside\, London\, SE18 6FB
END:VEVENT
BEGIN:VEVENT
DTSTART;TZID=UTC:20260828T120000
DTEND;TZID=UTC:20260828T200000
DTSTAMP:20260424T151412
CREATED:20251214T232553Z
LAST-MODIFIED:20251214T232553Z
UID:10003986-1787918400-1787947200@greenwichreview.com
SUMMARY:Royal Arsenal Pop-Ups
DESCRIPTION:Various pop up stalls in dial up square near the Royal Arsenal Gates. \nNo 1 Street\, SE18 6HD
URL:https://greenwichreview.com/event/royal-arsenal-pop-ups/2026-08-28/
LOCATION:Royal Arsenal Farmers Market\, Artillery Square\, No 1 Street\, Royal Arsenal Riverside\, London\, SE18 6FB
END:VEVENT
BEGIN:VEVENT
DTSTART;TZID=UTC:20260829T110000
DTEND;TZID=UTC:20260829T180000
DTSTAMP:20260424T151412
CREATED:20231011T120553Z
LAST-MODIFIED:20231011T120658Z
UID:10001002-1788001200-1788026400@greenwichreview.com
SUMMARY:Peninsular Market
DESCRIPTION:
URL:https://greenwichreview.com/event/2339/2026-08-29/
LOCATION:Peninsular Square\, Peninsula Square\, London\, SE10 0SQ
END:VEVENT
BEGIN:VEVENT
DTSTART;TZID=UTC:20260829T120000
DTEND;TZID=UTC:20260829T200000
DTSTAMP:20260424T151412
CREATED:20251214T232553Z
LAST-MODIFIED:20251214T232553Z
UID:10003987-1788004800-1788033600@greenwichreview.com
SUMMARY:Royal Arsenal Pop-Ups
DESCRIPTION:Various pop up stalls in dial up square near the Royal Arsenal Gates. \nNo 1 Street\, SE18 6HD
URL:https://greenwichreview.com/event/royal-arsenal-pop-ups/2026-08-29/
LOCATION:Royal Arsenal Farmers Market\, Artillery Square\, No 1 Street\, Royal Arsenal Riverside\, London\, SE18 6FB
END:VEVENT
BEGIN:VEVENT
DTSTART;TZID=UTC:20260830T110000
DTEND;TZID=UTC:20260830T180000
DTSTAMP:20260424T151412
CREATED:20231011T120553Z
LAST-MODIFIED:20231011T120658Z
UID:10001003-1788087600-1788112800@greenwichreview.com
SUMMARY:Peninsular Market
DESCRIPTION:
URL:https://greenwichreview.com/event/2339/2026-08-30/
LOCATION:Peninsular Square\, Peninsula Square\, London\, SE10 0SQ
END:VEVENT
BEGIN:VEVENT
DTSTART;TZID=UTC:20260830T120000
DTEND;TZID=UTC:20260830T200000
DTSTAMP:20260424T151412
CREATED:20251214T232553Z
LAST-MODIFIED:20251214T232553Z
UID:10003988-1788091200-1788120000@greenwichreview.com
SUMMARY:Royal Arsenal Pop-Ups
DESCRIPTION:Various pop up stalls in dial up square near the Royal Arsenal Gates. \nNo 1 Street\, SE18 6HD
URL:https://greenwichreview.com/event/royal-arsenal-pop-ups/2026-08-30/
LOCATION:Royal Arsenal Farmers Market\, Artillery Square\, No 1 Street\, Royal Arsenal Riverside\, London\, SE18 6FB
END:VEVENT
BEGIN:VEVENT
DTSTART;TZID=UTC:20260831T120000
DTEND;TZID=UTC:20260831T200000
DTSTAMP:20260424T151412
CREATED:20251214T232553Z
LAST-MODIFIED:20251214T232553Z
UID:10003989-1788177600-1788206400@greenwichreview.com
SUMMARY:Royal Arsenal Pop-Ups
DESCRIPTION:Various pop up stalls in dial up square near the Royal Arsenal Gates. \nNo 1 Street\, SE18 6HD
URL:https://greenwichreview.com/event/royal-arsenal-pop-ups/2026-08-31/
LOCATION:Royal Arsenal Farmers Market\, Artillery Square\, No 1 Street\, Royal Arsenal Riverside\, London\, SE18 6FB
END:VEVENT
BEGIN:VEVENT
DTSTART;TZID=UTC:20260901T120000
DTEND;TZID=UTC:20260901T200000
DTSTAMP:20260424T151412
CREATED:20251214T232553Z
LAST-MODIFIED:20251214T232553Z
UID:10003990-1788264000-1788292800@greenwichreview.com
SUMMARY:Royal Arsenal Pop-Ups
DESCRIPTION:Various pop up stalls in dial up square near the Royal Arsenal Gates. \nNo 1 Street\, SE18 6HD
URL:https://greenwichreview.com/event/royal-arsenal-pop-ups/2026-09-01/
LOCATION:Royal Arsenal Farmers Market\, Artillery Square\, No 1 Street\, Royal Arsenal Riverside\, London\, SE18 6FB
END:VEVENT
BEGIN:VEVENT
DTSTART;TZID=UTC:20260901T203000
DTEND;TZID=UTC:20260901T203000
DTSTAMP:20260424T151412
CREATED:20251122T094649Z
LAST-MODIFIED:20251122T094852Z
UID:10003686-1788294600-1788294600@greenwichreview.com
SUMMARY:Pelton Pub Quiz
DESCRIPTION:Every Tuesday 830PM – Cash Prizes \n£2 Quiz entry fee.
URL:https://greenwichreview.com/event/pelton-pub-quiz-3/2026-09-01/
LOCATION:The Pelton Arms\, 23-25 Pelton Rd\,\, London\, SE10 9PQ
END:VEVENT
BEGIN:VEVENT
DTSTART;TZID=UTC:20260902T120000
DTEND;TZID=UTC:20260902T200000
DTSTAMP:20260424T151412
CREATED:20251214T232553Z
LAST-MODIFIED:20251214T232553Z
UID:10003991-1788350400-1788379200@greenwichreview.com
SUMMARY:Royal Arsenal Pop-Ups
DESCRIPTION:Various pop up stalls in dial up square near the Royal Arsenal Gates. \nNo 1 Street\, SE18 6HD
URL:https://greenwichreview.com/event/royal-arsenal-pop-ups/2026-09-02/
LOCATION:Royal Arsenal Farmers Market\, Artillery Square\, No 1 Street\, Royal Arsenal Riverside\, London\, SE18 6FB
END:VEVENT
BEGIN:VEVENT
DTSTART;TZID=UTC:20260903T120000
DTEND;TZID=UTC:20260903T200000
DTSTAMP:20260424T151412
CREATED:20251214T232553Z
LAST-MODIFIED:20251214T232553Z
UID:10003992-1788436800-1788465600@greenwichreview.com
SUMMARY:Royal Arsenal Pop-Ups
DESCRIPTION:Various pop up stalls in dial up square near the Royal Arsenal Gates. \nNo 1 Street\, SE18 6HD
URL:https://greenwichreview.com/event/royal-arsenal-pop-ups/2026-09-03/
LOCATION:Royal Arsenal Farmers Market\, Artillery Square\, No 1 Street\, Royal Arsenal Riverside\, London\, SE18 6FB
END:VEVENT
BEGIN:VEVENT
DTSTART;TZID=UTC:20260903T193000
DTEND;TZID=UTC:20260903T213000
DTSTAMP:20260424T151412
CREATED:20240427T102207Z
LAST-MODIFIED:20240427T102207Z
UID:10002229-1788463800-1788471000@greenwichreview.com
SUMMARY:Monthly Music Quiz
DESCRIPTION:Monthly music quiz every first Thursday of the month. \nBegins at 7:30 pm for an 8 pm start.
URL:https://greenwichreview.com/event/monthly-music-quiz/2026-09-03/
LOCATION:The Pelton Arms\, 23-25 Pelton Rd\,\, London\, SE10 9PQ
END:VEVENT
BEGIN:VEVENT
DTSTART;TZID=UTC:20260904T120000
DTEND;TZID=UTC:20260904T200000
DTSTAMP:20260424T151412
CREATED:20251214T232553Z
LAST-MODIFIED:20251214T232553Z
UID:10003993-1788523200-1788552000@greenwichreview.com
SUMMARY:Royal Arsenal Pop-Ups
DESCRIPTION:Various pop up stalls in dial up square near the Royal Arsenal Gates. \nNo 1 Street\, SE18 6HD
URL:https://greenwichreview.com/event/royal-arsenal-pop-ups/2026-09-04/
LOCATION:Royal Arsenal Farmers Market\, Artillery Square\, No 1 Street\, Royal Arsenal Riverside\, London\, SE18 6FB
END:VEVENT
BEGIN:VEVENT
DTSTART;TZID=UTC:20260905T110000
DTEND;TZID=UTC:20260905T180000
DTSTAMP:20260424T151412
CREATED:20231011T120553Z
LAST-MODIFIED:20231011T120658Z
UID:10001004-1788606000-1788631200@greenwichreview.com
SUMMARY:Peninsular Market
DESCRIPTION:
URL:https://greenwichreview.com/event/2339/2026-09-05/
LOCATION:Peninsular Square\, Peninsula Square\, London\, SE10 0SQ
END:VEVENT
BEGIN:VEVENT
DTSTART;TZID=UTC:20260905T120000
DTEND;TZID=UTC:20260905T200000
DTSTAMP:20260424T151412
CREATED:20251214T232553Z
LAST-MODIFIED:20251214T232553Z
UID:10003994-1788609600-1788638400@greenwichreview.com
SUMMARY:Royal Arsenal Pop-Ups
DESCRIPTION:Various pop up stalls in dial up square near the Royal Arsenal Gates. \nNo 1 Street\, SE18 6HD
URL:https://greenwichreview.com/event/royal-arsenal-pop-ups/2026-09-05/
LOCATION:Royal Arsenal Farmers Market\, Artillery Square\, No 1 Street\, Royal Arsenal Riverside\, London\, SE18 6FB
END:VEVENT
BEGIN:VEVENT
DTSTART;TZID=UTC:20260906T110000
DTEND;TZID=UTC:20260906T180000
DTSTAMP:20260424T151412
CREATED:20231011T120553Z
LAST-MODIFIED:20231011T120658Z
UID:10001005-1788692400-1788717600@greenwichreview.com
SUMMARY:Peninsular Market
DESCRIPTION:
URL:https://greenwichreview.com/event/2339/2026-09-06/
LOCATION:Peninsular Square\, Peninsula Square\, London\, SE10 0SQ
END:VEVENT
BEGIN:VEVENT
DTSTART;TZID=UTC:20260906T120000
DTEND;TZID=UTC:20260906T200000
DTSTAMP:20260424T151412
CREATED:20251214T232553Z
LAST-MODIFIED:20251214T232553Z
UID:10003995-1788696000-1788724800@greenwichreview.com
SUMMARY:Royal Arsenal Pop-Ups
DESCRIPTION:Various pop up stalls in dial up square near the Royal Arsenal Gates. \nNo 1 Street\, SE18 6HD
URL:https://greenwichreview.com/event/royal-arsenal-pop-ups/2026-09-06/
LOCATION:Royal Arsenal Farmers Market\, Artillery Square\, No 1 Street\, Royal Arsenal Riverside\, London\, SE18 6FB
END:VEVENT
BEGIN:VEVENT
DTSTART;TZID=UTC:20260907T120000
DTEND;TZID=UTC:20260907T200000
DTSTAMP:20260424T151412
CREATED:20251214T232553Z
LAST-MODIFIED:20251214T232553Z
UID:10003996-1788782400-1788811200@greenwichreview.com
SUMMARY:Royal Arsenal Pop-Ups
DESCRIPTION:Various pop up stalls in dial up square near the Royal Arsenal Gates. \nNo 1 Street\, SE18 6HD
URL:https://greenwichreview.com/event/royal-arsenal-pop-ups/2026-09-07/
LOCATION:Royal Arsenal Farmers Market\, Artillery Square\, No 1 Street\, Royal Arsenal Riverside\, London\, SE18 6FB
END:VEVENT
BEGIN:VEVENT
DTSTART;TZID=UTC:20260908T120000
DTEND;TZID=UTC:20260908T200000
DTSTAMP:20260424T151412
CREATED:20251214T232553Z
LAST-MODIFIED:20251214T232553Z
UID:10003997-1788868800-1788897600@greenwichreview.com
SUMMARY:Royal Arsenal Pop-Ups
DESCRIPTION:Various pop up stalls in dial up square near the Royal Arsenal Gates. \nNo 1 Street\, SE18 6HD
URL:https://greenwichreview.com/event/royal-arsenal-pop-ups/2026-09-08/
LOCATION:Royal Arsenal Farmers Market\, Artillery Square\, No 1 Street\, Royal Arsenal Riverside\, London\, SE18 6FB
END:VEVENT
BEGIN:VEVENT
DTSTART;TZID=UTC:20260908T203000
DTEND;TZID=UTC:20260908T203000
DTSTAMP:20260424T151412
CREATED:20251122T094649Z
LAST-MODIFIED:20251122T094852Z
UID:10003687-1788899400-1788899400@greenwichreview.com
SUMMARY:Pelton Pub Quiz
DESCRIPTION:Every Tuesday 830PM – Cash Prizes \n£2 Quiz entry fee.
URL:https://greenwichreview.com/event/pelton-pub-quiz-3/2026-09-08/
LOCATION:The Pelton Arms\, 23-25 Pelton Rd\,\, London\, SE10 9PQ
END:VEVENT
BEGIN:VEVENT
DTSTART;TZID=UTC:20260909T120000
DTEND;TZID=UTC:20260909T200000
DTSTAMP:20260424T151412
CREATED:20251214T232553Z
LAST-MODIFIED:20251214T232553Z
UID:10003998-1788955200-1788984000@greenwichreview.com
SUMMARY:Royal Arsenal Pop-Ups
DESCRIPTION:Various pop up stalls in dial up square near the Royal Arsenal Gates. \nNo 1 Street\, SE18 6HD
URL:https://greenwichreview.com/event/royal-arsenal-pop-ups/2026-09-09/
LOCATION:Royal Arsenal Farmers Market\, Artillery Square\, No 1 Street\, Royal Arsenal Riverside\, London\, SE18 6FB
END:VEVENT
BEGIN:VEVENT
DTSTART;TZID=UTC:20260910T120000
DTEND;TZID=UTC:20260910T200000
DTSTAMP:20260424T151412
CREATED:20251214T232553Z
LAST-MODIFIED:20251214T232553Z
UID:10003999-1789041600-1789070400@greenwichreview.com
SUMMARY:Royal Arsenal Pop-Ups
DESCRIPTION:Various pop up stalls in dial up square near the Royal Arsenal Gates. \nNo 1 Street\, SE18 6HD
URL:https://greenwichreview.com/event/royal-arsenal-pop-ups/2026-09-10/
LOCATION:Royal Arsenal Farmers Market\, Artillery Square\, No 1 Street\, Royal Arsenal Riverside\, London\, SE18 6FB
END:VEVENT
BEGIN:VEVENT
DTSTART;TZID=UTC:20260911T120000
DTEND;TZID=UTC:20260911T200000
DTSTAMP:20260424T151412
CREATED:20251214T232553Z
LAST-MODIFIED:20251214T232553Z
UID:10004000-1789128000-1789156800@greenwichreview.com
SUMMARY:Royal Arsenal Pop-Ups
DESCRIPTION:Various pop up stalls in dial up square near the Royal Arsenal Gates. \nNo 1 Street\, SE18 6HD
URL:https://greenwichreview.com/event/royal-arsenal-pop-ups/2026-09-11/
LOCATION:Royal Arsenal Farmers Market\, Artillery Square\, No 1 Street\, Royal Arsenal Riverside\, London\, SE18 6FB
END:VEVENT
BEGIN:VEVENT
DTSTART;TZID=UTC:20260912T110000
DTEND;TZID=UTC:20260912T180000
DTSTAMP:20260424T151412
CREATED:20231011T120553Z
LAST-MODIFIED:20231011T120658Z
UID:10001006-1789210800-1789236000@greenwichreview.com
SUMMARY:Peninsular Market
DESCRIPTION:
URL:https://greenwichreview.com/event/2339/2026-09-12/
LOCATION:Peninsular Square\, Peninsula Square\, London\, SE10 0SQ
END:VEVENT
BEGIN:VEVENT
DTSTART;TZID=UTC:20260912T120000
DTEND;TZID=UTC:20260912T200000
DTSTAMP:20260424T151412
CREATED:20251214T232553Z
LAST-MODIFIED:20251214T232553Z
UID:10004001-1789214400-1789243200@greenwichreview.com
SUMMARY:Royal Arsenal Pop-Ups
DESCRIPTION:Various pop up stalls in dial up square near the Royal Arsenal Gates. \nNo 1 Street\, SE18 6HD
URL:https://greenwichreview.com/event/royal-arsenal-pop-ups/2026-09-12/
LOCATION:Royal Arsenal Farmers Market\, Artillery Square\, No 1 Street\, Royal Arsenal Riverside\, London\, SE18 6FB
END:VEVENT
BEGIN:VEVENT
DTSTART;TZID=UTC:20260913T110000
DTEND;TZID=UTC:20260913T180000
DTSTAMP:20260424T151412
CREATED:20231011T120553Z
LAST-MODIFIED:20231011T120658Z
UID:10001007-1789297200-1789322400@greenwichreview.com
SUMMARY:Peninsular Market
DESCRIPTION:
URL:https://greenwichreview.com/event/2339/2026-09-13/
LOCATION:Peninsular Square\, Peninsula Square\, London\, SE10 0SQ
END:VEVENT
END:VCALENDAR