BEGIN:VCALENDAR
VERSION:2.0
PRODID:-//Greenwich Review - ECPv6.15.20//NONSGML v1.0//EN
CALSCALE:GREGORIAN
METHOD:PUBLISH
X-ORIGINAL-URL:https://greenwichreview.com
X-WR-CALDESC:Events for Greenwich Review
REFRESH-INTERVAL;VALUE=DURATION:PT1H
X-Robots-Tag:noindex
X-PUBLISHED-TTL:PT1H
BEGIN:VTIMEZONE
TZID:UTC
BEGIN:STANDARD
TZOFFSETFROM:+0000
TZOFFSETTO:+0000
TZNAME:UTC
DTSTART:20260101T000000
END:STANDARD
END:VTIMEZONE
BEGIN:VEVENT
DTSTART;TZID=UTC:20270328T110000
DTEND;TZID=UTC:20270328T180000
DTSTAMP:20260426T012348
CREATED:20231011T120553Z
LAST-MODIFIED:20231011T120658Z
UID:10001063-1806231600-1806256800@greenwichreview.com
SUMMARY:Peninsular Market
DESCRIPTION:
URL:https://greenwichreview.com/event/2339/2027-03-28/
LOCATION:Peninsular Square\, Peninsula Square\, London\, SE10 0SQ
END:VEVENT
BEGIN:VEVENT
DTSTART;TZID=UTC:20270401T193000
DTEND;TZID=UTC:20270401T213000
DTSTAMP:20260426T012348
CREATED:20240427T102207Z
LAST-MODIFIED:20240427T102207Z
UID:10002236-1806607800-1806615000@greenwichreview.com
SUMMARY:Monthly Music Quiz
DESCRIPTION:Monthly music quiz every first Thursday of the month. \nBegins at 7:30 pm for an 8 pm start.
URL:https://greenwichreview.com/event/monthly-music-quiz/2027-04-01/
LOCATION:The Pelton Arms\, 23-25 Pelton Rd\,\, London\, SE10 9PQ
END:VEVENT
BEGIN:VEVENT
DTSTART;TZID=UTC:20270403T110000
DTEND;TZID=UTC:20270403T180000
DTSTAMP:20260426T012348
CREATED:20231011T120553Z
LAST-MODIFIED:20231011T120658Z
UID:10001064-1806750000-1806775200@greenwichreview.com
SUMMARY:Peninsular Market
DESCRIPTION:
URL:https://greenwichreview.com/event/2339/2027-04-03/
LOCATION:Peninsular Square\, Peninsula Square\, London\, SE10 0SQ
END:VEVENT
BEGIN:VEVENT
DTSTART;TZID=UTC:20270404T110000
DTEND;TZID=UTC:20270404T180000
DTSTAMP:20260426T012348
CREATED:20231011T120553Z
LAST-MODIFIED:20231011T120658Z
UID:10001065-1806836400-1806861600@greenwichreview.com
SUMMARY:Peninsular Market
DESCRIPTION:
URL:https://greenwichreview.com/event/2339/2027-04-04/
LOCATION:Peninsular Square\, Peninsula Square\, London\, SE10 0SQ
END:VEVENT
BEGIN:VEVENT
DTSTART;TZID=UTC:20270410T110000
DTEND;TZID=UTC:20270410T180000
DTSTAMP:20260426T012348
CREATED:20231011T120553Z
LAST-MODIFIED:20231011T120658Z
UID:10001066-1807354800-1807380000@greenwichreview.com
SUMMARY:Peninsular Market
DESCRIPTION:
URL:https://greenwichreview.com/event/2339/2027-04-10/
LOCATION:Peninsular Square\, Peninsula Square\, London\, SE10 0SQ
END:VEVENT
BEGIN:VEVENT
DTSTART;TZID=UTC:20270411T110000
DTEND;TZID=UTC:20270411T180000
DTSTAMP:20260426T012348
CREATED:20231011T120553Z
LAST-MODIFIED:20231011T120658Z
UID:10001067-1807441200-1807466400@greenwichreview.com
SUMMARY:Peninsular Market
DESCRIPTION:
URL:https://greenwichreview.com/event/2339/2027-04-11/
LOCATION:Peninsular Square\, Peninsula Square\, London\, SE10 0SQ
END:VEVENT
BEGIN:VEVENT
DTSTART;TZID=UTC:20270417T110000
DTEND;TZID=UTC:20270417T180000
DTSTAMP:20260426T012348
CREATED:20231011T120553Z
LAST-MODIFIED:20231011T120658Z
UID:10001068-1807959600-1807984800@greenwichreview.com
SUMMARY:Peninsular Market
DESCRIPTION:
URL:https://greenwichreview.com/event/2339/2027-04-17/
LOCATION:Peninsular Square\, Peninsula Square\, London\, SE10 0SQ
END:VEVENT
BEGIN:VEVENT
DTSTART;TZID=UTC:20270418T110000
DTEND;TZID=UTC:20270418T180000
DTSTAMP:20260426T012348
CREATED:20231011T120553Z
LAST-MODIFIED:20231011T120658Z
UID:10001069-1808046000-1808071200@greenwichreview.com
SUMMARY:Peninsular Market
DESCRIPTION:
URL:https://greenwichreview.com/event/2339/2027-04-18/
LOCATION:Peninsular Square\, Peninsula Square\, London\, SE10 0SQ
END:VEVENT
BEGIN:VEVENT
DTSTART;TZID=UTC:20270424T110000
DTEND;TZID=UTC:20270424T180000
DTSTAMP:20260426T012348
CREATED:20231011T120553Z
LAST-MODIFIED:20231011T120658Z
UID:10001070-1808564400-1808589600@greenwichreview.com
SUMMARY:Peninsular Market
DESCRIPTION:
URL:https://greenwichreview.com/event/2339/2027-04-24/
LOCATION:Peninsular Square\, Peninsula Square\, London\, SE10 0SQ
END:VEVENT
BEGIN:VEVENT
DTSTART;TZID=UTC:20270425T110000
DTEND;TZID=UTC:20270425T180000
DTSTAMP:20260426T012348
CREATED:20231011T120553Z
LAST-MODIFIED:20231011T120658Z
UID:10001071-1808650800-1808676000@greenwichreview.com
SUMMARY:Peninsular Market
DESCRIPTION:
URL:https://greenwichreview.com/event/2339/2027-04-25/
LOCATION:Peninsular Square\, Peninsula Square\, London\, SE10 0SQ
END:VEVENT
BEGIN:VEVENT
DTSTART;TZID=UTC:20270501T110000
DTEND;TZID=UTC:20270501T180000
DTSTAMP:20260426T012348
CREATED:20231011T120553Z
LAST-MODIFIED:20231011T120658Z
UID:10001072-1809169200-1809194400@greenwichreview.com
SUMMARY:Peninsular Market
DESCRIPTION:
URL:https://greenwichreview.com/event/2339/2027-05-01/
LOCATION:Peninsular Square\, Peninsula Square\, London\, SE10 0SQ
END:VEVENT
BEGIN:VEVENT
DTSTART;TZID=UTC:20270502T110000
DTEND;TZID=UTC:20270502T180000
DTSTAMP:20260426T012348
CREATED:20231011T120553Z
LAST-MODIFIED:20231011T120658Z
UID:10001073-1809255600-1809280800@greenwichreview.com
SUMMARY:Peninsular Market
DESCRIPTION:
URL:https://greenwichreview.com/event/2339/2027-05-02/
LOCATION:Peninsular Square\, Peninsula Square\, London\, SE10 0SQ
END:VEVENT
BEGIN:VEVENT
DTSTART;TZID=UTC:20270506T193000
DTEND;TZID=UTC:20270506T213000
DTSTAMP:20260426T012348
CREATED:20240427T102207Z
LAST-MODIFIED:20240427T102207Z
UID:10002237-1809631800-1809639000@greenwichreview.com
SUMMARY:Monthly Music Quiz
DESCRIPTION:Monthly music quiz every first Thursday of the month. \nBegins at 7:30 pm for an 8 pm start.
URL:https://greenwichreview.com/event/monthly-music-quiz/2027-05-06/
LOCATION:The Pelton Arms\, 23-25 Pelton Rd\,\, London\, SE10 9PQ
END:VEVENT
BEGIN:VEVENT
DTSTART;TZID=UTC:20270508T110000
DTEND;TZID=UTC:20270508T180000
DTSTAMP:20260426T012348
CREATED:20231011T120553Z
LAST-MODIFIED:20231011T120658Z
UID:10001074-1809774000-1809799200@greenwichreview.com
SUMMARY:Peninsular Market
DESCRIPTION:
URL:https://greenwichreview.com/event/2339/2027-05-08/
LOCATION:Peninsular Square\, Peninsula Square\, London\, SE10 0SQ
END:VEVENT
BEGIN:VEVENT
DTSTART;TZID=UTC:20270509T110000
DTEND;TZID=UTC:20270509T180000
DTSTAMP:20260426T012348
CREATED:20231011T120553Z
LAST-MODIFIED:20231011T120658Z
UID:10001075-1809860400-1809885600@greenwichreview.com
SUMMARY:Peninsular Market
DESCRIPTION:
URL:https://greenwichreview.com/event/2339/2027-05-09/
LOCATION:Peninsular Square\, Peninsula Square\, London\, SE10 0SQ
END:VEVENT
BEGIN:VEVENT
DTSTART;TZID=UTC:20270515T110000
DTEND;TZID=UTC:20270515T180000
DTSTAMP:20260426T012348
CREATED:20231011T120553Z
LAST-MODIFIED:20231011T120658Z
UID:10001076-1810378800-1810404000@greenwichreview.com
SUMMARY:Peninsular Market
DESCRIPTION:
URL:https://greenwichreview.com/event/2339/2027-05-15/
LOCATION:Peninsular Square\, Peninsula Square\, London\, SE10 0SQ
END:VEVENT
BEGIN:VEVENT
DTSTART;TZID=UTC:20270516T110000
DTEND;TZID=UTC:20270516T180000
DTSTAMP:20260426T012348
CREATED:20231011T120553Z
LAST-MODIFIED:20231011T120658Z
UID:10001077-1810465200-1810490400@greenwichreview.com
SUMMARY:Peninsular Market
DESCRIPTION:
URL:https://greenwichreview.com/event/2339/2027-05-16/
LOCATION:Peninsular Square\, Peninsula Square\, London\, SE10 0SQ
END:VEVENT
BEGIN:VEVENT
DTSTART;TZID=UTC:20270522T110000
DTEND;TZID=UTC:20270522T180000
DTSTAMP:20260426T012348
CREATED:20231011T120553Z
LAST-MODIFIED:20231011T120658Z
UID:10001078-1810983600-1811008800@greenwichreview.com
SUMMARY:Peninsular Market
DESCRIPTION:
URL:https://greenwichreview.com/event/2339/2027-05-22/
LOCATION:Peninsular Square\, Peninsula Square\, London\, SE10 0SQ
END:VEVENT
BEGIN:VEVENT
DTSTART;TZID=UTC:20270523T110000
DTEND;TZID=UTC:20270523T180000
DTSTAMP:20260426T012348
CREATED:20231011T120553Z
LAST-MODIFIED:20231011T120658Z
UID:10001079-1811070000-1811095200@greenwichreview.com
SUMMARY:Peninsular Market
DESCRIPTION:
URL:https://greenwichreview.com/event/2339/2027-05-23/
LOCATION:Peninsular Square\, Peninsula Square\, London\, SE10 0SQ
END:VEVENT
BEGIN:VEVENT
DTSTART;TZID=UTC:20270529T110000
DTEND;TZID=UTC:20270529T180000
DTSTAMP:20260426T012348
CREATED:20231011T120553Z
LAST-MODIFIED:20231011T120658Z
UID:10001080-1811588400-1811613600@greenwichreview.com
SUMMARY:Peninsular Market
DESCRIPTION:
URL:https://greenwichreview.com/event/2339/2027-05-29/
LOCATION:Peninsular Square\, Peninsula Square\, London\, SE10 0SQ
END:VEVENT
BEGIN:VEVENT
DTSTART;TZID=UTC:20270530T110000
DTEND;TZID=UTC:20270530T180000
DTSTAMP:20260426T012348
CREATED:20231011T120553Z
LAST-MODIFIED:20231011T120658Z
UID:10001081-1811674800-1811700000@greenwichreview.com
SUMMARY:Peninsular Market
DESCRIPTION:
URL:https://greenwichreview.com/event/2339/2027-05-30/
LOCATION:Peninsular Square\, Peninsula Square\, London\, SE10 0SQ
END:VEVENT
BEGIN:VEVENT
DTSTART;TZID=UTC:20270603T193000
DTEND;TZID=UTC:20270603T213000
DTSTAMP:20260426T012348
CREATED:20240427T102207Z
LAST-MODIFIED:20240427T102207Z
UID:10002238-1812051000-1812058200@greenwichreview.com
SUMMARY:Monthly Music Quiz
DESCRIPTION:Monthly music quiz every first Thursday of the month. \nBegins at 7:30 pm for an 8 pm start.
URL:https://greenwichreview.com/event/monthly-music-quiz/2027-06-03/
LOCATION:The Pelton Arms\, 23-25 Pelton Rd\,\, London\, SE10 9PQ
END:VEVENT
BEGIN:VEVENT
DTSTART;TZID=UTC:20270605T110000
DTEND;TZID=UTC:20270605T180000
DTSTAMP:20260426T012348
CREATED:20231011T120553Z
LAST-MODIFIED:20231011T120658Z
UID:10001082-1812193200-1812218400@greenwichreview.com
SUMMARY:Peninsular Market
DESCRIPTION:
URL:https://greenwichreview.com/event/2339/2027-06-05/
LOCATION:Peninsular Square\, Peninsula Square\, London\, SE10 0SQ
END:VEVENT
BEGIN:VEVENT
DTSTART;TZID=UTC:20270606T110000
DTEND;TZID=UTC:20270606T180000
DTSTAMP:20260426T012348
CREATED:20231011T120553Z
LAST-MODIFIED:20231011T120658Z
UID:10001083-1812279600-1812304800@greenwichreview.com
SUMMARY:Peninsular Market
DESCRIPTION:
URL:https://greenwichreview.com/event/2339/2027-06-06/
LOCATION:Peninsular Square\, Peninsula Square\, London\, SE10 0SQ
END:VEVENT
BEGIN:VEVENT
DTSTART;TZID=UTC:20270612T110000
DTEND;TZID=UTC:20270612T180000
DTSTAMP:20260426T012348
CREATED:20231011T120553Z
LAST-MODIFIED:20231011T120658Z
UID:10001084-1812798000-1812823200@greenwichreview.com
SUMMARY:Peninsular Market
DESCRIPTION:
URL:https://greenwichreview.com/event/2339/2027-06-12/
LOCATION:Peninsular Square\, Peninsula Square\, London\, SE10 0SQ
END:VEVENT
BEGIN:VEVENT
DTSTART;TZID=UTC:20270613T110000
DTEND;TZID=UTC:20270613T180000
DTSTAMP:20260426T012348
CREATED:20231011T120553Z
LAST-MODIFIED:20231011T120658Z
UID:10001085-1812884400-1812909600@greenwichreview.com
SUMMARY:Peninsular Market
DESCRIPTION:
URL:https://greenwichreview.com/event/2339/2027-06-13/
LOCATION:Peninsular Square\, Peninsula Square\, London\, SE10 0SQ
END:VEVENT
BEGIN:VEVENT
DTSTART;TZID=UTC:20270619T110000
DTEND;TZID=UTC:20270619T180000
DTSTAMP:20260426T012348
CREATED:20231011T120553Z
LAST-MODIFIED:20231011T120658Z
UID:10001086-1813402800-1813428000@greenwichreview.com
SUMMARY:Peninsular Market
DESCRIPTION:
URL:https://greenwichreview.com/event/2339/2027-06-19/
LOCATION:Peninsular Square\, Peninsula Square\, London\, SE10 0SQ
END:VEVENT
BEGIN:VEVENT
DTSTART;TZID=UTC:20270620T110000
DTEND;TZID=UTC:20270620T180000
DTSTAMP:20260426T012348
CREATED:20231011T120553Z
LAST-MODIFIED:20231011T120658Z
UID:10001087-1813489200-1813514400@greenwichreview.com
SUMMARY:Peninsular Market
DESCRIPTION:
URL:https://greenwichreview.com/event/2339/2027-06-20/
LOCATION:Peninsular Square\, Peninsula Square\, London\, SE10 0SQ
END:VEVENT
BEGIN:VEVENT
DTSTART;TZID=UTC:20270626T110000
DTEND;TZID=UTC:20270626T180000
DTSTAMP:20260426T012348
CREATED:20231011T120553Z
LAST-MODIFIED:20231011T120658Z
UID:10001088-1814007600-1814032800@greenwichreview.com
SUMMARY:Peninsular Market
DESCRIPTION:
URL:https://greenwichreview.com/event/2339/2027-06-26/
LOCATION:Peninsular Square\, Peninsula Square\, London\, SE10 0SQ
END:VEVENT
BEGIN:VEVENT
DTSTART;TZID=UTC:20270627T110000
DTEND;TZID=UTC:20270627T180000
DTSTAMP:20260426T012348
CREATED:20231011T120553Z
LAST-MODIFIED:20231011T120658Z
UID:10001089-1814094000-1814119200@greenwichreview.com
SUMMARY:Peninsular Market
DESCRIPTION:
URL:https://greenwichreview.com/event/2339/2027-06-27/
LOCATION:Peninsular Square\, Peninsula Square\, London\, SE10 0SQ
END:VEVENT
END:VCALENDAR