BEGIN:VCALENDAR
VERSION:2.0
PRODID:-//Greenwich Review - ECPv6.15.20//NONSGML v1.0//EN
CALSCALE:GREGORIAN
METHOD:PUBLISH
X-WR-CALNAME:Greenwich Review
X-ORIGINAL-URL:https://greenwichreview.com
X-WR-CALDESC:Events for Greenwich Review
REFRESH-INTERVAL;VALUE=DURATION:PT1H
X-Robots-Tag:noindex
X-PUBLISHED-TTL:PT1H
BEGIN:VTIMEZONE
TZID:UTC
BEGIN:STANDARD
TZOFFSETFROM:+0000
TZOFFSETTO:+0000
TZNAME:UTC
DTSTART:20240101T000000
END:STANDARD
END:VTIMEZONE
BEGIN:VEVENT
DTSTART;TZID=UTC:20250827T193000
DTEND;TZID=UTC:20250827T203000
DTSTAMP:20260425T153041
CREATED:20241026T200507Z
LAST-MODIFIED:20241026T200507Z
UID:10003274-1756323000-1756326600@greenwichreview.com
SUMMARY:The Quiz People at the Pelton Arms
DESCRIPTION:Speed quizzing using smartphones with a £2 entry fee and cash prizes.
URL:https://greenwichreview.com/event/the-quiz-people-at-the-pelton-arms/2025-08-27/
LOCATION:The Pelton Arms\, 23-25 Pelton Rd\,\, London\, SE10 9PQ
END:VEVENT
BEGIN:VEVENT
DTSTART;TZID=UTC:20250826T200000
DTEND;TZID=UTC:20250826T210000
DTSTAMP:20260425T153041
CREATED:20241026T195923Z
LAST-MODIFIED:20250408T200331Z
UID:10003222-1756238400-1756242000@greenwichreview.com
SUMMARY:Pelton Pub Quiz
DESCRIPTION:£2 Entry fee. Cash prizes.
URL:https://greenwichreview.com/event/pelton-pub-quiz/2025-08-26/
LOCATION:The Pelton Arms\, 23-25 Pelton Rd\,\, London\, SE10 9PQ
END:VEVENT
BEGIN:VEVENT
DTSTART;TZID=UTC:20250824T110000
DTEND;TZID=UTC:20250824T180000
DTSTAMP:20260425T153041
CREATED:20231011T120553Z
LAST-MODIFIED:20231011T120658Z
UID:10000897-1756033200-1756058400@greenwichreview.com
SUMMARY:Peninsular Market
DESCRIPTION:
URL:https://greenwichreview.com/event/2339/2025-08-24/
LOCATION:Peninsular Square\, Peninsula Square\, London\, SE10 0SQ
END:VEVENT
BEGIN:VEVENT
DTSTART;TZID=UTC:20250823T110000
DTEND;TZID=UTC:20250823T180000
DTSTAMP:20260425T153041
CREATED:20231011T120553Z
LAST-MODIFIED:20231011T120658Z
UID:10000896-1755946800-1755972000@greenwichreview.com
SUMMARY:Peninsular Market
DESCRIPTION:
URL:https://greenwichreview.com/event/2339/2025-08-23/
LOCATION:Peninsular Square\, Peninsula Square\, London\, SE10 0SQ
END:VEVENT
BEGIN:VEVENT
DTSTART;TZID=UTC:20250820T200000
DTEND;TZID=UTC:20250820T213000
DTSTAMP:20260425T153041
CREATED:20231015T103619Z
LAST-MODIFIED:20231015T103619Z
UID:10001347-1755720000-1755725400@greenwichreview.com
SUMMARY:Captain Cutty's Pub Quiz
DESCRIPTION:Captain Cutty’s pub quiz every Wednesday at 20:00 at the Cutty Sark pub.
URL:https://greenwichreview.com/event/captain-cuttys-pub-quiz/2025-08-20/
LOCATION:Cutty Sark Pub\, 4-6 Ballast Quay\, London\, SE10 9PD\, United Kingdom
END:VEVENT
BEGIN:VEVENT
DTSTART;TZID=UTC:20250820T193000
DTEND;TZID=UTC:20250820T203000
DTSTAMP:20260425T153041
CREATED:20241026T200507Z
LAST-MODIFIED:20241026T200507Z
UID:10003273-1755718200-1755721800@greenwichreview.com
SUMMARY:The Quiz People at the Pelton Arms
DESCRIPTION:Speed quizzing using smartphones with a £2 entry fee and cash prizes.
URL:https://greenwichreview.com/event/the-quiz-people-at-the-pelton-arms/2025-08-20/
LOCATION:The Pelton Arms\, 23-25 Pelton Rd\,\, London\, SE10 9PQ
END:VEVENT
BEGIN:VEVENT
DTSTART;TZID=UTC:20250819T200000
DTEND;TZID=UTC:20250819T210000
DTSTAMP:20260425T153041
CREATED:20241026T195923Z
LAST-MODIFIED:20250408T200331Z
UID:10003221-1755633600-1755637200@greenwichreview.com
SUMMARY:Pelton Pub Quiz
DESCRIPTION:£2 Entry fee. Cash prizes.
URL:https://greenwichreview.com/event/pelton-pub-quiz/2025-08-19/
LOCATION:The Pelton Arms\, 23-25 Pelton Rd\,\, London\, SE10 9PQ
END:VEVENT
BEGIN:VEVENT
DTSTART;TZID=UTC:20250817T170000
DTEND;TZID=UTC:20250817T193000
DTSTAMP:20260425T153041
CREATED:20250415T211717Z
LAST-MODIFIED:20250415T211717Z
UID:10003516-1755450000-1755459000@greenwichreview.com
SUMMARY:The Mayans Allstars
DESCRIPTION:The Mayans are an instrumental combo blending jazz-funk and Latin-soul influences.
URL:https://greenwichreview.com/event/the-mayans-allstars/
LOCATION:The Pelton Arms\, 23-25 Pelton Rd\,\, London\, SE10 9PQ
END:VEVENT
BEGIN:VEVENT
DTSTART;TZID=UTC:20250817T110000
DTEND;TZID=UTC:20250817T180000
DTSTAMP:20260425T153041
CREATED:20231011T120553Z
LAST-MODIFIED:20231011T120658Z
UID:10000895-1755428400-1755453600@greenwichreview.com
SUMMARY:Peninsular Market
DESCRIPTION:
URL:https://greenwichreview.com/event/2339/2025-08-17/
LOCATION:Peninsular Square\, Peninsula Square\, London\, SE10 0SQ
END:VEVENT
BEGIN:VEVENT
DTSTART;TZID=UTC:20250816T200000
DTEND;TZID=UTC:20250816T223000
DTSTAMP:20260425T153041
CREATED:20250415T205357Z
LAST-MODIFIED:20250415T205357Z
UID:10003511-1755374400-1755383400@greenwichreview.com
SUMMARY:The Skylites
DESCRIPTION:Ska and Two Tone band\,
URL:https://greenwichreview.com/event/the-skylites/
LOCATION:The Pelton Arms\, 23-25 Pelton Rd\,\, London\, SE10 9PQ
END:VEVENT
BEGIN:VEVENT
DTSTART;TZID=UTC:20250816T110000
DTEND;TZID=UTC:20250816T180000
DTSTAMP:20260425T153041
CREATED:20231011T120553Z
LAST-MODIFIED:20231011T120658Z
UID:10000894-1755342000-1755367200@greenwichreview.com
SUMMARY:Peninsular Market
DESCRIPTION:
URL:https://greenwichreview.com/event/2339/2025-08-16/
LOCATION:Peninsular Square\, Peninsula Square\, London\, SE10 0SQ
END:VEVENT
BEGIN:VEVENT
DTSTART;TZID=UTC:20250813T200000
DTEND;TZID=UTC:20250813T213000
DTSTAMP:20260425T153041
CREATED:20231015T103619Z
LAST-MODIFIED:20231015T103619Z
UID:10001346-1755115200-1755120600@greenwichreview.com
SUMMARY:Captain Cutty's Pub Quiz
DESCRIPTION:Captain Cutty’s pub quiz every Wednesday at 20:00 at the Cutty Sark pub.
URL:https://greenwichreview.com/event/captain-cuttys-pub-quiz/2025-08-13/
LOCATION:Cutty Sark Pub\, 4-6 Ballast Quay\, London\, SE10 9PD\, United Kingdom
END:VEVENT
BEGIN:VEVENT
DTSTART;TZID=UTC:20250813T193000
DTEND;TZID=UTC:20250813T213000
DTSTAMP:20260425T153041
CREATED:20250507T213503Z
LAST-MODIFIED:20250507T213503Z
UID:10003541-1755113400-1755120600@greenwichreview.com
SUMMARY:Examining the Realism of AI-Generated Media
DESCRIPTION:Dr Sophie Nightingale of the university of Lancaster gives a talk examining the Realism of AI-Generated Media.
URL:https://greenwichreview.com/event/examining-the-realism-of-ai-generated-media/
LOCATION:Duke of Greenwich\, 91 Colomb Street\, London\, SE10 9EZ
ORGANIZER;CN="Greenwich Skeptics In The Pub":MAILTO:contact@sitp.online
END:VEVENT
BEGIN:VEVENT
DTSTART;TZID=UTC:20250813T193000
DTEND;TZID=UTC:20250813T203000
DTSTAMP:20260425T153041
CREATED:20241026T200507Z
LAST-MODIFIED:20241026T200507Z
UID:10003272-1755113400-1755117000@greenwichreview.com
SUMMARY:The Quiz People at the Pelton Arms
DESCRIPTION:Speed quizzing using smartphones with a £2 entry fee and cash prizes.
URL:https://greenwichreview.com/event/the-quiz-people-at-the-pelton-arms/2025-08-13/
LOCATION:The Pelton Arms\, 23-25 Pelton Rd\,\, London\, SE10 9PQ
END:VEVENT
BEGIN:VEVENT
DTSTART;TZID=UTC:20250812T200000
DTEND;TZID=UTC:20250812T210000
DTSTAMP:20260425T153041
CREATED:20241026T195923Z
LAST-MODIFIED:20250408T200331Z
UID:10003220-1755028800-1755032400@greenwichreview.com
SUMMARY:Pelton Pub Quiz
DESCRIPTION:£2 Entry fee. Cash prizes.
URL:https://greenwichreview.com/event/pelton-pub-quiz/2025-08-12/
LOCATION:The Pelton Arms\, 23-25 Pelton Rd\,\, London\, SE10 9PQ
END:VEVENT
BEGIN:VEVENT
DTSTART;TZID=UTC:20250810T140000
DTEND;TZID=UTC:20250810T180000
DTSTAMP:20260425T153041
CREATED:20250702T215352Z
LAST-MODIFIED:20250702T215352Z
UID:10003625-1754834400-1754848800@greenwichreview.com
SUMMARY:JR's Cars (+Bikes + Scooters)
DESCRIPTION:Classic and custom car informal turn up and park event\, with live music from the Deptford Rascals plus the Vinyl countdown DJ;s. \nAlso there is a BBQ and Outdoor Bar.
URL:https://greenwichreview.com/event/jrs-cars-bikes-scooters-2/
LOCATION:John Roan Playing fields\, Roan school Playing Fields\, London\, SE3 9NF
ORGANIZER;CN="Mean OldTimers Classic Car and Motorcycle Club Greenwich":MAILTO:meanoldtimers@rocketmail.com
END:VEVENT
BEGIN:VEVENT
DTSTART;TZID=UTC:20250810T110000
DTEND;TZID=UTC:20250810T180000
DTSTAMP:20260425T153041
CREATED:20231011T120553Z
LAST-MODIFIED:20231011T120658Z
UID:10000893-1754823600-1754848800@greenwichreview.com
SUMMARY:Peninsular Market
DESCRIPTION:
URL:https://greenwichreview.com/event/2339/2025-08-10/
LOCATION:Peninsular Square\, Peninsula Square\, London\, SE10 0SQ
END:VEVENT
BEGIN:VEVENT
DTSTART;TZID=UTC:20250809T210000
DTEND;TZID=UTC:20250809T230000
DTSTAMP:20260425T153041
CREATED:20250415T211312Z
LAST-MODIFIED:20250415T211312Z
UID:10003515-1754773200-1754780400@greenwichreview.com
SUMMARY:By The Way - Red Hot Chili Peppers Experience
DESCRIPTION:Red Hot Chili Peppers tribute band.
URL:https://greenwichreview.com/event/by-the-way-red-hot-chili-peppers-experience/
LOCATION:The Pelton Arms\, 23-25 Pelton Rd\,\, London\, SE10 9PQ
END:VEVENT
BEGIN:VEVENT
DTSTART;TZID=UTC:20250809T204500
DTEND;TZID=UTC:20250809T233000
DTSTAMP:20260425T153041
CREATED:20250415T214034Z
LAST-MODIFIED:20250415T214034Z
UID:10003524-1754772300-1754782200@greenwichreview.com
SUMMARY:The Lee Harvey Oswalds
DESCRIPTION:Punk Rock cover band.
URL:https://greenwichreview.com/event/the-lee-harvey-oswalds/
LOCATION:The Lord Herbert\, 47 Herbert Rd\, London\, SE18 3SZ
END:VEVENT
BEGIN:VEVENT
DTSTART;TZID=UTC:20250809T110000
DTEND;TZID=UTC:20250809T180000
DTSTAMP:20260425T153041
CREATED:20231011T120553Z
LAST-MODIFIED:20231011T120658Z
UID:10000892-1754737200-1754762400@greenwichreview.com
SUMMARY:Peninsular Market
DESCRIPTION:
URL:https://greenwichreview.com/event/2339/2025-08-09/
LOCATION:Peninsular Square\, Peninsula Square\, London\, SE10 0SQ
END:VEVENT
BEGIN:VEVENT
DTSTART;TZID=UTC:20250809T100000
DTEND;TZID=UTC:20250809T160000
DTSTAMP:20260425T153041
CREATED:20250527T204020Z
LAST-MODIFIED:20250527T204020Z
UID:10003589-1754733600-1754755200@greenwichreview.com
SUMMARY:Royal Arsenal Farmers Market
DESCRIPTION:The Royal Arsenal Market takes place on the second and last Saturday of each month. That’s two opportunities a month to support local and small businesses. You can also find us each day at Royal Arsenal Pop-Ups for delicious street food and hot drinks.
URL:https://greenwichreview.com/event/royal-arsenal-farmers-market-30/
LOCATION:Royal Arsenal Farmers Market\, Artillery Square\, No 1 Street\, Royal Arsenal Riverside\, London\, SE18 6FB
END:VEVENT
BEGIN:VEVENT
DTSTART;TZID=UTC:20250808T170000
DTEND;TZID=UTC:20250808T210000
DTSTAMP:20260425T153042
CREATED:20250526T180224Z
LAST-MODIFIED:20250526T180224Z
UID:10003551-1754672400-1754686800@greenwichreview.com
SUMMARY:Street Food @The Castle August
DESCRIPTION:Stalls of various types of street foods at Severndroog Castle. \nLocal Street Food\, The Severndroog Bar\, live music Hour.
URL:https://greenwichreview.com/event/street-food-the-castle-august/
LOCATION:Severndroog Castle\, Castlewood Drive\, Shooters Hill\, London\, SE18 3RT
END:VEVENT
BEGIN:VEVENT
DTSTART;TZID=UTC:20250807T193000
DTEND;TZID=UTC:20250807T213000
DTSTAMP:20260425T153042
CREATED:20240427T102207Z
LAST-MODIFIED:20240427T102207Z
UID:10002216-1754595000-1754602200@greenwichreview.com
SUMMARY:Monthly Music Quiz
DESCRIPTION:Monthly music quiz every first Thursday of the month. \nBegins at 7:30 pm for an 8 pm start.
URL:https://greenwichreview.com/event/monthly-music-quiz/2025-08-07/
LOCATION:The Pelton Arms\, 23-25 Pelton Rd\,\, London\, SE10 9PQ
END:VEVENT
BEGIN:VEVENT
DTSTART;TZID=UTC:20250807T193000
DTEND;TZID=UTC:20250807T210000
DTSTAMP:20260425T153042
CREATED:20241026T203003Z
LAST-MODIFIED:20241026T203003Z
UID:10003294-1754595000-1754600400@greenwichreview.com
SUMMARY:Monthly Music Quiz
DESCRIPTION:Monthly Music Quiz. Every first Thursday of the month. \n7:30 pm for a prompt 8 pm start.
URL:https://greenwichreview.com/event/monthly-music-quiz-2/2025-08-07/
LOCATION:The Pelton Arms\, 23-25 Pelton Rd\,\, London\, SE10 9PQ
END:VEVENT
BEGIN:VEVENT
DTSTART;TZID=UTC:20250806T200000
DTEND;TZID=UTC:20250806T213000
DTSTAMP:20260425T153042
CREATED:20231015T103619Z
LAST-MODIFIED:20231015T103619Z
UID:10001345-1754510400-1754515800@greenwichreview.com
SUMMARY:Captain Cutty's Pub Quiz
DESCRIPTION:Captain Cutty’s pub quiz every Wednesday at 20:00 at the Cutty Sark pub.
URL:https://greenwichreview.com/event/captain-cuttys-pub-quiz/2025-08-06/
LOCATION:Cutty Sark Pub\, 4-6 Ballast Quay\, London\, SE10 9PD\, United Kingdom
END:VEVENT
BEGIN:VEVENT
DTSTART;TZID=UTC:20250806T193000
DTEND;TZID=UTC:20250806T203000
DTSTAMP:20260425T153042
CREATED:20241026T200507Z
LAST-MODIFIED:20241026T200507Z
UID:10003271-1754508600-1754512200@greenwichreview.com
SUMMARY:The Quiz People at the Pelton Arms
DESCRIPTION:Speed quizzing using smartphones with a £2 entry fee and cash prizes.
URL:https://greenwichreview.com/event/the-quiz-people-at-the-pelton-arms/2025-08-06/
LOCATION:The Pelton Arms\, 23-25 Pelton Rd\,\, London\, SE10 9PQ
END:VEVENT
BEGIN:VEVENT
DTSTART;TZID=UTC:20250805T200000
DTEND;TZID=UTC:20250805T210000
DTSTAMP:20260425T153042
CREATED:20241026T195923Z
LAST-MODIFIED:20250408T200331Z
UID:10003219-1754424000-1754427600@greenwichreview.com
SUMMARY:Pelton Pub Quiz
DESCRIPTION:£2 Entry fee. Cash prizes.
URL:https://greenwichreview.com/event/pelton-pub-quiz/2025-08-05/
LOCATION:The Pelton Arms\, 23-25 Pelton Rd\,\, London\, SE10 9PQ
END:VEVENT
BEGIN:VEVENT
DTSTART;TZID=UTC:20250803T120000
DTEND;TZID=UTC:20250803T170000
DTSTAMP:20260425T153042
CREATED:20250702T224010Z
LAST-MODIFIED:20250702T224010Z
UID:10003630-1754222400-1754240400@greenwichreview.com
SUMMARY:Parksfest Family Fun Day
DESCRIPTION:The Friends of Mycenae Gardens present PARKSfest 2025 Family Fun Day set in the beautiful grounds of Mycenae House & Gardens on Sunday 3 August 12-5pm! \nWith Children’s Activities / Live Music / Dance performances / Demonstrations / Face Painting / Arts / Crafts / Magic / Café Bar + more.
URL:https://greenwichreview.com/event/parksfest-family-fun-day/
LOCATION:Mycenae House and Gardens\, 90 Mycenae Road\, Blackheath Standard\, London\, SE3 7SE
END:VEVENT
BEGIN:VEVENT
DTSTART;TZID=UTC:20250803T110000
DTEND;TZID=UTC:20250803T180000
DTSTAMP:20260425T153042
CREATED:20231011T120553Z
LAST-MODIFIED:20231011T120658Z
UID:10000891-1754218800-1754244000@greenwichreview.com
SUMMARY:Peninsular Market
DESCRIPTION:
URL:https://greenwichreview.com/event/2339/2025-08-03/
LOCATION:Peninsular Square\, Peninsula Square\, London\, SE10 0SQ
END:VEVENT
BEGIN:VEVENT
DTSTART;TZID=UTC:20250802T120000
DTEND;TZID=UTC:20250802T220000
DTSTAMP:20260425T153042
CREATED:20250702T212344Z
LAST-MODIFIED:20250702T212344Z
UID:10003624-1754136000-1754172000@greenwichreview.com
SUMMARY:Shrewsbury House Summer Festival
DESCRIPTION:Summer festival at Shrewsbury House sponsored by Bexley Brewery Ltd and the Shrewsbury House Community Centre. \nLive music\, Bexley Brewery Pop-up-Bar\, family activities and market stalls\, \nChildren under 12 can go free. \nTickets for Friday 1/8/25 – https://bexleybrewery.co.uk/product/summer-festival-at-shrewsbury-house-friday-only \nTickets for Saturday 2/8/25 – https://bexleybrewery.co.uk/product/summer-festival-at-shrewsbury-house-saturday-only \n 
URL:https://greenwichreview.com/event/shrewsbury-house-summer-festival-2/
LOCATION:Shrewsbury House\, Bushmoor Cresent\, London\, SE18 3EG\, United Kingdom
END:VEVENT
END:VCALENDAR