BEGIN:VCALENDAR
VERSION:2.0
PRODID:-//Greenwich Review - ECPv6.15.20//NONSGML v1.0//EN
CALSCALE:GREGORIAN
METHOD:PUBLISH
X-ORIGINAL-URL:https://greenwichreview.com
X-WR-CALDESC:Events for Greenwich Review
REFRESH-INTERVAL;VALUE=DURATION:PT1H
X-Robots-Tag:noindex
X-PUBLISHED-TTL:PT1H
BEGIN:VTIMEZONE
TZID:UTC
BEGIN:STANDARD
TZOFFSETFROM:+0000
TZOFFSETTO:+0000
TZNAME:UTC
DTSTART:20240101T000000
END:STANDARD
END:VTIMEZONE
BEGIN:VEVENT
DTSTART;TZID=UTC:20251017T194500
DTEND;TZID=UTC:20251017T220000
DTSTAMP:20260425T153102
CREATED:20250526T205216Z
LAST-MODIFIED:20250526T205216Z
UID:10003578-1760730300-1760738400@greenwichreview.com
SUMMARY:Rent
DESCRIPTION:Bromley Players is excited to revisit Rent\, Jonathan Larson’s iconic\, Pulitzer Prize-winning musical that captivated a generation and taught us all to measure our lives in love. \n\nAbout the Play\nSet in New York City’s East Village at the dawn of the 1990s\, Rent tells the story of a group of impoverished young artists struggling to survive and create a life in bohemian Alphabet City\, all while living under the shadow of HIV/AIDS. This pop cultural phenomenon\, winner of the Tony Award for Best Musical and the Pulitzer Prize for Drama\, explores themes of falling in love\, finding your voice\, and living for today\, with rock anthems and a story that resonates with audiences of all ages.
URL:https://greenwichreview.com/event/rent-3/
LOCATION:Bob Hope Theatre\, Wythfield Road\, London\, SE9 5TG
ORGANIZER;CN="Bob Hope Theatre":MAILTO:info@bobhopetheatre.co.uk
END:VEVENT
BEGIN:VEVENT
DTSTART;TZID=UTC:20251018T110000
DTEND;TZID=UTC:20251018T180000
DTSTAMP:20260425T153102
CREATED:20231011T120553Z
LAST-MODIFIED:20231011T120658Z
UID:10000912-1760785200-1760810400@greenwichreview.com
SUMMARY:Peninsular Market
DESCRIPTION:
URL:https://greenwichreview.com/event/2339/2025-10-18/
LOCATION:Peninsular Square\, Peninsula Square\, London\, SE10 0SQ
END:VEVENT
BEGIN:VEVENT
DTSTART;TZID=UTC:20251018T194500
DTEND;TZID=UTC:20251018T220000
DTSTAMP:20260425T153102
CREATED:20250526T205324Z
LAST-MODIFIED:20250526T205324Z
UID:10003579-1760816700-1760824800@greenwichreview.com
SUMMARY:Rent
DESCRIPTION:Bromley Players is excited to revisit Rent\, Jonathan Larson’s iconic\, Pulitzer Prize-winning musical that captivated a generation and taught us all to measure our lives in love. \n\nAbout the Play\nSet in New York City’s East Village at the dawn of the 1990s\, Rent tells the story of a group of impoverished young artists struggling to survive and create a life in bohemian Alphabet City\, all while living under the shadow of HIV/AIDS. This pop cultural phenomenon\, winner of the Tony Award for Best Musical and the Pulitzer Prize for Drama\, explores themes of falling in love\, finding your voice\, and living for today\, with rock anthems and a story that resonates with audiences of all ages.
URL:https://greenwichreview.com/event/rent-4/
LOCATION:Bob Hope Theatre\, Wythfield Road\, London\, SE9 5TG
ORGANIZER;CN="Bob Hope Theatre":MAILTO:info@bobhopetheatre.co.uk
END:VEVENT
BEGIN:VEVENT
DTSTART;TZID=UTC:20251019T110000
DTEND;TZID=UTC:20251019T150000
DTSTAMP:20260425T153102
CREATED:20250415T220959Z
LAST-MODIFIED:20250415T220959Z
UID:10003532-1760871600-1760886000@greenwichreview.com
SUMMARY:Horn Fair
DESCRIPTION:The Horn Fair is back! Get ready for a fun-filled day of vibrant stalls\, live music\, delicious food\, thrilling activities\, and so much more!
URL:https://greenwichreview.com/event/horn-fair/
LOCATION:Charlton House\, Charlton House Community Centre
END:VEVENT
BEGIN:VEVENT
DTSTART;TZID=UTC:20251019T110000
DTEND;TZID=UTC:20251019T180000
DTSTAMP:20260425T153102
CREATED:20231011T120553Z
LAST-MODIFIED:20231011T120658Z
UID:10000913-1760871600-1760896800@greenwichreview.com
SUMMARY:Peninsular Market
DESCRIPTION:
URL:https://greenwichreview.com/event/2339/2025-10-19/
LOCATION:Peninsular Square\, Peninsula Square\, London\, SE10 0SQ
END:VEVENT
BEGIN:VEVENT
DTSTART;TZID=UTC:20251021T200000
DTEND;TZID=UTC:20251021T210000
DTSTAMP:20260425T153102
CREATED:20241026T195923Z
LAST-MODIFIED:20250408T200331Z
UID:10003230-1761076800-1761080400@greenwichreview.com
SUMMARY:Pelton Pub Quiz
DESCRIPTION:£2 Entry fee. Cash prizes.
URL:https://greenwichreview.com/event/pelton-pub-quiz/2025-10-21/
LOCATION:The Pelton Arms\, 23-25 Pelton Rd\,\, London\, SE10 9PQ
END:VEVENT
BEGIN:VEVENT
DTSTART;TZID=UTC:20251022T193000
DTEND;TZID=UTC:20251022T203000
DTSTAMP:20260425T153102
CREATED:20241026T200507Z
LAST-MODIFIED:20241026T200507Z
UID:10003282-1761161400-1761165000@greenwichreview.com
SUMMARY:The Quiz People at the Pelton Arms
DESCRIPTION:Speed quizzing using smartphones with a £2 entry fee and cash prizes.
URL:https://greenwichreview.com/event/the-quiz-people-at-the-pelton-arms/2025-10-22/
LOCATION:The Pelton Arms\, 23-25 Pelton Rd\,\, London\, SE10 9PQ
END:VEVENT
BEGIN:VEVENT
DTSTART;TZID=UTC:20251022T200000
DTEND;TZID=UTC:20251022T213000
DTSTAMP:20260425T153102
CREATED:20231015T103619Z
LAST-MODIFIED:20231015T103619Z
UID:10001356-1761163200-1761168600@greenwichreview.com
SUMMARY:Captain Cutty's Pub Quiz
DESCRIPTION:Captain Cutty’s pub quiz every Wednesday at 20:00 at the Cutty Sark pub.
URL:https://greenwichreview.com/event/captain-cuttys-pub-quiz/2025-10-22/
LOCATION:Cutty Sark Pub\, 4-6 Ballast Quay\, London\, SE10 9PD\, United Kingdom
END:VEVENT
BEGIN:VEVENT
DTSTART;TZID=UTC:20251025T100000
DTEND;TZID=UTC:20251025T160000
DTSTAMP:20260425T153102
CREATED:20250527T204714Z
LAST-MODIFIED:20250527T204714Z
UID:10003595-1761386400-1761408000@greenwichreview.com
SUMMARY:Royal Arsenal Farmers Market
DESCRIPTION:The Royal Arsenal Market takes place on the second and last Saturday of each month. That’s two opportunities a month to support local and small businesses. You can also find us each day at Royal Arsenal Pop-Ups for delicious street food and hot drinks.
URL:https://greenwichreview.com/event/royal-arsenal-farmers-market-36/
LOCATION:Royal Arsenal Farmers Market\, Artillery Square\, No 1 Street\, Royal Arsenal Riverside\, London\, SE18 6FB
END:VEVENT
BEGIN:VEVENT
DTSTART;TZID=UTC:20251025T110000
DTEND;TZID=UTC:20251025T180000
DTSTAMP:20260425T153102
CREATED:20231011T120553Z
LAST-MODIFIED:20231011T120658Z
UID:10000914-1761390000-1761415200@greenwichreview.com
SUMMARY:Peninsular Market
DESCRIPTION:
URL:https://greenwichreview.com/event/2339/2025-10-25/
LOCATION:Peninsular Square\, Peninsula Square\, London\, SE10 0SQ
END:VEVENT
BEGIN:VEVENT
DTSTART;TZID=UTC:20251026T110000
DTEND;TZID=UTC:20251026T180000
DTSTAMP:20260425T153102
CREATED:20231011T120553Z
LAST-MODIFIED:20231011T120658Z
UID:10000915-1761476400-1761501600@greenwichreview.com
SUMMARY:Peninsular Market
DESCRIPTION:
URL:https://greenwichreview.com/event/2339/2025-10-26/
LOCATION:Peninsular Square\, Peninsula Square\, London\, SE10 0SQ
END:VEVENT
BEGIN:VEVENT
DTSTART;TZID=UTC:20251029T200000
DTEND;TZID=UTC:20251029T213000
DTSTAMP:20260425T153102
CREATED:20231015T103619Z
LAST-MODIFIED:20231015T103619Z
UID:10001357-1761768000-1761773400@greenwichreview.com
SUMMARY:Captain Cutty's Pub Quiz
DESCRIPTION:Captain Cutty’s pub quiz every Wednesday at 20:00 at the Cutty Sark pub.
URL:https://greenwichreview.com/event/captain-cuttys-pub-quiz/2025-10-29/
LOCATION:Cutty Sark Pub\, 4-6 Ballast Quay\, London\, SE10 9PD\, United Kingdom
END:VEVENT
BEGIN:VEVENT
DTSTART;TZID=UTC:20251101T110000
DTEND;TZID=UTC:20251101T180000
DTSTAMP:20260425T153102
CREATED:20231011T120553Z
LAST-MODIFIED:20231011T120658Z
UID:10000916-1761994800-1762020000@greenwichreview.com
SUMMARY:Peninsular Market
DESCRIPTION:
URL:https://greenwichreview.com/event/2339/2025-11-01/
LOCATION:Peninsular Square\, Peninsula Square\, London\, SE10 0SQ
END:VEVENT
BEGIN:VEVENT
DTSTART;TZID=UTC:20251102T110000
DTEND;TZID=UTC:20251102T180000
DTSTAMP:20260425T153102
CREATED:20231011T120553Z
LAST-MODIFIED:20231011T120658Z
UID:10000917-1762081200-1762106400@greenwichreview.com
SUMMARY:Peninsular Market
DESCRIPTION:
URL:https://greenwichreview.com/event/2339/2025-11-02/
LOCATION:Peninsular Square\, Peninsula Square\, London\, SE10 0SQ
END:VEVENT
BEGIN:VEVENT
DTSTART;TZID=UTC:20251105T200000
DTEND;TZID=UTC:20251105T213000
DTSTAMP:20260425T153102
CREATED:20231015T103619Z
LAST-MODIFIED:20231015T103619Z
UID:10001358-1762372800-1762378200@greenwichreview.com
SUMMARY:Captain Cutty's Pub Quiz
DESCRIPTION:Captain Cutty’s pub quiz every Wednesday at 20:00 at the Cutty Sark pub.
URL:https://greenwichreview.com/event/captain-cuttys-pub-quiz/2025-11-05/
LOCATION:Cutty Sark Pub\, 4-6 Ballast Quay\, London\, SE10 9PD\, United Kingdom
END:VEVENT
BEGIN:VEVENT
DTSTART;TZID=UTC:20251106T193000
DTEND;TZID=UTC:20251106T213000
DTSTAMP:20260425T153102
CREATED:20240427T102207Z
LAST-MODIFIED:20240427T102207Z
UID:10002219-1762457400-1762464600@greenwichreview.com
SUMMARY:Monthly Music Quiz
DESCRIPTION:Monthly music quiz every first Thursday of the month. \nBegins at 7:30 pm for an 8 pm start.
URL:https://greenwichreview.com/event/monthly-music-quiz/2025-11-06/
LOCATION:The Pelton Arms\, 23-25 Pelton Rd\,\, London\, SE10 9PQ
END:VEVENT
BEGIN:VEVENT
DTSTART;TZID=UTC:20251108T100000
DTEND;TZID=UTC:20251108T160000
DTSTAMP:20260425T153102
CREATED:20250527T205527Z
LAST-MODIFIED:20250527T205527Z
UID:10003596-1762596000-1762617600@greenwichreview.com
SUMMARY:Royal Arsenal Farmers Market
DESCRIPTION:The Royal Arsenal Market takes place on the second and last Saturday of each month. That’s two opportunities a month to support local and small businesses. You can also find us each day at Royal Arsenal Pop-Ups for delicious street food and hot drinks.
URL:https://greenwichreview.com/event/royal-arsenal-farmers-market-37/
LOCATION:Royal Arsenal Farmers Market\, Artillery Square\, No 1 Street\, Royal Arsenal Riverside\, London\, SE18 6FB
END:VEVENT
BEGIN:VEVENT
DTSTART;TZID=UTC:20251108T110000
DTEND;TZID=UTC:20251108T180000
DTSTAMP:20260425T153102
CREATED:20231011T120553Z
LAST-MODIFIED:20231011T120658Z
UID:10000918-1762599600-1762624800@greenwichreview.com
SUMMARY:Peninsular Market
DESCRIPTION:
URL:https://greenwichreview.com/event/2339/2025-11-08/
LOCATION:Peninsular Square\, Peninsula Square\, London\, SE10 0SQ
END:VEVENT
BEGIN:VEVENT
DTSTART;TZID=UTC:20251109T110000
DTEND;TZID=UTC:20251109T180000
DTSTAMP:20260425T153102
CREATED:20231011T120553Z
LAST-MODIFIED:20231011T120658Z
UID:10000919-1762686000-1762711200@greenwichreview.com
SUMMARY:Peninsular Market
DESCRIPTION:
URL:https://greenwichreview.com/event/2339/2025-11-09/
LOCATION:Peninsular Square\, Peninsula Square\, London\, SE10 0SQ
END:VEVENT
BEGIN:VEVENT
DTSTART;TZID=UTC:20251109T170000
DTEND;TZID=UTC:20251109T193000
DTSTAMP:20260425T153102
CREATED:20250415T211956Z
LAST-MODIFIED:20250415T211956Z
UID:10003517-1762707600-1762716600@greenwichreview.com
SUMMARY:The Mayans Allstars
DESCRIPTION:The Mayans are an instrumental combo blending jazz-funk and Latin-soul influences.
URL:https://greenwichreview.com/event/the-mayans-allstars-2/
LOCATION:The Pelton Arms\, 23-25 Pelton Rd\,\, London\, SE10 9PQ
END:VEVENT
BEGIN:VEVENT
DTSTART;TZID=UTC:20251110T080000
DTEND;TZID=UTC:20251110T170000
DTSTAMP:20260425T153102
CREATED:20251110T205241Z
LAST-MODIFIED:20251110T205241Z
UID:10003644-1762761600-1762794000@greenwichreview.com
SUMMARY:Southeast Sessions
DESCRIPTION:Acoustic songwriters night in Southeast London. New and original and established songwriters give samples of their songs. \nA different selection of artists line up each month.
URL:https://greenwichreview.com/event/southeast-sessions/
LOCATION:St Richards Church\, Swallowfield Road\, London\, SE7 7NA\, United Kingdom
END:VEVENT
BEGIN:VEVENT
DTSTART;TZID=UTC:20251112T193000
DTEND;TZID=UTC:20251112T213000
DTSTAMP:20260425T153102
CREATED:20250507T215102Z
LAST-MODIFIED:20250507T215102Z
UID:10003544-1762975800-1762983000@greenwichreview.com
SUMMARY:The quacks and charlatans of medicine
DESCRIPTION:Neuroscientist\, Dr Jenny Lange’s talk will explore the historical contrast between the life-saving advancements of scientific medical research and the persistent issue of fraudulent medical practices. Despite modern medical progress\, a resurgence of fake medicines and misinformation\, fuelled by social media and distrust in experts post-COVID-19\, is evident. Dr Lange will delve into historical examples of medical grifters\, from the “goat-gland doctor” to proponents of dangerous remedies like radium therapy and more recent examples like the “Church of Bleach\,” highlighting the enduring vulnerability of people to medical quackery.
URL:https://greenwichreview.com/event/the-quacks-and-charlatans-of-medicine/
LOCATION:Duke of Greenwich\, 91 Colomb Street\, London\, SE10 9EZ
ORGANIZER;CN="Greenwich Skeptics In The Pub":MAILTO:contact@sitp.online
END:VEVENT
BEGIN:VEVENT
DTSTART;TZID=UTC:20251112T200000
DTEND;TZID=UTC:20251112T213000
DTSTAMP:20260425T153102
CREATED:20231015T103619Z
LAST-MODIFIED:20231015T103619Z
UID:10001359-1762977600-1762983000@greenwichreview.com
SUMMARY:Captain Cutty's Pub Quiz
DESCRIPTION:Captain Cutty’s pub quiz every Wednesday at 20:00 at the Cutty Sark pub.
URL:https://greenwichreview.com/event/captain-cuttys-pub-quiz/2025-11-12/
LOCATION:Cutty Sark Pub\, 4-6 Ballast Quay\, London\, SE10 9PD\, United Kingdom
END:VEVENT
BEGIN:VEVENT
DTSTART;TZID=UTC:20251115T110000
DTEND;TZID=UTC:20251115T180000
DTSTAMP:20260425T153102
CREATED:20231011T120553Z
LAST-MODIFIED:20231011T120658Z
UID:10000920-1763204400-1763229600@greenwichreview.com
SUMMARY:Peninsular Market
DESCRIPTION:
URL:https://greenwichreview.com/event/2339/2025-11-15/
LOCATION:Peninsular Square\, Peninsula Square\, London\, SE10 0SQ
END:VEVENT
BEGIN:VEVENT
DTSTART;TZID=UTC:20251115T190000
DTEND;TZID=UTC:20251115T213000
DTSTAMP:20260425T153102
CREATED:20250415T212521Z
LAST-MODIFIED:20250415T212521Z
UID:10003518-1763233200-1763242200@greenwichreview.com
SUMMARY:Pure Weller
DESCRIPTION:Paul Weller and Style Council tribute band.
URL:https://greenwichreview.com/event/pure-weller-2/
LOCATION:The Pelton Arms\, 23-25 Pelton Rd\,\, London\, SE10 9PQ
END:VEVENT
BEGIN:VEVENT
DTSTART;TZID=UTC:20251116T110000
DTEND;TZID=UTC:20251116T180000
DTSTAMP:20260425T153102
CREATED:20231011T120553Z
LAST-MODIFIED:20231011T120658Z
UID:10000921-1763290800-1763316000@greenwichreview.com
SUMMARY:Peninsular Market
DESCRIPTION:
URL:https://greenwichreview.com/event/2339/2025-11-16/
LOCATION:Peninsular Square\, Peninsula Square\, London\, SE10 0SQ
END:VEVENT
BEGIN:VEVENT
DTSTART;TZID=UTC:20251119T200000
DTEND;TZID=UTC:20251119T213000
DTSTAMP:20260425T153102
CREATED:20231015T103619Z
LAST-MODIFIED:20231015T103619Z
UID:10001360-1763582400-1763587800@greenwichreview.com
SUMMARY:Captain Cutty's Pub Quiz
DESCRIPTION:Captain Cutty’s pub quiz every Wednesday at 20:00 at the Cutty Sark pub.
URL:https://greenwichreview.com/event/captain-cuttys-pub-quiz/2025-11-19/
LOCATION:Cutty Sark Pub\, 4-6 Ballast Quay\, London\, SE10 9PD\, United Kingdom
END:VEVENT
BEGIN:VEVENT
DTSTART;TZID=UTC:20251121T100000
DTEND;TZID=UTC:20251121T210000
DTSTAMP:20260425T153102
CREATED:20251219T103924Z
LAST-MODIFIED:20251219T103924Z
UID:10004102-1763719200-1763758800@greenwichreview.com
SUMMARY:Queens House Ice Rink
DESCRIPTION:Adult: from £19.00\nChildren: From £16.50\nFamily: From £49.95
URL:https://greenwichreview.com/event/queens-house-ice-rink/2025-11-21/
LOCATION:Queens House\, Romney Rd\, London\, SE10 9NF\, United Kingdom
END:VEVENT
BEGIN:VEVENT
DTSTART;TZID=UTC:20251121T200000
DTEND;TZID=UTC:20251121T223000
DTSTAMP:20260425T153102
CREATED:20250415T205707Z
LAST-MODIFIED:20250415T205707Z
UID:10003512-1763755200-1763764200@greenwichreview.com
SUMMARY:The Skylites
DESCRIPTION:Ska and Two Tone band.
URL:https://greenwichreview.com/event/the-skylites-2/
LOCATION:The Pelton Arms\, 23-25 Pelton Rd\,\, London\, SE10 9PQ
END:VEVENT
BEGIN:VEVENT
DTSTART;TZID=UTC:20251122T100000
DTEND;TZID=UTC:20251122T210000
DTSTAMP:20260425T153102
CREATED:20251219T103924Z
LAST-MODIFIED:20251219T103924Z
UID:10004103-1763805600-1763845200@greenwichreview.com
SUMMARY:Queens House Ice Rink
DESCRIPTION:Adult: from £19.00\nChildren: From £16.50\nFamily: From £49.95
URL:https://greenwichreview.com/event/queens-house-ice-rink/2025-11-22/
LOCATION:Queens House\, Romney Rd\, London\, SE10 9NF\, United Kingdom
END:VEVENT
END:VCALENDAR