BEGIN:VCALENDAR
VERSION:2.0
PRODID:-//Greenwich Review - ECPv6.15.20//NONSGML v1.0//EN
CALSCALE:GREGORIAN
METHOD:PUBLISH
X-WR-CALNAME:Greenwich Review
X-ORIGINAL-URL:https://greenwichreview.com
X-WR-CALDESC:Events for Greenwich Review
REFRESH-INTERVAL;VALUE=DURATION:PT1H
X-Robots-Tag:noindex
X-PUBLISHED-TTL:PT1H
BEGIN:VTIMEZONE
TZID:UTC
BEGIN:STANDARD
TZOFFSETFROM:+0000
TZOFFSETTO:+0000
TZNAME:UTC
DTSTART:20240101T000000
END:STANDARD
END:VTIMEZONE
BEGIN:VEVENT
DTSTART;TZID=UTC:20250806T200000
DTEND;TZID=UTC:20250806T213000
DTSTAMP:20260425T190535
CREATED:20231015T103619Z
LAST-MODIFIED:20231015T103619Z
UID:10001345-1754510400-1754515800@greenwichreview.com
SUMMARY:Captain Cutty's Pub Quiz
DESCRIPTION:Captain Cutty’s pub quiz every Wednesday at 20:00 at the Cutty Sark pub.
URL:https://greenwichreview.com/event/captain-cuttys-pub-quiz/2025-08-06/
LOCATION:Cutty Sark Pub\, 4-6 Ballast Quay\, London\, SE10 9PD\, United Kingdom
END:VEVENT
BEGIN:VEVENT
DTSTART;TZID=UTC:20250806T193000
DTEND;TZID=UTC:20250806T203000
DTSTAMP:20260425T190535
CREATED:20241026T200507Z
LAST-MODIFIED:20241026T200507Z
UID:10003271-1754508600-1754512200@greenwichreview.com
SUMMARY:The Quiz People at the Pelton Arms
DESCRIPTION:Speed quizzing using smartphones with a £2 entry fee and cash prizes.
URL:https://greenwichreview.com/event/the-quiz-people-at-the-pelton-arms/2025-08-06/
LOCATION:The Pelton Arms\, 23-25 Pelton Rd\,\, London\, SE10 9PQ
END:VEVENT
BEGIN:VEVENT
DTSTART;TZID=UTC:20250805T200000
DTEND;TZID=UTC:20250805T210000
DTSTAMP:20260425T190535
CREATED:20241026T195923Z
LAST-MODIFIED:20250408T200331Z
UID:10003219-1754424000-1754427600@greenwichreview.com
SUMMARY:Pelton Pub Quiz
DESCRIPTION:£2 Entry fee. Cash prizes.
URL:https://greenwichreview.com/event/pelton-pub-quiz/2025-08-05/
LOCATION:The Pelton Arms\, 23-25 Pelton Rd\,\, London\, SE10 9PQ
END:VEVENT
BEGIN:VEVENT
DTSTART;TZID=UTC:20250803T120000
DTEND;TZID=UTC:20250803T170000
DTSTAMP:20260425T190535
CREATED:20250702T224010Z
LAST-MODIFIED:20250702T224010Z
UID:10003630-1754222400-1754240400@greenwichreview.com
SUMMARY:Parksfest Family Fun Day
DESCRIPTION:The Friends of Mycenae Gardens present PARKSfest 2025 Family Fun Day set in the beautiful grounds of Mycenae House & Gardens on Sunday 3 August 12-5pm! \nWith Children’s Activities / Live Music / Dance performances / Demonstrations / Face Painting / Arts / Crafts / Magic / Café Bar + more.
URL:https://greenwichreview.com/event/parksfest-family-fun-day/
LOCATION:Mycenae House and Gardens\, 90 Mycenae Road\, Blackheath Standard\, London\, SE3 7SE
END:VEVENT
BEGIN:VEVENT
DTSTART;TZID=UTC:20250803T110000
DTEND;TZID=UTC:20250803T180000
DTSTAMP:20260425T190535
CREATED:20231011T120553Z
LAST-MODIFIED:20231011T120658Z
UID:10000891-1754218800-1754244000@greenwichreview.com
SUMMARY:Peninsular Market
DESCRIPTION:
URL:https://greenwichreview.com/event/2339/2025-08-03/
LOCATION:Peninsular Square\, Peninsula Square\, London\, SE10 0SQ
END:VEVENT
BEGIN:VEVENT
DTSTART;TZID=UTC:20250802T120000
DTEND;TZID=UTC:20250802T220000
DTSTAMP:20260425T190535
CREATED:20250702T212344Z
LAST-MODIFIED:20250702T212344Z
UID:10003624-1754136000-1754172000@greenwichreview.com
SUMMARY:Shrewsbury House Summer Festival
DESCRIPTION:Summer festival at Shrewsbury House sponsored by Bexley Brewery Ltd and the Shrewsbury House Community Centre. \nLive music\, Bexley Brewery Pop-up-Bar\, family activities and market stalls\, \nChildren under 12 can go free. \nTickets for Friday 1/8/25 – https://bexleybrewery.co.uk/product/summer-festival-at-shrewsbury-house-friday-only \nTickets for Saturday 2/8/25 – https://bexleybrewery.co.uk/product/summer-festival-at-shrewsbury-house-saturday-only \n 
URL:https://greenwichreview.com/event/shrewsbury-house-summer-festival-2/
LOCATION:Shrewsbury House\, Bushmoor Cresent\, London\, SE18 3EG\, United Kingdom
END:VEVENT
BEGIN:VEVENT
DTSTART;TZID=UTC:20250802T120000
DTEND;TZID=UTC:20250802T193000
DTSTAMP:20260425T190535
CREATED:20250709T193025Z
LAST-MODIFIED:20250709T193025Z
UID:10003637-1754136000-1754163000@greenwichreview.com
SUMMARY:Thamesmead Festival 2025
DESCRIPTION:Thamesmead community festival 2025. \nInternationally acclaimed neo-soul pioneer Omar will be headlining\, cementing the festival’s reputation as one of London’s most distinctive cultural events. \nAcross four performance stages\, festival-goers will be able to experience everything from Afrobeat\, R&B\, rock and pop to spoken word\, comedy\, and street dance\, plus a market featuring local artists\, artisans and food vendors.
URL:https://greenwichreview.com/event/thamesmead-festival-2025/
LOCATION:Southmere Park\, Hartslock Drive\, London\, SE2 9XA
END:VEVENT
BEGIN:VEVENT
DTSTART;TZID=UTC:20250802T110000
DTEND;TZID=UTC:20250802T180000
DTSTAMP:20260425T190535
CREATED:20231011T120553Z
LAST-MODIFIED:20231011T120658Z
UID:10000890-1754132400-1754157600@greenwichreview.com
SUMMARY:Peninsular Market
DESCRIPTION:
URL:https://greenwichreview.com/event/2339/2025-08-02/
LOCATION:Peninsular Square\, Peninsula Square\, London\, SE10 0SQ
END:VEVENT
BEGIN:VEVENT
DTSTART;TZID=UTC:20250801T210000
DTEND;TZID=UTC:20250801T235900
DTSTAMP:20260425T190535
CREATED:20250709T200852Z
LAST-MODIFIED:20250709T200852Z
UID:10003639-1754082000-1754092740@greenwichreview.com
SUMMARY:Dusk Till Dawn: Reloaded
DESCRIPTION:
URL:https://greenwichreview.com/event/dusk-till-dawn-reloaded/
LOCATION:Severndroog Castle\, Castlewood Drive\, Shooters Hill\, London\, SE18 3RT
END:VEVENT
BEGIN:VEVENT
DTSTART;TZID=UTC:20250801T183000
DTEND;TZID=UTC:20250801T220000
DTSTAMP:20260425T190535
CREATED:20250702T212233Z
LAST-MODIFIED:20250702T212233Z
UID:10003623-1754073000-1754085600@greenwichreview.com
SUMMARY:Shrewsbury House Summer Festival
DESCRIPTION:Summer festival at Shrewsbury House sponsored by Bexley Brewery Ltd and the Shrewsbury House Community Centre. \nLive music\, Bexley Brewery Pop-up-Bar\, family activities and market stalls\, \nChildren under 12 can go free. \nTickets for Friday 1/8/25 – https://bexleybrewery.co.uk/product/summer-festival-at-shrewsbury-house-friday-only \nTickets for Saturday 2/8/25 – https://bexleybrewery.co.uk/product/summer-festival-at-shrewsbury-house-saturday-only \n 
URL:https://greenwichreview.com/event/shrewsbury-house-summer-festival/
LOCATION:Shrewsbury House\, Bushmoor Cresent\, London\, SE18 3EG\, United Kingdom
END:VEVENT
BEGIN:VEVENT
DTSTART;TZID=UTC:20250731T193000
DTEND;TZID=UTC:20250731T220000
DTSTAMP:20260425T190535
CREATED:20250526T175051Z
LAST-MODIFIED:20250526T175051Z
UID:10003550-1753990200-1753999200@greenwichreview.com
SUMMARY:Summer Lovin - Park It in the Market Summer Special
DESCRIPTION:60s American music with Hawaiian shirts and classic cars and cruisers and classic motorcycles.
URL:https://greenwichreview.com/event/summer-lovin-park-it-in-the-market-summer-special/
LOCATION:Greenwich Market\, 5B Greenwich Market\,\, London\, SE10 9HZ\, United Kingdom
END:VEVENT
BEGIN:VEVENT
DTSTART;TZID=UTC:20250730T200000
DTEND;TZID=UTC:20250730T213000
DTSTAMP:20260425T190535
CREATED:20231015T103619Z
LAST-MODIFIED:20231015T103619Z
UID:10001344-1753905600-1753911000@greenwichreview.com
SUMMARY:Captain Cutty's Pub Quiz
DESCRIPTION:Captain Cutty’s pub quiz every Wednesday at 20:00 at the Cutty Sark pub.
URL:https://greenwichreview.com/event/captain-cuttys-pub-quiz/2025-07-30/
LOCATION:Cutty Sark Pub\, 4-6 Ballast Quay\, London\, SE10 9PD\, United Kingdom
END:VEVENT
BEGIN:VEVENT
DTSTART;TZID=UTC:20250730T193000
DTEND;TZID=UTC:20250730T203000
DTSTAMP:20260425T190535
CREATED:20241026T200507Z
LAST-MODIFIED:20241026T200507Z
UID:10003270-1753903800-1753907400@greenwichreview.com
SUMMARY:The Quiz People at the Pelton Arms
DESCRIPTION:Speed quizzing using smartphones with a £2 entry fee and cash prizes.
URL:https://greenwichreview.com/event/the-quiz-people-at-the-pelton-arms/2025-07-30/
LOCATION:The Pelton Arms\, 23-25 Pelton Rd\,\, London\, SE10 9PQ
END:VEVENT
BEGIN:VEVENT
DTSTART;TZID=UTC:20250729T210000
DTEND;TZID=UTC:20250729T235900
DTSTAMP:20260425T190535
CREATED:20250408T214443Z
LAST-MODIFIED:20250408T214443Z
UID:10003493-1753822800-1753833540@greenwichreview.com
SUMMARY:Lets get Quizzing with Miss Aisles
DESCRIPTION:Join the hot mess express Miss Aisles as she brings the Quiz with a twist every other Tuesday
URL:https://greenwichreview.com/event/lets-get-quizzing-with-miss-aisles-9/
LOCATION:Ye Olde Rose and Crown Greenwich\, 1 Crooms Hill\, London\, SE10 8ER\, United Kingdom
END:VEVENT
BEGIN:VEVENT
DTSTART;TZID=UTC:20250729T200000
DTEND;TZID=UTC:20250729T210000
DTSTAMP:20260425T190535
CREATED:20241026T195923Z
LAST-MODIFIED:20250408T200331Z
UID:10003218-1753819200-1753822800@greenwichreview.com
SUMMARY:Pelton Pub Quiz
DESCRIPTION:£2 Entry fee. Cash prizes.
URL:https://greenwichreview.com/event/pelton-pub-quiz/2025-07-29/
LOCATION:The Pelton Arms\, 23-25 Pelton Rd\,\, London\, SE10 9PQ
END:VEVENT
BEGIN:VEVENT
DTSTART;TZID=UTC:20250727T110000
DTEND;TZID=UTC:20250727T180000
DTSTAMP:20260425T190535
CREATED:20231011T120553Z
LAST-MODIFIED:20231011T120658Z
UID:10000889-1753614000-1753639200@greenwichreview.com
SUMMARY:Peninsular Market
DESCRIPTION:
URL:https://greenwichreview.com/event/2339/2025-07-27/
LOCATION:Peninsular Square\, Peninsula Square\, London\, SE10 0SQ
END:VEVENT
BEGIN:VEVENT
DTSTART;TZID=UTC:20250726T200000
DTEND;TZID=UTC:20250726T233000
DTSTAMP:20260425T190535
CREATED:20250415T213522Z
LAST-MODIFIED:20250415T214317Z
UID:10003522-1753560000-1753572600@greenwichreview.com
SUMMARY:CIRCA79
DESCRIPTION:Ska\, Two Tone/New Wave/Punk covers\,
URL:https://greenwichreview.com/event/circa79/
LOCATION:The Lord Herbert\, 47 Herbert Rd\, London\, SE18 3SZ
END:VEVENT
BEGIN:VEVENT
DTSTART;TZID=UTC:20250726T120000
DTEND;TZID=UTC:20250726T210000
DTSTAMP:20260425T190535
CREATED:20250709T185105Z
LAST-MODIFIED:20250709T185105Z
UID:10003634-1753531200-1753563600@greenwichreview.com
SUMMARY:Rhythm & Taste: Jazz & Food Festival
DESCRIPTION:Different genres of jazz\, bold street food\, and roaming performances. With live headline sets\, vinyl DJs\, pop-up dance and vibrant market stalls. \n  \nThe event if free but a ticket is required for entry due to crowd management and to prevent overcrowding. \nClick on the book now button on the event webpage.
URL:https://greenwichreview.com/event/rhythm-taste-jazz-food-festival/
LOCATION:Greenwich Peninsula\, Soames Walk\, London\, SE10 0SQ
END:VEVENT
BEGIN:VEVENT
DTSTART;TZID=UTC:20250726T120000
DTEND;TZID=UTC:20250726T170000
DTSTAMP:20260425T190535
CREATED:20250526T183105Z
LAST-MODIFIED:20250526T183105Z
UID:10003555-1753531200-1753549200@greenwichreview.com
SUMMARY:Dockyard Festival
DESCRIPTION:Dance to live performances from great artists\, indulge in delicious street food\, and enjoy a variety of exciting activities for the kids. Whether you’re a music lover\, foodie\, or just looking for a good time\, this event has something for everyone.
URL:https://greenwichreview.com/event/dockyard-festival/
LOCATION:Clockhouse and New Carlton Community Centre\, Defiance Walk\, London\, SE18 5QL\, United Kingdom
ORGANIZER;CN="Clockhouse and New Charlton Communty Centre":MAILTO:clockhouse.newcharlton@outlook.com
END:VEVENT
BEGIN:VEVENT
DTSTART;TZID=UTC:20250726T110000
DTEND;TZID=UTC:20250726T180000
DTSTAMP:20260425T190535
CREATED:20231011T120553Z
LAST-MODIFIED:20231011T120658Z
UID:10000888-1753527600-1753552800@greenwichreview.com
SUMMARY:Peninsular Market
DESCRIPTION:
URL:https://greenwichreview.com/event/2339/2025-07-26/
LOCATION:Peninsular Square\, Peninsula Square\, London\, SE10 0SQ
END:VEVENT
BEGIN:VEVENT
DTSTART;TZID=UTC:20250726T100000
DTEND;TZID=UTC:20250726T160000
DTSTAMP:20260425T190535
CREATED:20250527T203929Z
LAST-MODIFIED:20250527T203929Z
UID:10003588-1753524000-1753545600@greenwichreview.com
SUMMARY:Royal Arsenal Farmers Market
DESCRIPTION:The Royal Arsenal Market takes place on the second and last Saturday of each month. That’s two opportunities a month to support local and small businesses. You can also find us each day at Royal Arsenal Pop-Ups for delicious street food and hot drinks.
URL:https://greenwichreview.com/event/royal-arsenal-farmers-market-29/
LOCATION:Royal Arsenal Farmers Market\, Artillery Square\, No 1 Street\, Royal Arsenal Riverside\, London\, SE18 6FB
END:VEVENT
BEGIN:VEVENT
DTSTART;TZID=UTC:20250723T200000
DTEND;TZID=UTC:20250723T213000
DTSTAMP:20260425T190535
CREATED:20231015T103619Z
LAST-MODIFIED:20231015T103619Z
UID:10001343-1753300800-1753306200@greenwichreview.com
SUMMARY:Captain Cutty's Pub Quiz
DESCRIPTION:Captain Cutty’s pub quiz every Wednesday at 20:00 at the Cutty Sark pub.
URL:https://greenwichreview.com/event/captain-cuttys-pub-quiz/2025-07-23/
LOCATION:Cutty Sark Pub\, 4-6 Ballast Quay\, London\, SE10 9PD\, United Kingdom
END:VEVENT
BEGIN:VEVENT
DTSTART;TZID=UTC:20250723T193000
DTEND;TZID=UTC:20250723T203000
DTSTAMP:20260425T190535
CREATED:20241026T200507Z
LAST-MODIFIED:20241026T200507Z
UID:10003269-1753299000-1753302600@greenwichreview.com
SUMMARY:The Quiz People at the Pelton Arms
DESCRIPTION:Speed quizzing using smartphones with a £2 entry fee and cash prizes.
URL:https://greenwichreview.com/event/the-quiz-people-at-the-pelton-arms/2025-07-23/
LOCATION:The Pelton Arms\, 23-25 Pelton Rd\,\, London\, SE10 9PQ
END:VEVENT
BEGIN:VEVENT
DTSTART;TZID=UTC:20250722T210000
DTEND;TZID=UTC:20250722T235900
DTSTAMP:20260425T190535
CREATED:20250408T212903Z
LAST-MODIFIED:20250408T212903Z
UID:10003485-1753218000-1753228740@greenwichreview.com
SUMMARY:Miss Aisles Bingo
DESCRIPTION:Join the outrageous Miss Aisles for Bingo\, where she will be discussing the latest hot topics calling those all important numbers and singing some songs
URL:https://greenwichreview.com/event/miss-aisles-bingo-11/
LOCATION:Ye Olde Rose and Crown Greenwich\, 1 Crooms Hill\, London\, SE10 8ER\, United Kingdom
END:VEVENT
BEGIN:VEVENT
DTSTART;TZID=UTC:20250722T200000
DTEND;TZID=UTC:20250722T210000
DTSTAMP:20260425T190535
CREATED:20241026T195923Z
LAST-MODIFIED:20250408T200331Z
UID:10003217-1753214400-1753218000@greenwichreview.com
SUMMARY:Pelton Pub Quiz
DESCRIPTION:£2 Entry fee. Cash prizes.
URL:https://greenwichreview.com/event/pelton-pub-quiz/2025-07-22/
LOCATION:The Pelton Arms\, 23-25 Pelton Rd\,\, London\, SE10 9PQ
END:VEVENT
BEGIN:VEVENT
DTSTART;TZID=UTC:20250720T110000
DTEND;TZID=UTC:20250720T180000
DTSTAMP:20260425T190535
CREATED:20231011T120553Z
LAST-MODIFIED:20231011T120658Z
UID:10000887-1753009200-1753034400@greenwichreview.com
SUMMARY:Peninsular Market
DESCRIPTION:
URL:https://greenwichreview.com/event/2339/2025-07-20/
LOCATION:Peninsular Square\, Peninsula Square\, London\, SE10 0SQ
END:VEVENT
BEGIN:VEVENT
DTSTART;TZID=UTC:20250719T123000
DTEND;TZID=UTC:20250719T220000
DTSTAMP:20260425T190535
CREATED:20250709T190414Z
LAST-MODIFIED:20250709T190414Z
UID:10003636-1752928200-1752962400@greenwichreview.com
SUMMARY:Summer Holiday 2 - Free Vintage Bus ride around 3 pubs
DESCRIPTION:A free open top bus will ferry you between The Green Goddess\, The Shirkers Rest and The Rusty Bucket Eltham. Just show up\, hop on\, hop off\, and experience all three pubs in a single afternoon. \nThe Open Top bus will start the day at 12:30 at The Rusty Bucket Bexley\, and will also finish there around 22:00. \nFor all the info and a timetable visit: https://www.thegreengoddess.pub/shirkrustpray
URL:https://greenwichreview.com/event/summer-holiday-2-free-vintage-bus-ride-around-3-pubs/
LOCATION:The Rusty Bucket\, 11 Court Yard\,\, London\, SE9 5PR
END:VEVENT
BEGIN:VEVENT
DTSTART;TZID=UTC:20250719T110000
DTEND;TZID=UTC:20250719T180000
DTSTAMP:20260425T190535
CREATED:20231011T120553Z
LAST-MODIFIED:20231011T120658Z
UID:10000886-1752922800-1752948000@greenwichreview.com
SUMMARY:Peninsular Market
DESCRIPTION:
URL:https://greenwichreview.com/event/2339/2025-07-19/
LOCATION:Peninsular Square\, Peninsula Square\, London\, SE10 0SQ
END:VEVENT
BEGIN:VEVENT
DTSTART;TZID=UTC:20250719T110000
DTEND;TZID=UTC:20250719T160000
DTSTAMP:20260425T190535
CREATED:20250526T184859Z
LAST-MODIFIED:20250526T184859Z
UID:10003557-1752922800-1752940800@greenwichreview.com
SUMMARY:Plumstead Community Market
DESCRIPTION:An artisan arts and crafts maker’s market with food stalls and craft workshops. \nLive music with Piano man Al Collingwood.
URL:https://greenwichreview.com/event/plumstead-community-market-3/
LOCATION:St Marks Hall\, Old Mill Road\, London\, SE18 1QG
ORGANIZER;CN="Art Plumstead":MAILTO:PlumsteadCommMkt@gmail.com
END:VEVENT
BEGIN:VEVENT
DTSTART;TZID=UTC:20250718T183000
DTEND;TZID=UTC:20250718T214500
DTSTAMP:20260425T190535
CREATED:20250702T223110Z
LAST-MODIFIED:20250702T223110Z
UID:10003629-1752863400-1752875100@greenwichreview.com
SUMMARY:Grove 101 - Severndroog Summer Lates 2025
DESCRIPTION:Join Groove 101 for a night of funk\, soul\, and non-stop dancing on 18th July! \nTickets – https://www.eventbrite.co.uk/e/groove-101-severndroog-summer-lates-2025-tickets-1344041868409?aff=oddtdtcreator&fbclid=IwY2xjawLSkbdleHRuA2FlbQIxMABicmlkETBReVpPc3laYWFxMU1lOU9YAR6noMD1FF5neXT7Sk6myzaeZhBRGEa1YtveTJduIySEFmbgDoKxdza31JVczQ_aem_MlkxWpwrCHvDUUbayNlr2g
URL:https://greenwichreview.com/event/grove-101-severndroog-summer-lates-2025/
LOCATION:Severndroog Castle\, Castlewood Drive\, Shooters Hill\, London\, SE18 3RT
END:VEVENT
END:VCALENDAR