BEGIN:VCALENDAR
VERSION:2.0
PRODID:-//Greenwich Review - ECPv6.15.20//NONSGML v1.0//EN
CALSCALE:GREGORIAN
METHOD:PUBLISH
X-WR-CALNAME:Greenwich Review
X-ORIGINAL-URL:https://greenwichreview.com
X-WR-CALDESC:Events for Greenwich Review
REFRESH-INTERVAL;VALUE=DURATION:PT1H
X-Robots-Tag:noindex
X-PUBLISHED-TTL:PT1H
BEGIN:VTIMEZONE
TZID:UTC
BEGIN:STANDARD
TZOFFSETFROM:+0000
TZOFFSETTO:+0000
TZNAME:UTC
DTSTART:20250101T000000
END:STANDARD
END:VTIMEZONE
BEGIN:VEVENT
DTSTART;TZID=UTC:20261103T120000
DTEND;TZID=UTC:20261103T200000
DTSTAMP:20260425T145103
CREATED:20251214T232553Z
LAST-MODIFIED:20251214T232553Z
UID:10004053-1793707200-1793736000@greenwichreview.com
SUMMARY:Royal Arsenal Pop-Ups
DESCRIPTION:Various pop up stalls in dial up square near the Royal Arsenal Gates. \nNo 1 Street\, SE18 6HD
URL:https://greenwichreview.com/event/royal-arsenal-pop-ups/2026-11-03/
LOCATION:Royal Arsenal Farmers Market\, Artillery Square\, No 1 Street\, Royal Arsenal Riverside\, London\, SE18 6FB
END:VEVENT
BEGIN:VEVENT
DTSTART;TZID=UTC:20261103T203000
DTEND;TZID=UTC:20261103T203000
DTSTAMP:20260425T145103
CREATED:20251122T094649Z
LAST-MODIFIED:20251122T094852Z
UID:10003695-1793737800-1793737800@greenwichreview.com
SUMMARY:Pelton Pub Quiz
DESCRIPTION:Every Tuesday 830PM – Cash Prizes \n£2 Quiz entry fee.
URL:https://greenwichreview.com/event/pelton-pub-quiz-3/2026-11-03/
LOCATION:The Pelton Arms\, 23-25 Pelton Rd\,\, London\, SE10 9PQ
END:VEVENT
BEGIN:VEVENT
DTSTART;TZID=UTC:20261104T120000
DTEND;TZID=UTC:20261104T200000
DTSTAMP:20260425T145103
CREATED:20251214T232553Z
LAST-MODIFIED:20251214T232553Z
UID:10004054-1793793600-1793822400@greenwichreview.com
SUMMARY:Royal Arsenal Pop-Ups
DESCRIPTION:Various pop up stalls in dial up square near the Royal Arsenal Gates. \nNo 1 Street\, SE18 6HD
URL:https://greenwichreview.com/event/royal-arsenal-pop-ups/2026-11-04/
LOCATION:Royal Arsenal Farmers Market\, Artillery Square\, No 1 Street\, Royal Arsenal Riverside\, London\, SE18 6FB
END:VEVENT
BEGIN:VEVENT
DTSTART;TZID=UTC:20261105T120000
DTEND;TZID=UTC:20261105T200000
DTSTAMP:20260425T145103
CREATED:20251214T232553Z
LAST-MODIFIED:20251214T232553Z
UID:10004055-1793880000-1793908800@greenwichreview.com
SUMMARY:Royal Arsenal Pop-Ups
DESCRIPTION:Various pop up stalls in dial up square near the Royal Arsenal Gates. \nNo 1 Street\, SE18 6HD
URL:https://greenwichreview.com/event/royal-arsenal-pop-ups/2026-11-05/
LOCATION:Royal Arsenal Farmers Market\, Artillery Square\, No 1 Street\, Royal Arsenal Riverside\, London\, SE18 6FB
END:VEVENT
BEGIN:VEVENT
DTSTART;TZID=UTC:20261105T193000
DTEND;TZID=UTC:20261105T213000
DTSTAMP:20260425T145103
CREATED:20240427T102207Z
LAST-MODIFIED:20240427T102207Z
UID:10002231-1793907000-1793914200@greenwichreview.com
SUMMARY:Monthly Music Quiz
DESCRIPTION:Monthly music quiz every first Thursday of the month. \nBegins at 7:30 pm for an 8 pm start.
URL:https://greenwichreview.com/event/monthly-music-quiz/2026-11-05/
LOCATION:The Pelton Arms\, 23-25 Pelton Rd\,\, London\, SE10 9PQ
END:VEVENT
BEGIN:VEVENT
DTSTART;TZID=UTC:20261106T120000
DTEND;TZID=UTC:20261106T200000
DTSTAMP:20260425T145103
CREATED:20251214T232553Z
LAST-MODIFIED:20251214T232553Z
UID:10004056-1793966400-1793995200@greenwichreview.com
SUMMARY:Royal Arsenal Pop-Ups
DESCRIPTION:Various pop up stalls in dial up square near the Royal Arsenal Gates. \nNo 1 Street\, SE18 6HD
URL:https://greenwichreview.com/event/royal-arsenal-pop-ups/2026-11-06/
LOCATION:Royal Arsenal Farmers Market\, Artillery Square\, No 1 Street\, Royal Arsenal Riverside\, London\, SE18 6FB
END:VEVENT
BEGIN:VEVENT
DTSTART;TZID=UTC:20261107T110000
DTEND;TZID=UTC:20261107T180000
DTSTAMP:20260425T145103
CREATED:20231011T120553Z
LAST-MODIFIED:20231011T120658Z
UID:10001022-1794049200-1794074400@greenwichreview.com
SUMMARY:Peninsular Market
DESCRIPTION:
URL:https://greenwichreview.com/event/2339/2026-11-07/
LOCATION:Peninsular Square\, Peninsula Square\, London\, SE10 0SQ
END:VEVENT
BEGIN:VEVENT
DTSTART;TZID=UTC:20261107T120000
DTEND;TZID=UTC:20261107T200000
DTSTAMP:20260425T145103
CREATED:20251214T232553Z
LAST-MODIFIED:20251214T232553Z
UID:10004057-1794052800-1794081600@greenwichreview.com
SUMMARY:Royal Arsenal Pop-Ups
DESCRIPTION:Various pop up stalls in dial up square near the Royal Arsenal Gates. \nNo 1 Street\, SE18 6HD
URL:https://greenwichreview.com/event/royal-arsenal-pop-ups/2026-11-07/
LOCATION:Royal Arsenal Farmers Market\, Artillery Square\, No 1 Street\, Royal Arsenal Riverside\, London\, SE18 6FB
END:VEVENT
BEGIN:VEVENT
DTSTART;TZID=UTC:20261108T110000
DTEND;TZID=UTC:20261108T180000
DTSTAMP:20260425T145103
CREATED:20231011T120553Z
LAST-MODIFIED:20231011T120658Z
UID:10001023-1794135600-1794160800@greenwichreview.com
SUMMARY:Peninsular Market
DESCRIPTION:
URL:https://greenwichreview.com/event/2339/2026-11-08/
LOCATION:Peninsular Square\, Peninsula Square\, London\, SE10 0SQ
END:VEVENT
BEGIN:VEVENT
DTSTART;TZID=UTC:20261108T120000
DTEND;TZID=UTC:20261108T200000
DTSTAMP:20260425T145103
CREATED:20251214T232553Z
LAST-MODIFIED:20251214T232553Z
UID:10004058-1794139200-1794168000@greenwichreview.com
SUMMARY:Royal Arsenal Pop-Ups
DESCRIPTION:Various pop up stalls in dial up square near the Royal Arsenal Gates. \nNo 1 Street\, SE18 6HD
URL:https://greenwichreview.com/event/royal-arsenal-pop-ups/2026-11-08/
LOCATION:Royal Arsenal Farmers Market\, Artillery Square\, No 1 Street\, Royal Arsenal Riverside\, London\, SE18 6FB
END:VEVENT
BEGIN:VEVENT
DTSTART;TZID=UTC:20261109T120000
DTEND;TZID=UTC:20261109T200000
DTSTAMP:20260425T145103
CREATED:20251214T232553Z
LAST-MODIFIED:20251214T232553Z
UID:10004059-1794225600-1794254400@greenwichreview.com
SUMMARY:Royal Arsenal Pop-Ups
DESCRIPTION:Various pop up stalls in dial up square near the Royal Arsenal Gates. \nNo 1 Street\, SE18 6HD
URL:https://greenwichreview.com/event/royal-arsenal-pop-ups/2026-11-09/
LOCATION:Royal Arsenal Farmers Market\, Artillery Square\, No 1 Street\, Royal Arsenal Riverside\, London\, SE18 6FB
END:VEVENT
BEGIN:VEVENT
DTSTART;TZID=UTC:20261110T120000
DTEND;TZID=UTC:20261110T200000
DTSTAMP:20260425T145103
CREATED:20251214T232553Z
LAST-MODIFIED:20251214T232553Z
UID:10004060-1794312000-1794340800@greenwichreview.com
SUMMARY:Royal Arsenal Pop-Ups
DESCRIPTION:Various pop up stalls in dial up square near the Royal Arsenal Gates. \nNo 1 Street\, SE18 6HD
URL:https://greenwichreview.com/event/royal-arsenal-pop-ups/2026-11-10/
LOCATION:Royal Arsenal Farmers Market\, Artillery Square\, No 1 Street\, Royal Arsenal Riverside\, London\, SE18 6FB
END:VEVENT
BEGIN:VEVENT
DTSTART;TZID=UTC:20261110T203000
DTEND;TZID=UTC:20261110T203000
DTSTAMP:20260425T145103
CREATED:20251122T094649Z
LAST-MODIFIED:20251122T094852Z
UID:10003696-1794342600-1794342600@greenwichreview.com
SUMMARY:Pelton Pub Quiz
DESCRIPTION:Every Tuesday 830PM – Cash Prizes \n£2 Quiz entry fee.
URL:https://greenwichreview.com/event/pelton-pub-quiz-3/2026-11-10/
LOCATION:The Pelton Arms\, 23-25 Pelton Rd\,\, London\, SE10 9PQ
END:VEVENT
BEGIN:VEVENT
DTSTART;TZID=UTC:20261111T120000
DTEND;TZID=UTC:20261111T200000
DTSTAMP:20260425T145103
CREATED:20251214T232553Z
LAST-MODIFIED:20251214T232553Z
UID:10004061-1794398400-1794427200@greenwichreview.com
SUMMARY:Royal Arsenal Pop-Ups
DESCRIPTION:Various pop up stalls in dial up square near the Royal Arsenal Gates. \nNo 1 Street\, SE18 6HD
URL:https://greenwichreview.com/event/royal-arsenal-pop-ups/2026-11-11/
LOCATION:Royal Arsenal Farmers Market\, Artillery Square\, No 1 Street\, Royal Arsenal Riverside\, London\, SE18 6FB
END:VEVENT
BEGIN:VEVENT
DTSTART;TZID=UTC:20261112T120000
DTEND;TZID=UTC:20261112T200000
DTSTAMP:20260425T145103
CREATED:20251214T232553Z
LAST-MODIFIED:20251214T232553Z
UID:10004062-1794484800-1794513600@greenwichreview.com
SUMMARY:Royal Arsenal Pop-Ups
DESCRIPTION:Various pop up stalls in dial up square near the Royal Arsenal Gates. \nNo 1 Street\, SE18 6HD
URL:https://greenwichreview.com/event/royal-arsenal-pop-ups/2026-11-12/
LOCATION:Royal Arsenal Farmers Market\, Artillery Square\, No 1 Street\, Royal Arsenal Riverside\, London\, SE18 6FB
END:VEVENT
BEGIN:VEVENT
DTSTART;TZID=UTC:20261113T120000
DTEND;TZID=UTC:20261113T200000
DTSTAMP:20260425T145103
CREATED:20251214T232553Z
LAST-MODIFIED:20251214T232553Z
UID:10004063-1794571200-1794600000@greenwichreview.com
SUMMARY:Royal Arsenal Pop-Ups
DESCRIPTION:Various pop up stalls in dial up square near the Royal Arsenal Gates. \nNo 1 Street\, SE18 6HD
URL:https://greenwichreview.com/event/royal-arsenal-pop-ups/2026-11-13/
LOCATION:Royal Arsenal Farmers Market\, Artillery Square\, No 1 Street\, Royal Arsenal Riverside\, London\, SE18 6FB
END:VEVENT
BEGIN:VEVENT
DTSTART;TZID=UTC:20261114T110000
DTEND;TZID=UTC:20261114T180000
DTSTAMP:20260425T145103
CREATED:20231011T120553Z
LAST-MODIFIED:20231011T120658Z
UID:10001024-1794654000-1794679200@greenwichreview.com
SUMMARY:Peninsular Market
DESCRIPTION:
URL:https://greenwichreview.com/event/2339/2026-11-14/
LOCATION:Peninsular Square\, Peninsula Square\, London\, SE10 0SQ
END:VEVENT
BEGIN:VEVENT
DTSTART;TZID=UTC:20261114T120000
DTEND;TZID=UTC:20261114T200000
DTSTAMP:20260425T145103
CREATED:20251214T232553Z
LAST-MODIFIED:20251214T232553Z
UID:10004064-1794657600-1794686400@greenwichreview.com
SUMMARY:Royal Arsenal Pop-Ups
DESCRIPTION:Various pop up stalls in dial up square near the Royal Arsenal Gates. \nNo 1 Street\, SE18 6HD
URL:https://greenwichreview.com/event/royal-arsenal-pop-ups/2026-11-14/
LOCATION:Royal Arsenal Farmers Market\, Artillery Square\, No 1 Street\, Royal Arsenal Riverside\, London\, SE18 6FB
END:VEVENT
BEGIN:VEVENT
DTSTART;TZID=UTC:20261115T110000
DTEND;TZID=UTC:20261115T180000
DTSTAMP:20260425T145103
CREATED:20231011T120553Z
LAST-MODIFIED:20231011T120658Z
UID:10001025-1794740400-1794765600@greenwichreview.com
SUMMARY:Peninsular Market
DESCRIPTION:
URL:https://greenwichreview.com/event/2339/2026-11-15/
LOCATION:Peninsular Square\, Peninsula Square\, London\, SE10 0SQ
END:VEVENT
BEGIN:VEVENT
DTSTART;TZID=UTC:20261115T120000
DTEND;TZID=UTC:20261115T200000
DTSTAMP:20260425T145103
CREATED:20251214T232553Z
LAST-MODIFIED:20251214T232553Z
UID:10004065-1794744000-1794772800@greenwichreview.com
SUMMARY:Royal Arsenal Pop-Ups
DESCRIPTION:Various pop up stalls in dial up square near the Royal Arsenal Gates. \nNo 1 Street\, SE18 6HD
URL:https://greenwichreview.com/event/royal-arsenal-pop-ups/2026-11-15/
LOCATION:Royal Arsenal Farmers Market\, Artillery Square\, No 1 Street\, Royal Arsenal Riverside\, London\, SE18 6FB
END:VEVENT
BEGIN:VEVENT
DTSTART;TZID=UTC:20261116T120000
DTEND;TZID=UTC:20261116T200000
DTSTAMP:20260425T145103
CREATED:20251214T232553Z
LAST-MODIFIED:20251214T232553Z
UID:10004066-1794830400-1794859200@greenwichreview.com
SUMMARY:Royal Arsenal Pop-Ups
DESCRIPTION:Various pop up stalls in dial up square near the Royal Arsenal Gates. \nNo 1 Street\, SE18 6HD
URL:https://greenwichreview.com/event/royal-arsenal-pop-ups/2026-11-16/
LOCATION:Royal Arsenal Farmers Market\, Artillery Square\, No 1 Street\, Royal Arsenal Riverside\, London\, SE18 6FB
END:VEVENT
BEGIN:VEVENT
DTSTART;TZID=UTC:20261117T120000
DTEND;TZID=UTC:20261117T200000
DTSTAMP:20260425T145103
CREATED:20251214T232553Z
LAST-MODIFIED:20251214T232553Z
UID:10004067-1794916800-1794945600@greenwichreview.com
SUMMARY:Royal Arsenal Pop-Ups
DESCRIPTION:Various pop up stalls in dial up square near the Royal Arsenal Gates. \nNo 1 Street\, SE18 6HD
URL:https://greenwichreview.com/event/royal-arsenal-pop-ups/2026-11-17/
LOCATION:Royal Arsenal Farmers Market\, Artillery Square\, No 1 Street\, Royal Arsenal Riverside\, London\, SE18 6FB
END:VEVENT
BEGIN:VEVENT
DTSTART;TZID=UTC:20261117T203000
DTEND;TZID=UTC:20261117T203000
DTSTAMP:20260425T145103
CREATED:20251122T094649Z
LAST-MODIFIED:20251122T094852Z
UID:10003697-1794947400-1794947400@greenwichreview.com
SUMMARY:Pelton Pub Quiz
DESCRIPTION:Every Tuesday 830PM – Cash Prizes \n£2 Quiz entry fee.
URL:https://greenwichreview.com/event/pelton-pub-quiz-3/2026-11-17/
LOCATION:The Pelton Arms\, 23-25 Pelton Rd\,\, London\, SE10 9PQ
END:VEVENT
BEGIN:VEVENT
DTSTART;TZID=UTC:20261118T120000
DTEND;TZID=UTC:20261118T200000
DTSTAMP:20260425T145103
CREATED:20251214T232553Z
LAST-MODIFIED:20251214T232553Z
UID:10004068-1795003200-1795032000@greenwichreview.com
SUMMARY:Royal Arsenal Pop-Ups
DESCRIPTION:Various pop up stalls in dial up square near the Royal Arsenal Gates. \nNo 1 Street\, SE18 6HD
URL:https://greenwichreview.com/event/royal-arsenal-pop-ups/2026-11-18/
LOCATION:Royal Arsenal Farmers Market\, Artillery Square\, No 1 Street\, Royal Arsenal Riverside\, London\, SE18 6FB
END:VEVENT
BEGIN:VEVENT
DTSTART;TZID=UTC:20261119T120000
DTEND;TZID=UTC:20261119T200000
DTSTAMP:20260425T145103
CREATED:20251214T232553Z
LAST-MODIFIED:20251214T232553Z
UID:10004069-1795089600-1795118400@greenwichreview.com
SUMMARY:Royal Arsenal Pop-Ups
DESCRIPTION:Various pop up stalls in dial up square near the Royal Arsenal Gates. \nNo 1 Street\, SE18 6HD
URL:https://greenwichreview.com/event/royal-arsenal-pop-ups/2026-11-19/
LOCATION:Royal Arsenal Farmers Market\, Artillery Square\, No 1 Street\, Royal Arsenal Riverside\, London\, SE18 6FB
END:VEVENT
BEGIN:VEVENT
DTSTART;TZID=UTC:20261120T120000
DTEND;TZID=UTC:20261120T200000
DTSTAMP:20260425T145103
CREATED:20251214T232553Z
LAST-MODIFIED:20251214T232553Z
UID:10004070-1795176000-1795204800@greenwichreview.com
SUMMARY:Royal Arsenal Pop-Ups
DESCRIPTION:Various pop up stalls in dial up square near the Royal Arsenal Gates. \nNo 1 Street\, SE18 6HD
URL:https://greenwichreview.com/event/royal-arsenal-pop-ups/2026-11-20/
LOCATION:Royal Arsenal Farmers Market\, Artillery Square\, No 1 Street\, Royal Arsenal Riverside\, London\, SE18 6FB
END:VEVENT
BEGIN:VEVENT
DTSTART;TZID=UTC:20261121T110000
DTEND;TZID=UTC:20261121T180000
DTSTAMP:20260425T145104
CREATED:20231011T120553Z
LAST-MODIFIED:20231011T120658Z
UID:10001026-1795258800-1795284000@greenwichreview.com
SUMMARY:Peninsular Market
DESCRIPTION:
URL:https://greenwichreview.com/event/2339/2026-11-21/
LOCATION:Peninsular Square\, Peninsula Square\, London\, SE10 0SQ
END:VEVENT
BEGIN:VEVENT
DTSTART;TZID=UTC:20261121T120000
DTEND;TZID=UTC:20261121T200000
DTSTAMP:20260425T145104
CREATED:20251214T232553Z
LAST-MODIFIED:20251214T232553Z
UID:10004071-1795262400-1795291200@greenwichreview.com
SUMMARY:Royal Arsenal Pop-Ups
DESCRIPTION:Various pop up stalls in dial up square near the Royal Arsenal Gates. \nNo 1 Street\, SE18 6HD
URL:https://greenwichreview.com/event/royal-arsenal-pop-ups/2026-11-21/
LOCATION:Royal Arsenal Farmers Market\, Artillery Square\, No 1 Street\, Royal Arsenal Riverside\, London\, SE18 6FB
END:VEVENT
BEGIN:VEVENT
DTSTART;TZID=UTC:20261122T110000
DTEND;TZID=UTC:20261122T180000
DTSTAMP:20260425T145104
CREATED:20231011T120553Z
LAST-MODIFIED:20231011T120658Z
UID:10001027-1795345200-1795370400@greenwichreview.com
SUMMARY:Peninsular Market
DESCRIPTION:
URL:https://greenwichreview.com/event/2339/2026-11-22/
LOCATION:Peninsular Square\, Peninsula Square\, London\, SE10 0SQ
END:VEVENT
BEGIN:VEVENT
DTSTART;TZID=UTC:20261122T120000
DTEND;TZID=UTC:20261122T200000
DTSTAMP:20260425T145104
CREATED:20251214T232553Z
LAST-MODIFIED:20251214T232553Z
UID:10004072-1795348800-1795377600@greenwichreview.com
SUMMARY:Royal Arsenal Pop-Ups
DESCRIPTION:Various pop up stalls in dial up square near the Royal Arsenal Gates. \nNo 1 Street\, SE18 6HD
URL:https://greenwichreview.com/event/royal-arsenal-pop-ups/2026-11-22/
LOCATION:Royal Arsenal Farmers Market\, Artillery Square\, No 1 Street\, Royal Arsenal Riverside\, London\, SE18 6FB
END:VEVENT
END:VCALENDAR