BEGIN:VCALENDAR
VERSION:2.0
PRODID:-//Greenwich Review - ECPv6.15.20//NONSGML v1.0//EN
CALSCALE:GREGORIAN
METHOD:PUBLISH
X-WR-CALNAME:Greenwich Review
X-ORIGINAL-URL:https://greenwichreview.com
X-WR-CALDESC:Events for Greenwich Review
REFRESH-INTERVAL;VALUE=DURATION:PT1H
X-Robots-Tag:noindex
X-PUBLISHED-TTL:PT1H
BEGIN:VTIMEZONE
TZID:UTC
BEGIN:STANDARD
TZOFFSETFROM:+0000
TZOFFSETTO:+0000
TZNAME:UTC
DTSTART:20240101T000000
END:STANDARD
END:VTIMEZONE
BEGIN:VEVENT
DTSTART;TZID=UTC:20251221T193000
DTEND;TZID=UTC:20251221T220000
DTSTAMP:20260424T214335
CREATED:20251207T192638Z
LAST-MODIFIED:20251207T193022Z
UID:10003709-1766345400-1766354400@greenwichreview.com
SUMMARY:SE7 at Cattleya Thai Restaurant
DESCRIPTION:SE7 Play at the Cattleya  Thai  Restaurant.\n\nChris Harrison and the Charlton Central Tenants Association amateur band SE7 play a variety of genres. \nGuest artists to be announced  on the night.
URL:https://greenwichreview.com/event/se7-at-cattleya-thai-restaurant-4/
LOCATION:Cattleya Thai Restaurant\, 52 Charlton Church Lane\, London\, SE7 7AB
END:VEVENT
END:VCALENDAR