BEGIN:VCALENDAR
VERSION:2.0
PRODID:-//Greenwich Review - ECPv6.15.20//NONSGML v1.0//EN
CALSCALE:GREGORIAN
METHOD:PUBLISH
X-ORIGINAL-URL:https://greenwichreview.com
X-WR-CALDESC:Events for Greenwich Review
REFRESH-INTERVAL;VALUE=DURATION:PT1H
X-Robots-Tag:noindex
X-PUBLISHED-TTL:PT1H
BEGIN:VTIMEZONE
TZID:UTC
BEGIN:STANDARD
TZOFFSETFROM:+0000
TZOFFSETTO:+0000
TZNAME:UTC
DTSTART:20220101T000000
END:STANDARD
END:VTIMEZONE
BEGIN:VEVENT
DTSTART;TZID=UTC:20250719T110000
DTEND;TZID=UTC:20250719T160000
DTSTAMP:20260425T035259
CREATED:20250526T184859Z
LAST-MODIFIED:20250526T184859Z
UID:10003557-1752922800-1752940800@greenwichreview.com
SUMMARY:Plumstead Community Market
DESCRIPTION:An artisan arts and crafts maker’s market with food stalls and craft workshops. \nLive music with Piano man Al Collingwood.
URL:https://greenwichreview.com/event/plumstead-community-market-3/
LOCATION:St Marks Hall\, Old Mill Road\, London\, SE18 1QG
ORGANIZER;CN="Art Plumstead":MAILTO:PlumsteadCommMkt@gmail.com
END:VEVENT
BEGIN:VEVENT
DTSTART;TZID=UTC:20250621T110000
DTEND;TZID=UTC:20250621T160000
DTSTAMP:20260425T035259
CREATED:20250526T184613Z
LAST-MODIFIED:20250526T185012Z
UID:10003556-1750503600-1750521600@greenwichreview.com
SUMMARY:Plumstead Community Market
DESCRIPTION:An artisan arts and crafts maker’s market with food stalls and craft workshops. \nWorkshop: Create a bowl of succulents.
URL:https://greenwichreview.com/event/plumstead-community-market-2/
LOCATION:St Marks Hall\, Old Mill Road\, London\, SE18 1QG
ORGANIZER;CN="Art Plumstead":MAILTO:PlumsteadCommMkt@gmail.com
END:VEVENT
BEGIN:VEVENT
DTSTART;TZID=UTC:20250606T190000
DTEND;TZID=UTC:20250606T223000
DTSTAMP:20260425T035259
CREATED:20250529T222025Z
LAST-MODIFIED:20250529T222025Z
UID:10003615-1749236400-1749249000@greenwichreview.com
SUMMARY:Aisha Khan and the Rajahs at Arts Music Lounge
DESCRIPTION:Aisha Khan and the Rajahs play 50s and 60s Blues\, Jazz and Swing. \nTickets are £10 in advance with no commission from John at plumstravaganza@gmail.com
URL:https://greenwichreview.com/event/aisha-khan-and-the-rajahs-at-arts-music-lounge/
LOCATION:Shrewsbury House\, Bushmoor Cresent\, London\, SE18 3EG\, United Kingdom
ORGANIZER;CN="Art Plumstead":MAILTO:PlumsteadCommMkt@gmail.com
END:VEVENT
BEGIN:VEVENT
DTSTART;TZID=UTC:20250207T190000
DTEND;TZID=UTC:20250207T213000
DTSTAMP:20260425T035259
CREATED:20250111T220442Z
LAST-MODIFIED:20250111T220442Z
UID:10003425-1738954800-1738963800@greenwichreview.com
SUMMARY:Jamaica Jazz at Art's Music Lounge
DESCRIPTION:A night of Ska\, Reggae & Jazz with a group of musicians that have performed in auditoriums and concert venues around the world. \nTicket £10 in advance or £12 on the door.
URL:https://greenwichreview.com/event/jamaica-jazz-at-arts-music-lounge/
LOCATION:Shrewsbury House\, Bushmoor Cresent\, London\, SE18 3EG\, United Kingdom
ORGANIZER;CN="Art Plumstead":MAILTO:PlumsteadCommMkt@gmail.com
END:VEVENT
BEGIN:VEVENT
DTSTART;TZID=UTC:20250205T193000
DTEND;TZID=UTC:20250205T213000
DTSTAMP:20260425T035259
CREATED:20250111T215949Z
LAST-MODIFIED:20250111T215949Z
UID:10003424-1738783800-1738791000@greenwichreview.com
SUMMARY:Improshrews
DESCRIPTION:Improvisation workshop held every first Wednesday of the month in Room 6 rom 7.30 to 9.30 pm at the Shrewsbury House Community Centre. \nentry is £7.50 per person payable in cash on the night.
URL:https://greenwichreview.com/event/improshrews/
LOCATION:Shrewsbury House\, Bushmoor Cresent\, London\, SE18 3EG\, United Kingdom
ORGANIZER;CN="Art Plumstead":MAILTO:PlumsteadCommMkt@gmail.com
END:VEVENT
BEGIN:VEVENT
DTSTART;TZID=UTC:20241210T070000
DTEND;TZID=UTC:20241210T220000
DTSTAMP:20260425T035259
CREATED:20241208T111726Z
LAST-MODIFIED:20241208T111726Z
UID:10003332-1733814000-1733868000@greenwichreview.com
SUMMARY:Annual Plumstead Pickle Festival
DESCRIPTION:The Annual Art Plumstead Pickle Festival returns to the Old Mill Pub\, Old Mill Road\, Plumstead Common\, on Tuesday 10th December 2024. The Pickle Festival is free for everyone to enter and to judge. Bread and cheese will be provided to accompany the many delicious pickles you will get to ponder. \n 
URL:https://greenwichreview.com/event/annual-plumstead-pickle-festival/
LOCATION:The Old Mill Plumstead Common\, 1 Old Mill Rd\, London\, SE18 1QG\, United Kingdom
ORGANIZER;CN="Art Plumstead":MAILTO:PlumsteadCommMkt@gmail.com
END:VEVENT
BEGIN:VEVENT
DTSTART;TZID=UTC:20231216T110000
DTEND;TZID=UTC:20231216T150000
DTSTAMP:20260425T035259
CREATED:20231019T083813Z
LAST-MODIFIED:20231019T083913Z
UID:10001383-1702724400-1702738800@greenwichreview.com
SUMMARY:Plumstead Community Market
DESCRIPTION:A forum for local artists and craft makers. \nCakes\, cards\, textiles\, Toiletries\, ceramics\, art\, jewellery and antiques. Also face painting and other children’s activities and community workshops. \n 
URL:https://greenwichreview.com/event/plumstead-community-market/2023-12-16/
LOCATION:St Marks Hall\, Old Mill Road\, London\, SE18 1QG
ORGANIZER;CN="Art Plumstead":MAILTO:PlumsteadCommMkt@gmail.com
END:VEVENT
BEGIN:VEVENT
DTSTART;TZID=UTC:20231118T110000
DTEND;TZID=UTC:20231118T150000
DTSTAMP:20260425T035259
CREATED:20231019T083813Z
LAST-MODIFIED:20231019T083913Z
UID:10001382-1700305200-1700319600@greenwichreview.com
SUMMARY:Plumstead Community Market
DESCRIPTION:A forum for local artists and craft makers. \nCakes\, cards\, textiles\, Toiletries\, ceramics\, art\, jewellery and antiques. Also face painting and other children’s activities and community workshops. \n 
URL:https://greenwichreview.com/event/plumstead-community-market/2023-11-18/
LOCATION:St Marks Hall\, Old Mill Road\, London\, SE18 1QG
ORGANIZER;CN="Art Plumstead":MAILTO:PlumsteadCommMkt@gmail.com
END:VEVENT
BEGIN:VEVENT
DTSTART;TZID=UTC:20231021T110000
DTEND;TZID=UTC:20231021T150000
DTSTAMP:20260425T035259
CREATED:20231019T083813Z
LAST-MODIFIED:20231019T083913Z
UID:10001381-1697886000-1697900400@greenwichreview.com
SUMMARY:Plumstead Community Market
DESCRIPTION:A forum for local artists and craft makers. \nCakes\, cards\, textiles\, Toiletries\, ceramics\, art\, jewellery and antiques. Also face painting and other children’s activities and community workshops. \n 
URL:https://greenwichreview.com/event/plumstead-community-market/2023-10-21/
LOCATION:St Marks Hall\, Old Mill Road\, London\, SE18 1QG
ORGANIZER;CN="Art Plumstead":MAILTO:PlumsteadCommMkt@gmail.com
END:VEVENT
END:VCALENDAR