BEGIN:VCALENDAR
VERSION:2.0
PRODID:-//Greenwich Review - ECPv6.15.20//NONSGML v1.0//EN
CALSCALE:GREGORIAN
METHOD:PUBLISH
X-ORIGINAL-URL:https://greenwichreview.com
X-WR-CALDESC:Events for Greenwich Review
REFRESH-INTERVAL;VALUE=DURATION:PT1H
X-Robots-Tag:noindex
X-PUBLISHED-TTL:PT1H
BEGIN:VTIMEZONE
TZID:UTC
BEGIN:STANDARD
TZOFFSETFROM:+0000
TZOFFSETTO:+0000
TZNAME:UTC
DTSTART:20240101T000000
END:STANDARD
END:VTIMEZONE
BEGIN:VEVENT
DTSTART;TZID=UTC:20251112T193000
DTEND;TZID=UTC:20251112T213000
DTSTAMP:20260424T151307
CREATED:20250507T215102Z
LAST-MODIFIED:20250507T215102Z
UID:10003544-1762975800-1762983000@greenwichreview.com
SUMMARY:The quacks and charlatans of medicine
DESCRIPTION:Neuroscientist\, Dr Jenny Lange’s talk will explore the historical contrast between the life-saving advancements of scientific medical research and the persistent issue of fraudulent medical practices. Despite modern medical progress\, a resurgence of fake medicines and misinformation\, fuelled by social media and distrust in experts post-COVID-19\, is evident. Dr Lange will delve into historical examples of medical grifters\, from the “goat-gland doctor” to proponents of dangerous remedies like radium therapy and more recent examples like the “Church of Bleach\,” highlighting the enduring vulnerability of people to medical quackery.
URL:https://greenwichreview.com/event/the-quacks-and-charlatans-of-medicine/
LOCATION:Duke of Greenwich\, 91 Colomb Street\, London\, SE10 9EZ
ORGANIZER;CN="Greenwich Skeptics In The Pub":MAILTO:contact@sitp.online
END:VEVENT
BEGIN:VEVENT
DTSTART;TZID=UTC:20251008T193000
DTEND;TZID=UTC:20251008T213000
DTSTAMP:20260424T151307
CREATED:20250507T214523Z
LAST-MODIFIED:20250507T214523Z
UID:10003543-1759951800-1759959000@greenwichreview.com
SUMMARY:How They Hide the Truth from You
DESCRIPTION:Investigative journalist Meirion Jones gives a presentation about the UK Cabinet Office’s “Clearing House\,” which is accused of systematically concealing government corruption and wrongdoing at both national and local levels. The speaker argues that this practice has worsened under Rishi Sunak’s leadership and poses the question of whether a new government could be persuaded to increase transparency.
URL:https://greenwichreview.com/event/how-they-hide-the-truth-from-you/
LOCATION:Duke of Greenwich\, 91 Colomb Street\, London\, SE10 9EZ
ORGANIZER;CN="Greenwich Skeptics In The Pub":MAILTO:contact@sitp.online
END:VEVENT
BEGIN:VEVENT
DTSTART;TZID=UTC:20250910T193000
DTEND;TZID=UTC:20250910T213000
DTSTAMP:20260424T151307
CREATED:20250507T213958Z
LAST-MODIFIED:20250507T213958Z
UID:10003542-1757532600-1757539800@greenwichreview.com
SUMMARY:Using Data to Counter Quackery and Alternative Medicine
DESCRIPTION:Michael Marshall\, who is the project director of the Good Thinking Society gives a presentation on addressing the widespread issue of quackery\, particularly when promoted by authorities or too prevalent for individual intervention. He will discuss examples ranging from NHS homeopathy and alternative medicine in midwifery to questionable charities and overseas cancer clinics. Marshall will explain how a thorough analysis of public data can illuminate the extent of the problem and provide the media with the necessary evidence to raise public awareness and drive change.
URL:https://greenwichreview.com/event/using-data-to-counter-quackery-and-alternative-medicine/
LOCATION:Duke of Greenwich\, 91 Colomb Street\, London\, SE10 9EZ
ORGANIZER;CN="Greenwich Skeptics In The Pub":MAILTO:contact@sitp.online
END:VEVENT
BEGIN:VEVENT
DTSTART;TZID=UTC:20250813T193000
DTEND;TZID=UTC:20250813T213000
DTSTAMP:20260424T151307
CREATED:20250507T213503Z
LAST-MODIFIED:20250507T213503Z
UID:10003541-1755113400-1755120600@greenwichreview.com
SUMMARY:Examining the Realism of AI-Generated Media
DESCRIPTION:Dr Sophie Nightingale of the university of Lancaster gives a talk examining the Realism of AI-Generated Media.
URL:https://greenwichreview.com/event/examining-the-realism-of-ai-generated-media/
LOCATION:Duke of Greenwich\, 91 Colomb Street\, London\, SE10 9EZ
ORGANIZER;CN="Greenwich Skeptics In The Pub":MAILTO:contact@sitp.online
END:VEVENT
BEGIN:VEVENT
DTSTART;TZID=UTC:20250709T193000
DTEND;TZID=UTC:20250709T213000
DTSTAMP:20260424T151307
CREATED:20250507T200608Z
LAST-MODIFIED:20250507T200608Z
UID:10003540-1752089400-1752096600@greenwichreview.com
SUMMARY:Has Elvis Really Left the Building? A Short History of Celebrity Séances
DESCRIPTION:Writer and Broadcaster Dr Kate Cherrell discusses the persistent connection between celebrity culture and supernatural phenomena\, particularly séances. It highlights how mediums and psychics have capitalized on the deaths of famous individuals\, fuelling public imagination and para-social relationships that extend beyond death. The talk will explore the history of celebrity séances in the West\, from alleged Elvis sightings to Mark Twain’s supposed posthumous writings\, suggesting that these practices reveal more about our own desires and societal needs than about the celebrities themselves.
URL:https://greenwichreview.com/event/has-elvis-really-left-the-building-a-short-history-of-celebrity-seances/
LOCATION:Duke of Greenwich\, 91 Colomb Street\, London\, SE10 9EZ
ORGANIZER;CN="Greenwich Skeptics In The Pub":MAILTO:contact@sitp.online
END:VEVENT
BEGIN:VEVENT
DTSTART;TZID=UTC:20250611T193000
DTEND;TZID=UTC:20250611T213000
DTSTAMP:20260424T151307
CREATED:20250507T195438Z
LAST-MODIFIED:20250507T200046Z
UID:10003539-1749670200-1749677400@greenwichreview.com
SUMMARY:Historic Building Mythbusting
DESCRIPTION:A talk with Buildings archaeologist James Wright. James will explore the popular and often romanticized stories associated with ancient buildings. While these tales of secret passages\, defensive spiral staircases\, repurposed ship timbers\, blocked “Devil doors\,” and claims of being the oldest pub are widely believed\, James will investigate their underlying truths. The text suggests that the actual history behind these myths can be even more captivating than the legends themselves.
URL:https://greenwichreview.com/event/historic-building-mythbusting/
LOCATION:Duke of Greenwich\, 91 Colomb Street\, London\, SE10 9EZ
ORGANIZER;CN="Greenwich Skeptics In The Pub":MAILTO:contact@sitp.online
END:VEVENT
BEGIN:VEVENT
DTSTART;TZID=UTC:20250514T193000
DTEND;TZID=UTC:20250514T213000
DTSTAMP:20260424T151307
CREATED:20250507T194136Z
LAST-MODIFIED:20250507T213115Z
UID:10003538-1747251000-1747258200@greenwichreview.com
SUMMARY:How to Transform a Tea Towel into a Chicken and Other Mysteries
DESCRIPTION:Professor Richard Wiseman of the University of Herefordshire gives a talk that will explore the fascinating world of magic and illusion. Attendees will experience captivating optical illusions\, delve into the psychological principles behind magic\, see investigations into paranormal claims\, learn the surprising benefits of mastering illusions\, and even witness the transformation of a tea towel into a chicken. The talk promises to be an engaging and educational journey through Professor Wiseman’s academic experiences. \nGreenwich Skeptics in the Pub
URL:https://greenwichreview.com/event/greenwich-skeptics-in-the-pub/
LOCATION:Duke of Greenwich\, 91 Colomb Street\, London\, SE10 9EZ
ORGANIZER;CN="Greenwich Skeptics In The Pub":MAILTO:contact@sitp.online
END:VEVENT
END:VCALENDAR