BEGIN:VCALENDAR
VERSION:2.0
PRODID:-//Greenwich Review - ECPv6.15.20//NONSGML v1.0//EN
CALSCALE:GREGORIAN
METHOD:PUBLISH
X-ORIGINAL-URL:https://greenwichreview.com
X-WR-CALDESC:Events for Greenwich Review
REFRESH-INTERVAL;VALUE=DURATION:PT1H
X-Robots-Tag:noindex
X-PUBLISHED-TTL:PT1H
BEGIN:VTIMEZONE
TZID:UTC
BEGIN:STANDARD
TZOFFSETFROM:+0000
TZOFFSETTO:+0000
TZNAME:UTC
DTSTART:20230101T000000
END:STANDARD
END:VTIMEZONE
BEGIN:VEVENT
DTSTART;TZID=UTC:20241108T190000
DTEND;TZID=UTC:20241108T210000
DTSTAMP:20260425T171424
CREATED:20240607T214003Z
LAST-MODIFIED:20240607T214003Z
UID:10002324-1731092400-1731099600@greenwichreview.com
SUMMARY:An Evening of Jazz with Hope Augustus and Chris Harrison
DESCRIPTION:An Evening of Jazz with Hope Augustus and Chris Harrison \n2nd Friday of each month at the Artfix cafe\, Greenwich Market.
URL:https://greenwichreview.com/event/an-evening-of-jazz-with-hope-augustus-and-chris-harrison-7/
LOCATION:ArtFix Cafe\, 7 Dumford Street\, London\, SE10 9BF\, United Kingdom
END:VEVENT
BEGIN:VEVENT
DTSTART;TZID=UTC:20240913T190000
DTEND;TZID=UTC:20240913T210000
DTSTAMP:20260425T171424
CREATED:20240607T213829Z
LAST-MODIFIED:20240607T213829Z
UID:10002322-1726254000-1726261200@greenwichreview.com
SUMMARY:An Evening of Jazz with Hope Augustus and Chris Harrison
DESCRIPTION:An Evening of Jazz with Hope Augustus and Chris Harrison \n2nd Friday of each month at the Artfix cafe\, Greenwich Market.
URL:https://greenwichreview.com/event/an-evening-of-jazz-with-hope-augustus-and-chris-harrison-5/
LOCATION:ArtFix Cafe\, 7 Dumford Street\, London\, SE10 9BF\, United Kingdom
END:VEVENT
BEGIN:VEVENT
DTSTART;TZID=UTC:20240809T190000
DTEND;TZID=UTC:20240809T210000
DTSTAMP:20260425T171424
CREATED:20240607T213736Z
LAST-MODIFIED:20240607T213736Z
UID:10002321-1723230000-1723237200@greenwichreview.com
SUMMARY:An Evening of Jazz with Hope Augustus and Chris Harrison
DESCRIPTION:An Evening of Jazz with Hope Augustus and Chris Harrison \n2nd Friday of each month at the Artfix cafe\, Greenwich Market.
URL:https://greenwichreview.com/event/an-evening-of-jazz-with-hope-augustus-and-chris-harrison-4/
LOCATION:ArtFix Cafe\, 7 Dumford Street\, London\, SE10 9BF\, United Kingdom
END:VEVENT
BEGIN:VEVENT
DTSTART;TZID=UTC:20240715T190000
DTEND;TZID=UTC:20240715T210000
DTSTAMP:20260425T171424
CREATED:20240607T213611Z
LAST-MODIFIED:20240607T213611Z
UID:10002320-1721070000-1721077200@greenwichreview.com
SUMMARY:An Evening of Jazz with Hope Augustus and Chris Harrison
DESCRIPTION:An Evening of Jazz with Hope Augustus and Chris Harrison \n2nd Friday of each month at the Artfix cafe\, Greenwich Market.
URL:https://greenwichreview.com/event/an-evening-of-jazz-with-hope-augustus-and-chris-harrison-3/
LOCATION:ArtFix Cafe\, 7 Dumford Street\, London\, SE10 9BF\, United Kingdom
END:VEVENT
BEGIN:VEVENT
DTSTART;TZID=UTC:20240614T190000
DTEND;TZID=UTC:20240614T210000
DTSTAMP:20260425T171424
CREATED:20240607T213449Z
LAST-MODIFIED:20240607T213449Z
UID:10002319-1718391600-1718398800@greenwichreview.com
SUMMARY:An Evening of Jazz with Hope Augustus and Chris Harrison
DESCRIPTION:An Evening of Jazz with Hope Augustus and Chris Harrison \n2nd Friday of each month at the Artfix cafe\, Greenwich Market.
URL:https://greenwichreview.com/event/an-evening-of-jazz-with-hope-augustus-and-chris-harrison-2/
LOCATION:ArtFix Cafe\, 7 Dumford Street\, London\, SE10 9BF\, United Kingdom
END:VEVENT
BEGIN:VEVENT
DTSTART;TZID=UTC:20240510T190000
DTEND;TZID=UTC:20240510T210000
DTSTAMP:20260425T171424
CREATED:20240607T213238Z
LAST-MODIFIED:20240607T213238Z
UID:10002318-1715367600-1715374800@greenwichreview.com
SUMMARY:An Evening of Jazz with Hope Augustus and Chris Harrison
DESCRIPTION:An Evening of Jazz with Hope Augustus and Chris Harrison \n2nd Friday of each month at the Artfix cafe\, Greenwich Market.
URL:https://greenwichreview.com/event/an-evening-of-jazz-with-hope-augustus-and-chris-harrison/
LOCATION:ArtFix Cafe\, 7 Dumford Street\, London\, SE10 9BF\, United Kingdom
END:VEVENT
END:VCALENDAR