BEGIN:VCALENDAR
VERSION:2.0
PRODID:-//Greenwich Review - ECPv6.15.20//NONSGML v1.0//EN
CALSCALE:GREGORIAN
METHOD:PUBLISH
X-ORIGINAL-URL:https://greenwichreview.com
X-WR-CALDESC:Events for Greenwich Review
REFRESH-INTERVAL;VALUE=DURATION:PT1H
X-Robots-Tag:noindex
X-PUBLISHED-TTL:PT1H
BEGIN:VTIMEZONE
TZID:UTC
BEGIN:STANDARD
TZOFFSETFROM:+0000
TZOFFSETTO:+0000
TZNAME:UTC
DTSTART:20220101T000000
END:STANDARD
END:VTIMEZONE
BEGIN:VEVENT
DTSTART;TZID=UTC:20240514T193000
DTEND;TZID=UTC:20240514T213000
DTSTAMP:20260425T035241
CREATED:20240420T224809Z
LAST-MODIFIED:20240420T224809Z
UID:10002055-1715715000-1715722200@greenwichreview.com
SUMMARY:Jukebox Journey Musical Theatre Adult Course
DESCRIPTION:Led by musical director Oliver Payne and  musical theatre director Natalie Harman\, come and rehearse and perform a selection of Musical Theatre favourites from Jukebox musicals including: \nABBA Mamma Mia\nFrank Sinatra New York\, New York\nCarole King You’ve Got a Friend\nBernstein Somewhere \nCourse location in the Hearn Recital Rooms in Blackheath Halls. \nMusic rehearsals Tue 16\, 23\, 30 Apr\, 7 & 14 May 7.30pm-9.30pm & Sun 12 May 10am-12pm\nDuet & Trio rehearsal Sun 12 May 12.30pm-2.30pm\nDress rehearsal Sat 18 May 4pm-6pm\nPerformance Sat 18 May 7pm \n 
URL:https://greenwichreview.com/event/jukebox-journey-musical-theatre-adult-course/2024-05-14/
LOCATION:Blackheath Halls\, 23 Lee Rd\, Blackheath\, London\, SE3 9RQ
END:VEVENT
BEGIN:VEVENT
DTSTART;TZID=UTC:20240507T193000
DTEND;TZID=UTC:20240507T213000
DTSTAMP:20260425T035241
CREATED:20240420T224809Z
LAST-MODIFIED:20240420T224809Z
UID:10002054-1715110200-1715117400@greenwichreview.com
SUMMARY:Jukebox Journey Musical Theatre Adult Course
DESCRIPTION:Led by musical director Oliver Payne and  musical theatre director Natalie Harman\, come and rehearse and perform a selection of Musical Theatre favourites from Jukebox musicals including: \nABBA Mamma Mia\nFrank Sinatra New York\, New York\nCarole King You’ve Got a Friend\nBernstein Somewhere \nCourse location in the Hearn Recital Rooms in Blackheath Halls. \nMusic rehearsals Tue 16\, 23\, 30 Apr\, 7 & 14 May 7.30pm-9.30pm & Sun 12 May 10am-12pm\nDuet & Trio rehearsal Sun 12 May 12.30pm-2.30pm\nDress rehearsal Sat 18 May 4pm-6pm\nPerformance Sat 18 May 7pm \n 
URL:https://greenwichreview.com/event/jukebox-journey-musical-theatre-adult-course/2024-05-07/
LOCATION:Blackheath Halls\, 23 Lee Rd\, Blackheath\, London\, SE3 9RQ
END:VEVENT
BEGIN:VEVENT
DTSTART;TZID=UTC:20240504T100000
DTEND;TZID=UTC:20240504T120000
DTSTAMP:20260425T035241
CREATED:20240420T225402Z
LAST-MODIFIED:20240420T225402Z
UID:10002056-1714816800-1714824000@greenwichreview.com
SUMMARY:Jukebox Journey Musical Theatre Adult Course
DESCRIPTION:Led by musical director Oliver Payne and  musical theatre director Natalie Harman\, come and rehearse and perform a selection of Musical Theatre favourites from Jukebox musicals including: \nABBA Mamma Mia\nFrank Sinatra New York\, New York\nCarole King You’ve Got a Friend\nBernstein Somewhere \nCourse location in the Hearn Recital Rooms in Blackheath Halls. \nMusic rehearsals Tue 16\, 23\, 30 Apr\, 7 & 14 May 7.30pm-9.30pm & Sun 12 May 10am-12pm\nDuet & Trio rehearsal Sun 12 May 12.30pm-2.30pm\nDress rehearsal Sat 18 May 4pm-6pm\nPerformance Sat 18 May 7pm
URL:https://greenwichreview.com/event/jukebox-journey-musical-theatre-adult-course-2/
LOCATION:Blackheath Halls\, 23 Lee Rd\, Blackheath\, London\, SE3 9RQ
END:VEVENT
BEGIN:VEVENT
DTSTART;TZID=UTC:20240430T193000
DTEND;TZID=UTC:20240430T213000
DTSTAMP:20260425T035241
CREATED:20240420T224809Z
LAST-MODIFIED:20240420T224809Z
UID:10002053-1714505400-1714512600@greenwichreview.com
SUMMARY:Jukebox Journey Musical Theatre Adult Course
DESCRIPTION:Led by musical director Oliver Payne and  musical theatre director Natalie Harman\, come and rehearse and perform a selection of Musical Theatre favourites from Jukebox musicals including: \nABBA Mamma Mia\nFrank Sinatra New York\, New York\nCarole King You’ve Got a Friend\nBernstein Somewhere \nCourse location in the Hearn Recital Rooms in Blackheath Halls. \nMusic rehearsals Tue 16\, 23\, 30 Apr\, 7 & 14 May 7.30pm-9.30pm & Sun 12 May 10am-12pm\nDuet & Trio rehearsal Sun 12 May 12.30pm-2.30pm\nDress rehearsal Sat 18 May 4pm-6pm\nPerformance Sat 18 May 7pm \n 
URL:https://greenwichreview.com/event/jukebox-journey-musical-theatre-adult-course/2024-04-30/
LOCATION:Blackheath Halls\, 23 Lee Rd\, Blackheath\, London\, SE3 9RQ
END:VEVENT
BEGIN:VEVENT
DTSTART;TZID=UTC:20240427T193000
DTEND;TZID=UTC:20240427T220000
DTSTAMP:20260425T035241
CREATED:20240420T223943Z
LAST-MODIFIED:20240420T223943Z
UID:10002050-1714246200-1714255200@greenwichreview.com
SUMMARY:Marty Wilde: Greatest Hits Tour 2024
DESCRIPTION:Legendary Rocker Marty Wilde with his band the Wildcats.
URL:https://greenwichreview.com/event/marty-wilde-greatest-hits-tour-2024/
LOCATION:Blackheath Halls\, 23 Lee Rd\, Blackheath\, London\, SE3 9RQ
END:VEVENT
BEGIN:VEVENT
DTSTART;TZID=UTC:20240426T190000
DTEND;TZID=UTC:20240426T210000
DTSTAMP:20260425T035241
CREATED:20240420T222359Z
LAST-MODIFIED:20240420T223452Z
UID:10002046-1714158000-1714165200@greenwichreview.com
SUMMARY:Opera Scenes at Blackheath Halls
DESCRIPTION:Arabella\, Don Giovanni\, Hänsel und Gretel\, Nabucco\, Tancredi \nFree but booking is required.
URL:https://greenwichreview.com/event/opera-scenes-at-blackheath-halls/
LOCATION:Blackheath Halls\, 23 Lee Rd\, Blackheath\, London\, SE3 9RQ
END:VEVENT
BEGIN:VEVENT
DTSTART;TZID=UTC:20240425T200000
DTEND;TZID=UTC:20240425T210000
DTSTAMP:20260425T035241
CREATED:20240420T222627Z
LAST-MODIFIED:20240420T223327Z
UID:10002047-1714075200-1714078800@greenwichreview.com
SUMMARY:Opera Scenes at Blackheath Halls
DESCRIPTION:Nabucco\, Orfeo ed Euridice\, The Rake’s Progress \nFree but booking is required.
URL:https://greenwichreview.com/event/opera-scenes-at-blackheath-halls-2/
LOCATION:Blackheath Halls\, 23 Lee Rd\, Blackheath\, London\, SE3 9RQ
END:VEVENT
BEGIN:VEVENT
DTSTART;TZID=UTC:20240425T183000
DTEND;TZID=UTC:20240425T193000
DTSTAMP:20260425T035241
CREATED:20240420T222856Z
LAST-MODIFIED:20240420T223413Z
UID:10002048-1714069800-1714073400@greenwichreview.com
SUMMARY:Opera Scenes at Blackheath Halls
DESCRIPTION:Don Giovanni\, Orfeo ed Euridice\, The Turn of the Screw \nFree but booking is required.
URL:https://greenwichreview.com/event/opera-scenes-at-blackheath-halls-3/
LOCATION:Blackheath Halls\, 23 Lee Rd\, Blackheath\, London\, SE3 9RQ
END:VEVENT
BEGIN:VEVENT
DTSTART;TZID=UTC:20240424T190000
DTEND;TZID=UTC:20240424T210000
DTSTAMP:20260425T035241
CREATED:20240420T223125Z
LAST-MODIFIED:20240420T223125Z
UID:10002049-1713985200-1713992400@greenwichreview.com
SUMMARY:Opera Scenes at Blackheath Halls
DESCRIPTION:Arabella\, Don Giovanni\, Nabucco\, The Rake’s Progress\, The Turn of the Screw \nFree but booking is required.
URL:https://greenwichreview.com/event/opera-scenes-at-blackheath-halls-4/
LOCATION:Blackheath Halls\, 23 Lee Rd\, Blackheath\, London\, SE3 9RQ
END:VEVENT
BEGIN:VEVENT
DTSTART;TZID=UTC:20240423T193000
DTEND;TZID=UTC:20240423T213000
DTSTAMP:20260425T035241
CREATED:20240420T224809Z
LAST-MODIFIED:20240420T224809Z
UID:10002052-1713900600-1713907800@greenwichreview.com
SUMMARY:Jukebox Journey Musical Theatre Adult Course
DESCRIPTION:Led by musical director Oliver Payne and  musical theatre director Natalie Harman\, come and rehearse and perform a selection of Musical Theatre favourites from Jukebox musicals including: \nABBA Mamma Mia\nFrank Sinatra New York\, New York\nCarole King You’ve Got a Friend\nBernstein Somewhere \nCourse location in the Hearn Recital Rooms in Blackheath Halls. \nMusic rehearsals Tue 16\, 23\, 30 Apr\, 7 & 14 May 7.30pm-9.30pm & Sun 12 May 10am-12pm\nDuet & Trio rehearsal Sun 12 May 12.30pm-2.30pm\nDress rehearsal Sat 18 May 4pm-6pm\nPerformance Sat 18 May 7pm \n 
URL:https://greenwichreview.com/event/jukebox-journey-musical-theatre-adult-course/2024-04-23/
LOCATION:Blackheath Halls\, 23 Lee Rd\, Blackheath\, London\, SE3 9RQ
END:VEVENT
BEGIN:VEVENT
DTSTART;TZID=UTC:20240416T193000
DTEND;TZID=UTC:20240416T213000
DTSTAMP:20260425T035241
CREATED:20240420T224809Z
LAST-MODIFIED:20240420T224809Z
UID:10002051-1713295800-1713303000@greenwichreview.com
SUMMARY:Jukebox Journey Musical Theatre Adult Course
DESCRIPTION:Led by musical director Oliver Payne and  musical theatre director Natalie Harman\, come and rehearse and perform a selection of Musical Theatre favourites from Jukebox musicals including: \nABBA Mamma Mia\nFrank Sinatra New York\, New York\nCarole King You’ve Got a Friend\nBernstein Somewhere \nCourse location in the Hearn Recital Rooms in Blackheath Halls. \nMusic rehearsals Tue 16\, 23\, 30 Apr\, 7 & 14 May 7.30pm-9.30pm & Sun 12 May 10am-12pm\nDuet & Trio rehearsal Sun 12 May 12.30pm-2.30pm\nDress rehearsal Sat 18 May 4pm-6pm\nPerformance Sat 18 May 7pm \n 
URL:https://greenwichreview.com/event/jukebox-journey-musical-theatre-adult-course/2024-04-16/
LOCATION:Blackheath Halls\, 23 Lee Rd\, Blackheath\, London\, SE3 9RQ
END:VEVENT
BEGIN:VEVENT
DTSTART;TZID=UTC:20231028T200000
DTEND;TZID=UTC:20231028T210000
DTSTAMP:20260425T035241
CREATED:20221204T155553Z
LAST-MODIFIED:20221204T155553Z
UID:10000163-1698523200-1698526800@greenwichreview.com
SUMMARY:AKA Trio
DESCRIPTION:Great Hall – AKA Trio consists of Italian guitarist\, Antonio Forcione; Senegalese kora player; Seckou Keita; and Brazilian percussionist\, Adriano Adewale. Playing music from Africa\, Europe\, and South America.
URL:https://greenwichreview.com/event/aka-trio/
LOCATION:Blackheath Halls\, 23 Lee Rd\, Blackheath\, London\, SE3 9RQ
END:VEVENT
BEGIN:VEVENT
DTSTART;TZID=UTC:20230528T140000
DTEND;TZID=UTC:20230528T150000
DTSTAMP:20260425T035241
CREATED:20221204T155204Z
LAST-MODIFIED:20221204T155204Z
UID:10000140-1685282400-1685286000@greenwichreview.com
SUMMARY:Twirlywoos Live!
DESCRIPTION:Great Hall – BBC children’s television show brought to life on stage. suitable for toddlers aged 1+.
URL:https://greenwichreview.com/event/twirlywoos-live-4/
LOCATION:Blackheath Halls\, 23 Lee Rd\, Blackheath\, London\, SE3 9RQ
END:VEVENT
BEGIN:VEVENT
DTSTART;TZID=UTC:20230528T110000
DTEND;TZID=UTC:20230528T120000
DTSTAMP:20260425T035241
CREATED:20221204T155021Z
LAST-MODIFIED:20221204T155021Z
UID:10000141-1685271600-1685275200@greenwichreview.com
SUMMARY:Twirlywoos Live!
DESCRIPTION:Great Hall – BBC children’s television show brought to life on stage. suitable for toddlers aged 1+.
URL:https://greenwichreview.com/event/twirlywoos-live-3/
LOCATION:Blackheath Halls\, 23 Lee Rd\, Blackheath\, London\, SE3 9RQ
END:VEVENT
BEGIN:VEVENT
DTSTART;TZID=UTC:20230527T160000
DTEND;TZID=UTC:20230527T170000
DTSTAMP:20260425T035241
CREATED:20221204T154814Z
LAST-MODIFIED:20221204T154814Z
UID:10000142-1685203200-1685206800@greenwichreview.com
SUMMARY:Twirlywoos Live!
DESCRIPTION:Great Hall – BBC children’s television show brought to life on stage. suitable for toddlers aged 1+.
URL:https://greenwichreview.com/event/twirlywoos-live-2/
LOCATION:Blackheath Halls\, 23 Lee Rd\, Blackheath\, London\, SE3 9RQ
END:VEVENT
BEGIN:VEVENT
DTSTART;TZID=UTC:20230527T133000
DTEND;TZID=UTC:20230527T143000
DTSTAMP:20260425T035241
CREATED:20221204T154611Z
LAST-MODIFIED:20221204T154611Z
UID:10000143-1685194200-1685197800@greenwichreview.com
SUMMARY:Twirlywoos Live!
DESCRIPTION:Great Hall – BBC children’s television show brought to life on stage. suitable for toddlers aged 1+.
URL:https://greenwichreview.com/event/twirlywoos-live/
LOCATION:Blackheath Halls\, 23 Lee Rd\, Blackheath\, London\, SE3 9RQ
END:VEVENT
BEGIN:VEVENT
DTSTART;TZID=UTC:20230513T193000
DTEND;TZID=UTC:20230513T220000
DTSTAMP:20260425T035241
CREATED:20221204T151312Z
LAST-MODIFIED:20221204T151312Z
UID:10000144-1684006200-1684015200@greenwichreview.com
SUMMARY:Kate Rusby
DESCRIPTION:Great Hall – Kate Rusby\, Mercury music prize winner often referred to as the first lady of folk singing.
URL:https://greenwichreview.com/event/kate-rusby/
LOCATION:Blackheath Halls\, 23 Lee Rd\, Blackheath\, London\, SE3 9RQ
END:VEVENT
BEGIN:VEVENT
DTSTART;TZID=UTC:20230430T140000
DTEND;TZID=UTC:20230430T150000
DTSTAMP:20260425T035241
CREATED:20221204T144932Z
LAST-MODIFIED:20221204T144932Z
UID:10000147-1682863200-1682866800@greenwichreview.com
SUMMARY:The Smeds and The Smoos
DESCRIPTION:Great Hall – A children’s interplanetary love story about friendship for toddlers aged 3 and upwards.
URL:https://greenwichreview.com/event/the-smeds-and-the-smoos-2/
LOCATION:Blackheath Halls\, 23 Lee Rd\, Blackheath\, London\, SE3 9RQ
END:VEVENT
BEGIN:VEVENT
DTSTART;TZID=UTC:20230430T110000
DTEND;TZID=UTC:20230430T120000
DTSTAMP:20260425T035241
CREATED:20221204T144642Z
LAST-MODIFIED:20221204T144642Z
UID:10000148-1682852400-1682856000@greenwichreview.com
SUMMARY:The Smeds and The Smoos
DESCRIPTION:Great Hall – A children’s interplanetary love story about friendship for toddlers aged 3 and upwards.
URL:https://greenwichreview.com/event/the-smeds-and-the-smoos/
LOCATION:Blackheath Halls\, 23 Lee Rd\, Blackheath\, London\, SE3 9RQ
END:VEVENT
BEGIN:VEVENT
DTSTART;TZID=UTC:20230429T160000
DTEND;TZID=UTC:20230429T170000
DTSTAMP:20260425T035241
CREATED:20221204T150505Z
LAST-MODIFIED:20221204T150505Z
UID:10000145-1682784000-1682787600@greenwichreview.com
SUMMARY:The Smeds and The Smoos
DESCRIPTION:Great Hall – A children’s interplanetary love story about friendship for toddlers aged 3 and upwards.
URL:https://greenwichreview.com/event/the-smeds-and-the-smoos-4/
LOCATION:Blackheath Halls\, 23 Lee Rd\, Blackheath\, London\, SE3 9RQ
END:VEVENT
BEGIN:VEVENT
DTSTART;TZID=UTC:20230429T133000
DTEND;TZID=UTC:20230429T143000
DTSTAMP:20260425T035241
CREATED:20221204T150318Z
LAST-MODIFIED:20221204T150318Z
UID:10000146-1682775000-1682778600@greenwichreview.com
SUMMARY:The Smeds and The Smoos
DESCRIPTION:Great Hall – A children’s interplanetary love story about friendship for toddlers aged 3 and upwards.
URL:https://greenwichreview.com/event/the-smeds-and-the-smoos-3/
LOCATION:Blackheath Halls\, 23 Lee Rd\, Blackheath\, London\, SE3 9RQ
END:VEVENT
BEGIN:VEVENT
DTSTART;TZID=UTC:20230421T200000
DTEND;TZID=UTC:20230421T214000
DTSTAMP:20260425T035241
CREATED:20221204T144117Z
LAST-MODIFIED:20221204T144117Z
UID:10000149-1682107200-1682113200@greenwichreview.com
SUMMARY:Angeline Morrison
DESCRIPTION:The Hearn Recital Room – Angeline Morrison is a vocalist\, songwriter\, multi-instrumentalist\, and Morris dancer based in Cornwall\, who believes in the inherent beauty of sad songs.
URL:https://greenwichreview.com/event/angeline-morrison/
LOCATION:Blackheath Halls\, 23 Lee Rd\, Blackheath\, London\, SE3 9RQ
END:VEVENT
BEGIN:VEVENT
DTSTART;TZID=UTC:20230412T150000
DTEND;TZID=UTC:20230412T155500
DTSTAMP:20260425T035241
CREATED:20221204T143753Z
LAST-MODIFIED:20221204T143753Z
UID:10000150-1681311600-1681314900@greenwichreview.com
SUMMARY:Cinderella
DESCRIPTION:Great Hall – A family show of the classic fairytale.
URL:https://greenwichreview.com/event/cinderella/
LOCATION:Blackheath Halls\, 23 Lee Rd\, Blackheath\, London\, SE3 9RQ
END:VEVENT
BEGIN:VEVENT
DTSTART;TZID=UTC:20230325T073000
DTEND;TZID=UTC:20230325T220000
DTSTAMP:20260425T035241
CREATED:20221204T143055Z
LAST-MODIFIED:20221204T143055Z
UID:10000139-1679729400-1679781600@greenwichreview.com
SUMMARY:Danny Baker | At last…The Sausage Sandwich Tour
DESCRIPTION:Great Hall – Comedic talk with TV and radio presenter Danny Baker\, talking about his life.
URL:https://greenwichreview.com/event/danny-baker-at-lastthe-sausage-sandwich-tour/
LOCATION:Blackheath Halls\, 23 Lee Rd\, Blackheath\, London\, SE3 9RQ
END:VEVENT
BEGIN:VEVENT
DTSTART;TZID=UTC:20230323T200000
DTEND;TZID=UTC:20230323T221000
DTSTAMP:20260425T035241
CREATED:20221204T143518Z
LAST-MODIFIED:20221204T143518Z
UID:10000151-1679601600-1679609400@greenwichreview.com
SUMMARY:George Hinchliffe’s Ukulele Orchestra of Great Britain
DESCRIPTION:Great Hall – The Ukulele Orchestra of Great Britain who have played with many of the top artists\, such as Madness\, Robbie Williams\, Clean Bandit\, and Cat Stevens.
URL:https://greenwichreview.com/event/george-hinchliffes-ukulele-orchestra-of-great-britain/
LOCATION:Blackheath Halls\, 23 Lee Rd\, Blackheath\, London\, SE3 9RQ
END:VEVENT
BEGIN:VEVENT
DTSTART;TZID=UTC:20230319T200000
DTEND;TZID=UTC:20230319T214000
DTSTAMP:20260425T035241
CREATED:20221204T142745Z
LAST-MODIFIED:20221204T142745Z
UID:10000153-1679256000-1679262000@greenwichreview.com
SUMMARY:Justin Moorhouse | Stretch & Think
DESCRIPTION:Great Hall – Comedy show with Justin Moorhouse.
URL:https://greenwichreview.com/event/justin-moorhouse-stretch-think/
LOCATION:Blackheath Halls\, 23 Lee Rd\, Blackheath\, London\, SE3 9RQ
END:VEVENT
BEGIN:VEVENT
DTSTART;TZID=UTC:20230318T200000
DTEND;TZID=UTC:20230318T220000
DTSTAMP:20260425T035241
CREATED:20221204T142459Z
LAST-MODIFIED:20221204T142459Z
UID:10000154-1679169600-1679176800@greenwichreview.com
SUMMARY:Cara Dillon
DESCRIPTION:Great Hall – Acclaimed Irish singer.
URL:https://greenwichreview.com/event/cara-dillon/
LOCATION:Blackheath Halls\, 23 Lee Rd\, Blackheath\, London\, SE3 9RQ
END:VEVENT
BEGIN:VEVENT
DTSTART;TZID=UTC:20230311T150000
DTEND;TZID=UTC:20230311T153000
DTSTAMP:20260425T035241
CREATED:20221204T142105Z
LAST-MODIFIED:20221204T142105Z
UID:10000155-1678546800-1678548600@greenwichreview.com
SUMMARY:The Princess and The Frog
DESCRIPTION:The Hearn Recital Room – Children’s dance performance\, following the classic Princess and the frog fairytale scenario.
URL:https://greenwichreview.com/event/the-princess-and-the-frog-2/
LOCATION:Blackheath Halls\, 23 Lee Rd\, Blackheath\, London\, SE3 9RQ
END:VEVENT
BEGIN:VEVENT
DTSTART;TZID=UTC:20230311T130000
DTEND;TZID=UTC:20230311T133000
DTSTAMP:20260425T035241
CREATED:20221204T141927Z
LAST-MODIFIED:20221204T141927Z
UID:10000157-1678539600-1678541400@greenwichreview.com
SUMMARY:The Princess and The Frog
DESCRIPTION:The Hearn Recital Room – Children’s dance performance\, following the classic Princess and the frog fairytale scenario.
URL:https://greenwichreview.com/event/the-princess-and-the-frog/
LOCATION:Blackheath Halls\, 23 Lee Rd\, Blackheath\, London\, SE3 9RQ
END:VEVENT
BEGIN:VEVENT
DTSTART;TZID=UTC:20230304T193000
DTEND;TZID=UTC:20230304T212000
DTSTAMP:20260425T035241
CREATED:20221204T141356Z
LAST-MODIFIED:20221204T141356Z
UID:10000159-1677958200-1677964800@greenwichreview.com
SUMMARY:Banter
DESCRIPTION:The Hearn Recital Room – Nina Zella\, Simon Care\, Tim Walker\, and Mark Jolley. Four fine musicians whose roots are firmly in the traditional English genre.
URL:https://greenwichreview.com/event/banter/
LOCATION:Blackheath Halls\, 23 Lee Rd\, Blackheath\, London\, SE3 9RQ
END:VEVENT
END:VCALENDAR