BEGIN:VCALENDAR
VERSION:2.0
PRODID:-//Greenwich Review - ECPv6.15.20//NONSGML v1.0//EN
CALSCALE:GREGORIAN
METHOD:PUBLISH
X-ORIGINAL-URL:https://greenwichreview.com
X-WR-CALDESC:Events for Greenwich Review
REFRESH-INTERVAL;VALUE=DURATION:PT1H
X-Robots-Tag:noindex
X-PUBLISHED-TTL:PT1H
BEGIN:VTIMEZONE
TZID:UTC
BEGIN:STANDARD
TZOFFSETFROM:+0000
TZOFFSETTO:+0000
TZNAME:UTC
DTSTART:20240101T000000
END:STANDARD
END:VTIMEZONE
BEGIN:VEVENT
DTSTART;TZID=UTC:20251018T194500
DTEND;TZID=UTC:20251018T220000
DTSTAMP:20260424T220040
CREATED:20250526T205324Z
LAST-MODIFIED:20250526T205324Z
UID:10003579-1760816700-1760824800@greenwichreview.com
SUMMARY:Rent
DESCRIPTION:Bromley Players is excited to revisit Rent\, Jonathan Larson’s iconic\, Pulitzer Prize-winning musical that captivated a generation and taught us all to measure our lives in love. \n\nAbout the Play\nSet in New York City’s East Village at the dawn of the 1990s\, Rent tells the story of a group of impoverished young artists struggling to survive and create a life in bohemian Alphabet City\, all while living under the shadow of HIV/AIDS. This pop cultural phenomenon\, winner of the Tony Award for Best Musical and the Pulitzer Prize for Drama\, explores themes of falling in love\, finding your voice\, and living for today\, with rock anthems and a story that resonates with audiences of all ages.
URL:https://greenwichreview.com/event/rent-4/
LOCATION:Bob Hope Theatre\, Wythfield Road\, London\, SE9 5TG
ORGANIZER;CN="Bob Hope Theatre":MAILTO:info@bobhopetheatre.co.uk
END:VEVENT
BEGIN:VEVENT
DTSTART;TZID=UTC:20251017T194500
DTEND;TZID=UTC:20251017T220000
DTSTAMP:20260424T220040
CREATED:20250526T205216Z
LAST-MODIFIED:20250526T205216Z
UID:10003578-1760730300-1760738400@greenwichreview.com
SUMMARY:Rent
DESCRIPTION:Bromley Players is excited to revisit Rent\, Jonathan Larson’s iconic\, Pulitzer Prize-winning musical that captivated a generation and taught us all to measure our lives in love. \n\nAbout the Play\nSet in New York City’s East Village at the dawn of the 1990s\, Rent tells the story of a group of impoverished young artists struggling to survive and create a life in bohemian Alphabet City\, all while living under the shadow of HIV/AIDS. This pop cultural phenomenon\, winner of the Tony Award for Best Musical and the Pulitzer Prize for Drama\, explores themes of falling in love\, finding your voice\, and living for today\, with rock anthems and a story that resonates with audiences of all ages.
URL:https://greenwichreview.com/event/rent-3/
LOCATION:Bob Hope Theatre\, Wythfield Road\, London\, SE9 5TG
ORGANIZER;CN="Bob Hope Theatre":MAILTO:info@bobhopetheatre.co.uk
END:VEVENT
BEGIN:VEVENT
DTSTART;TZID=UTC:20251016T194500
DTEND;TZID=UTC:20251016T220000
DTSTAMP:20260424T220040
CREATED:20250526T205114Z
LAST-MODIFIED:20250526T205114Z
UID:10003577-1760643900-1760652000@greenwichreview.com
SUMMARY:Rent
DESCRIPTION:Bromley Players is excited to revisit Rent\, Jonathan Larson’s iconic\, Pulitzer Prize-winning musical that captivated a generation and taught us all to measure our lives in love. \n\nAbout the Play\nSet in New York City’s East Village at the dawn of the 1990s\, Rent tells the story of a group of impoverished young artists struggling to survive and create a life in bohemian Alphabet City\, all while living under the shadow of HIV/AIDS. This pop cultural phenomenon\, winner of the Tony Award for Best Musical and the Pulitzer Prize for Drama\, explores themes of falling in love\, finding your voice\, and living for today\, with rock anthems and a story that resonates with audiences of all ages.
URL:https://greenwichreview.com/event/rent-2/
LOCATION:Bob Hope Theatre\, Wythfield Road\, London\, SE9 5TG
ORGANIZER;CN="Bob Hope Theatre":MAILTO:info@bobhopetheatre.co.uk
END:VEVENT
BEGIN:VEVENT
DTSTART;TZID=UTC:20251015T194500
DTEND;TZID=UTC:20251015T220000
DTSTAMP:20260424T220040
CREATED:20250526T205016Z
LAST-MODIFIED:20250526T205016Z
UID:10003576-1760557500-1760565600@greenwichreview.com
SUMMARY:Rent
DESCRIPTION:Bromley Players is excited to revisit Rent\, Jonathan Larson’s iconic\, Pulitzer Prize-winning musical that captivated a generation and taught us all to measure our lives in love. \n\nAbout the Play\nSet in New York City’s East Village at the dawn of the 1990s\, Rent tells the story of a group of impoverished young artists struggling to survive and create a life in bohemian Alphabet City\, all while living under the shadow of HIV/AIDS. This pop cultural phenomenon\, winner of the Tony Award for Best Musical and the Pulitzer Prize for Drama\, explores themes of falling in love\, finding your voice\, and living for today\, with rock anthems and a story that resonates with audiences of all ages.
URL:https://greenwichreview.com/event/rent/
LOCATION:Bob Hope Theatre\, Wythfield Road\, London\, SE9 5TG
ORGANIZER;CN="Bob Hope Theatre":MAILTO:info@bobhopetheatre.co.uk
END:VEVENT
BEGIN:VEVENT
DTSTART;TZID=UTC:20251011T194500
DTEND;TZID=UTC:20251011T220000
DTSTAMP:20260424T220040
CREATED:20250526T203444Z
LAST-MODIFIED:20250526T203444Z
UID:10003575-1760211900-1760220000@greenwichreview.com
SUMMARY:'Allo 'Allo 2
DESCRIPTION:Eldorado Musical Productions invites you to join the beloved René Artois\, his eccentric wife Edith\, and a cast of quirky characters for a hilarious and thrilling adventure in occupied France. Reunite with your favorite TV personalities in this side-splitting sequel where café life collides with espionage\, romance\, and the bumbling attempts of the resistance. \n\nBased on the hugely popular TV comedy series\, this sequel to the popular stage production of ‘Allo ‘Allo continues the adventures of reluctant resistance hero and harassed café owner\, René Artois\, in German-occupied wartime France. It features many of your favorite characters from the TV series and original stage play.
URL:https://greenwichreview.com/event/allo-allo-2-4/
LOCATION:Bob Hope Theatre\, Wythfield Road\, London\, SE9 5TG
ORGANIZER;CN="Bob Hope Theatre":MAILTO:info@bobhopetheatre.co.uk
END:VEVENT
BEGIN:VEVENT
DTSTART;TZID=UTC:20251010T194500
DTEND;TZID=UTC:20251010T220000
DTSTAMP:20260424T220040
CREATED:20250526T203353Z
LAST-MODIFIED:20250526T203353Z
UID:10003574-1760125500-1760133600@greenwichreview.com
SUMMARY:'Allo 'Allo 2
DESCRIPTION:Eldorado Musical Productions invites you to join the beloved René Artois\, his eccentric wife Edith\, and a cast of quirky characters for a hilarious and thrilling adventure in occupied France. Reunite with your favorite TV personalities in this side-splitting sequel where café life collides with espionage\, romance\, and the bumbling attempts of the resistance. \n\nBased on the hugely popular TV comedy series\, this sequel to the popular stage production of ‘Allo ‘Allo continues the adventures of reluctant resistance hero and harassed café owner\, René Artois\, in German-occupied wartime France. It features many of your favorite characters from the TV series and original stage play.
URL:https://greenwichreview.com/event/allo-allo-2-3/
LOCATION:Bob Hope Theatre\, Wythfield Road\, London\, SE9 5TG
ORGANIZER;CN="Bob Hope Theatre":MAILTO:info@bobhopetheatre.co.uk
END:VEVENT
BEGIN:VEVENT
DTSTART;TZID=UTC:20251009T194500
DTEND;TZID=UTC:20251009T220000
DTSTAMP:20260424T220040
CREATED:20250526T203312Z
LAST-MODIFIED:20250526T203312Z
UID:10003573-1760039100-1760047200@greenwichreview.com
SUMMARY:'Allo 'Allo 2
DESCRIPTION:Eldorado Musical Productions invites you to join the beloved René Artois\, his eccentric wife Edith\, and a cast of quirky characters for a hilarious and thrilling adventure in occupied France. Reunite with your favorite TV personalities in this side-splitting sequel where café life collides with espionage\, romance\, and the bumbling attempts of the resistance. \n\nBased on the hugely popular TV comedy series\, this sequel to the popular stage production of ‘Allo ‘Allo continues the adventures of reluctant resistance hero and harassed café owner\, René Artois\, in German-occupied wartime France. It features many of your favorite characters from the TV series and original stage play.
URL:https://greenwichreview.com/event/allo-allo-2-2/
LOCATION:Bob Hope Theatre\, Wythfield Road\, London\, SE9 5TG
ORGANIZER;CN="Bob Hope Theatre":MAILTO:info@bobhopetheatre.co.uk
END:VEVENT
BEGIN:VEVENT
DTSTART;TZID=UTC:20251008T194500
DTEND;TZID=UTC:20251008T220000
DTSTAMP:20260424T220040
CREATED:20250526T203229Z
LAST-MODIFIED:20250526T203229Z
UID:10003572-1759952700-1759960800@greenwichreview.com
SUMMARY:'Allo 'Allo 2
DESCRIPTION:Eldorado Musical Productions invites you to join the beloved René Artois\, his eccentric wife Edith\, and a cast of quirky characters for a hilarious and thrilling adventure in occupied France. Reunite with your favorite TV personalities in this side-splitting sequel where café life collides with espionage\, romance\, and the bumbling attempts of the resistance. \n\nBased on the hugely popular TV comedy series\, this sequel to the popular stage production of ‘Allo ‘Allo continues the adventures of reluctant resistance hero and harassed café owner\, René Artois\, in German-occupied wartime France. It features many of your favorite characters from the TV series and original stage play.
URL:https://greenwichreview.com/event/allo-allo-2/
LOCATION:Bob Hope Theatre\, Wythfield Road\, London\, SE9 5TG
ORGANIZER;CN="Bob Hope Theatre":MAILTO:info@bobhopetheatre.co.uk
END:VEVENT
BEGIN:VEVENT
DTSTART;TZID=UTC:20250927T194500
DTEND;TZID=UTC:20250927T220000
DTSTAMP:20260424T220040
CREATED:20250526T210309Z
LAST-MODIFIED:20250526T210309Z
UID:10003583-1759002300-1759010400@greenwichreview.com
SUMMARY:Mr Burns - A post electric play.
DESCRIPTION:In the wake of an unspecified apocalypse\, six survivors gather around a campfire\, seeking solace from their grief by recounting the “Cape Feare” episode of The Simpsons and other media. \n\nSeven Years Later\nThe group has transformed into a traveling theatre company\, specializing in performing Simpsons episodes. Live theatre has become a dominant form of entertainment in this new society\, with troupes fiercely competing to authentically replicate pre-apocalyptic stories. Despite their dedication\, their rendition of “Cape Feare” subtly diverges from the original. During a rehearsal\, armed robbers attack the group\, leaving their fates unknown. \n\n75 Years Later\n“Cape Feare” is now a musical performed in a theatre dedicated to The Simpsons. The characters\, plot\, and morals have evolved into more serious and epic forms. For instance\, Mr. Burns has merged with Sideshow Bob (the original “Cape Feare” villain) and is reimagined as a supernatural embodiment of death and destruction.
URL:https://greenwichreview.com/event/mr-burns-a-post-electric-play-4/
LOCATION:Bob Hope Theatre\, Wythfield Road\, London\, SE9 5TG
ORGANIZER;CN="Bob Hope Theatre":MAILTO:info@bobhopetheatre.co.uk
END:VEVENT
BEGIN:VEVENT
DTSTART;TZID=UTC:20250926T194500
DTEND;TZID=UTC:20250926T220000
DTSTAMP:20260424T220040
CREATED:20250526T210217Z
LAST-MODIFIED:20250526T210217Z
UID:10003582-1758915900-1758924000@greenwichreview.com
SUMMARY:Mr Burns - A post electric play.
DESCRIPTION:In the wake of an unspecified apocalypse\, six survivors gather around a campfire\, seeking solace from their grief by recounting the “Cape Feare” episode of The Simpsons and other media. \n\nSeven Years Later\nThe group has transformed into a traveling theatre company\, specializing in performing Simpsons episodes. Live theatre has become a dominant form of entertainment in this new society\, with troupes fiercely competing to authentically replicate pre-apocalyptic stories. Despite their dedication\, their rendition of “Cape Feare” subtly diverges from the original. During a rehearsal\, armed robbers attack the group\, leaving their fates unknown. \n\n75 Years Later\n“Cape Feare” is now a musical performed in a theatre dedicated to The Simpsons. The characters\, plot\, and morals have evolved into more serious and epic forms. For instance\, Mr. Burns has merged with Sideshow Bob (the original “Cape Feare” villain) and is reimagined as a supernatural embodiment of death and destruction.
URL:https://greenwichreview.com/event/mr-burns-a-post-electric-play-3/
LOCATION:Bob Hope Theatre\, Wythfield Road\, London\, SE9 5TG
ORGANIZER;CN="Bob Hope Theatre":MAILTO:info@bobhopetheatre.co.uk
END:VEVENT
BEGIN:VEVENT
DTSTART;TZID=UTC:20250925T194500
DTEND;TZID=UTC:20250925T220000
DTSTAMP:20260424T220040
CREATED:20250526T210131Z
LAST-MODIFIED:20250526T210131Z
UID:10003581-1758829500-1758837600@greenwichreview.com
SUMMARY:Mr Burns - A post electric play.
DESCRIPTION:In the wake of an unspecified apocalypse\, six survivors gather around a campfire\, seeking solace from their grief by recounting the “Cape Feare” episode of The Simpsons and other media. \n\nSeven Years Later\nThe group has transformed into a traveling theatre company\, specializing in performing Simpsons episodes. Live theatre has become a dominant form of entertainment in this new society\, with troupes fiercely competing to authentically replicate pre-apocalyptic stories. Despite their dedication\, their rendition of “Cape Feare” subtly diverges from the original. During a rehearsal\, armed robbers attack the group\, leaving their fates unknown. \n\n75 Years Later\n“Cape Feare” is now a musical performed in a theatre dedicated to The Simpsons. The characters\, plot\, and morals have evolved into more serious and epic forms. For instance\, Mr. Burns has merged with Sideshow Bob (the original “Cape Feare” villain) and is reimagined as a supernatural embodiment of death and destruction.
URL:https://greenwichreview.com/event/mr-burns-a-post-electric-play-2/
LOCATION:Bob Hope Theatre\, Wythfield Road\, London\, SE9 5TG
ORGANIZER;CN="Bob Hope Theatre":MAILTO:info@bobhopetheatre.co.uk
END:VEVENT
BEGIN:VEVENT
DTSTART;TZID=UTC:20250924T194500
DTEND;TZID=UTC:20250924T220000
DTSTAMP:20260424T220040
CREATED:20250526T210003Z
LAST-MODIFIED:20250526T210035Z
UID:10003580-1758743100-1758751200@greenwichreview.com
SUMMARY:Mr Burns - A post electric play.
DESCRIPTION:In the wake of an unspecified apocalypse\, six survivors gather around a campfire\, seeking solace from their grief by recounting the “Cape Feare” episode of The Simpsons and other media. \n\nSeven Years Later\nThe group has transformed into a traveling theatre company\, specializing in performing Simpsons episodes. Live theatre has become a dominant form of entertainment in this new society\, with troupes fiercely competing to authentically replicate pre-apocalyptic stories. Despite their dedication\, their rendition of “Cape Feare” subtly diverges from the original. During a rehearsal\, armed robbers attack the group\, leaving their fates unknown. \n\n75 Years Later\n“Cape Feare” is now a musical performed in a theatre dedicated to The Simpsons. The characters\, plot\, and morals have evolved into more serious and epic forms. For instance\, Mr. Burns has merged with Sideshow Bob (the original “Cape Feare” villain) and is reimagined as a supernatural embodiment of death and destruction.
URL:https://greenwichreview.com/event/mr-burns-a-post-electric-play/
LOCATION:Bob Hope Theatre\, Wythfield Road\, London\, SE9 5TG
ORGANIZER;CN="Bob Hope Theatre":MAILTO:info@bobhopetheatre.co.uk
END:VEVENT
BEGIN:VEVENT
DTSTART;TZID=UTC:20250712T163000
DTEND;TZID=UTC:20250712T183000
DTSTAMP:20260424T220040
CREATED:20250526T202715Z
LAST-MODIFIED:20250526T202715Z
UID:10003571-1752337800-1752345000@greenwichreview.com
SUMMARY:Once Upon A Time
DESCRIPTION:Liz Burville Performing Arts has been training children and young people in Dance\, Musical Theatre\, Drama and Singing for over 30 years. The fully equipped studios in Bexley have been the home to many successful professional performers and teachers.
URL:https://greenwichreview.com/event/once-upon-a-time-3/
LOCATION:Bob Hope Theatre\, Wythfield Road\, London\, SE9 5TG
ORGANIZER;CN="Bob Hope Theatre":MAILTO:info@bobhopetheatre.co.uk
END:VEVENT
BEGIN:VEVENT
DTSTART;TZID=UTC:20250712T120000
DTEND;TZID=UTC:20250712T140000
DTSTAMP:20260424T220040
CREATED:20250526T202534Z
LAST-MODIFIED:20250526T202534Z
UID:10003570-1752321600-1752328800@greenwichreview.com
SUMMARY:Once Upon A Time
DESCRIPTION:Liz Burville Performing Arts has been training children and young people in Dance\, Musical Theatre\, Drama and Singing for over 30 years. The fully equipped studios in Bexley have been the home to many successful professional performers and teachers.
URL:https://greenwichreview.com/event/once-upon-a-time-2/
LOCATION:Bob Hope Theatre\, Wythfield Road\, London\, SE9 5TG
ORGANIZER;CN="Bob Hope Theatre":MAILTO:info@bobhopetheatre.co.uk
END:VEVENT
BEGIN:VEVENT
DTSTART;TZID=UTC:20250711T190000
DTEND;TZID=UTC:20250711T210000
DTSTAMP:20260424T220040
CREATED:20250526T202426Z
LAST-MODIFIED:20250526T202426Z
UID:10003569-1752260400-1752267600@greenwichreview.com
SUMMARY:Once Upon A Time
DESCRIPTION:Liz Burville Performing Arts has been training children and young people in Dance\, Musical Theatre\, Drama and Singing for over 30 years. The fully equipped studios in Bexley have been the home to many successful professional performers and teachers.
URL:https://greenwichreview.com/event/once-upon-a-time/
LOCATION:Bob Hope Theatre\, Wythfield Road\, London\, SE9 5TG
ORGANIZER;CN="Bob Hope Theatre":MAILTO:info@bobhopetheatre.co.uk
END:VEVENT
BEGIN:VEVENT
DTSTART;TZID=UTC:20250705T193000
DTEND;TZID=UTC:20250705T213000
DTSTAMP:20260424T220040
CREATED:20250526T195028Z
LAST-MODIFIED:20250526T195028Z
UID:10003568-1751743800-1751751000@greenwichreview.com
SUMMARY:Fairy Tale Courtroom
DESCRIPTION:The Bob Hope Theatre’s youth drama group\, New Stagers\, presents a hilarious comedy where two of the most infamous fairy tale villains\, the Big Bad Wolf and the Wicked Witch\, are finally brought to trial! \nPrepare to hear their personal accounts\, told through testimonies and flashback sequences\, from beloved characters like Snow White\, Dorothy\, Sleeping Beauty\, the Three Pigs\, Little Red Riding Hood\, and many more. Even the Witch and the Wolf themselves must defend their actions! \nYou\, the audience\, are the jury\, and you’ll decide each final verdict – live!
URL:https://greenwichreview.com/event/fairy-tale-courtroom-2/
LOCATION:Bob Hope Theatre\, Wythfield Road\, London\, SE9 5TG
ORGANIZER;CN="Bob Hope Theatre":MAILTO:info@bobhopetheatre.co.uk
END:VEVENT
BEGIN:VEVENT
DTSTART;TZID=UTC:20250704T193000
DTEND;TZID=UTC:20250704T213000
DTSTAMP:20260424T220040
CREATED:20250526T194925Z
LAST-MODIFIED:20250526T194925Z
UID:10003567-1751657400-1751664600@greenwichreview.com
SUMMARY:Fairy Tale Courtroom
DESCRIPTION:The Bob Hope Theatre’s youth drama group\, New Stagers\, presents a hilarious comedy where two of the most infamous fairy tale villains\, the Big Bad Wolf and the Wicked Witch\, are finally brought to trial! \nPrepare to hear their personal accounts\, told through testimonies and flashback sequences\, from beloved characters like Snow White\, Dorothy\, Sleeping Beauty\, the Three Pigs\, Little Red Riding Hood\, and many more. Even the Witch and the Wolf themselves must defend their actions! \nYou\, the audience\, are the jury\, and you’ll decide each final verdict – live!
URL:https://greenwichreview.com/event/fairy-tale-courtroom/
LOCATION:Bob Hope Theatre\, Wythfield Road\, London\, SE9 5TG
ORGANIZER;CN="Bob Hope Theatre":MAILTO:info@bobhopetheatre.co.uk
END:VEVENT
BEGIN:VEVENT
DTSTART;TZID=UTC:20250627T194500
DTEND;TZID=UTC:20250627T220000
DTSTAMP:20260424T220040
CREATED:20250526T193417Z
LAST-MODIFIED:20250526T193417Z
UID:10003566-1751053500-1751061600@greenwichreview.com
SUMMARY:Pride at Hope
DESCRIPTION:Join the Bob Hope Theatre for a night where they celebrate Pride month with a Pride concert. \nWith songs\, dance and drag performance from the pop and musical theatre world it promises to be a night to celebrate together.
URL:https://greenwichreview.com/event/pride-at-hope/
LOCATION:Bob Hope Theatre\, Wythfield Road\, London\, SE9 5TG
ORGANIZER;CN="Bob Hope Theatre":MAILTO:info@bobhopetheatre.co.uk
END:VEVENT
BEGIN:VEVENT
DTSTART;TZID=UTC:20250621T194500
DTEND;TZID=UTC:20250621T220000
DTSTAMP:20260424T220040
CREATED:20250526T192915Z
LAST-MODIFIED:20250526T192915Z
UID:10003565-1750535100-1750543200@greenwichreview.com
SUMMARY:Bleak Expectations
DESCRIPTION:Join half-orphan Pip\, his sisters Pippa and Poppy\, and best friend Harry Biscuit on a wild adventure! They’re battling the evil Mr Gently Benevolent\, outsmarting the terrible Hardthrasher siblings\, and dodging disaster at every turn. Can good conquer evil? Will love win out over hate? \n\nBased on the hit BBC Radio 4 series\, Bleak Expectations is a laugh-out-loud\, chaotic romp packed with wicked villains\, ridiculous names\, thrilling romances\, tear-jerking death scenes\, and — fingers crossed! — a happy ending.
URL:https://greenwichreview.com/event/bleak-expectations-4/
LOCATION:Bob Hope Theatre\, Wythfield Road\, London\, SE9 5TG
ORGANIZER;CN="Bob Hope Theatre":MAILTO:info@bobhopetheatre.co.uk
END:VEVENT
BEGIN:VEVENT
DTSTART;TZID=UTC:20250620T194500
DTEND;TZID=UTC:20250620T220000
DTSTAMP:20260424T220040
CREATED:20250526T192818Z
LAST-MODIFIED:20250526T192818Z
UID:10003564-1750448700-1750456800@greenwichreview.com
SUMMARY:Bleak Expectations
DESCRIPTION:Join half-orphan Pip\, his sisters Pippa and Poppy\, and best friend Harry Biscuit on a wild adventure! They’re battling the evil Mr Gently Benevolent\, outsmarting the terrible Hardthrasher siblings\, and dodging disaster at every turn. Can good conquer evil? Will love win out over hate? \n\nBased on the hit BBC Radio 4 series\, Bleak Expectations is a laugh-out-loud\, chaotic romp packed with wicked villains\, ridiculous names\, thrilling romances\, tear-jerking death scenes\, and — fingers crossed! — a happy ending.
URL:https://greenwichreview.com/event/bleak-expectations-3/
LOCATION:Bob Hope Theatre\, Wythfield Road\, London\, SE9 5TG
ORGANIZER;CN="Bob Hope Theatre":MAILTO:info@bobhopetheatre.co.uk
END:VEVENT
BEGIN:VEVENT
DTSTART;TZID=UTC:20250619T194500
DTEND;TZID=UTC:20250619T220000
DTSTAMP:20260424T220040
CREATED:20250526T192711Z
LAST-MODIFIED:20250526T192739Z
UID:10003563-1750362300-1750370400@greenwichreview.com
SUMMARY:Bleak Expectations
DESCRIPTION:Join half-orphan Pip\, his sisters Pippa and Poppy\, and best friend Harry Biscuit on a wild adventure! They’re battling the evil Mr Gently Benevolent\, outsmarting the terrible Hardthrasher siblings\, and dodging disaster at every turn. Can good conquer evil? Will love win out over hate? \n\nBased on the hit BBC Radio 4 series\, Bleak Expectations is a laugh-out-loud\, chaotic romp packed with wicked villains\, ridiculous names\, thrilling romances\, tear-jerking death scenes\, and — fingers crossed! — a happy ending.
URL:https://greenwichreview.com/event/bleak-expectations-2/
LOCATION:Bob Hope Theatre\, Wythfield Road\, London\, SE9 5TG
ORGANIZER;CN="Bob Hope Theatre":MAILTO:info@bobhopetheatre.co.uk
END:VEVENT
BEGIN:VEVENT
DTSTART;TZID=UTC:20250618T194500
DTEND;TZID=UTC:20250618T220000
DTSTAMP:20260424T220040
CREATED:20250526T192631Z
LAST-MODIFIED:20250526T192631Z
UID:10003562-1750275900-1750284000@greenwichreview.com
SUMMARY:Bleak Expectations
DESCRIPTION:Join half-orphan Pip\, his sisters Pippa and Poppy\, and best friend Harry Biscuit on a wild adventure! They’re battling the evil Mr Gently Benevolent\, outsmarting the terrible Hardthrasher siblings\, and dodging disaster at every turn. Can good conquer evil? Will love win out over hate? \n\nBased on the hit BBC Radio 4 series\, Bleak Expectations is a laugh-out-loud\, chaotic romp packed with wicked villains\, ridiculous names\, thrilling romances\, tear-jerking death scenes\, and — fingers crossed! — a happy ending.
URL:https://greenwichreview.com/event/bleak-expectations/
LOCATION:Bob Hope Theatre\, Wythfield Road\, London\, SE9 5TG
ORGANIZER;CN="Bob Hope Theatre":MAILTO:info@bobhopetheatre.co.uk
END:VEVENT
BEGIN:VEVENT
DTSTART;TZID=UTC:20250614T194500
DTEND;TZID=UTC:20250614T220000
DTSTAMP:20260424T220040
CREATED:20250526T192137Z
LAST-MODIFIED:20250526T192225Z
UID:10003561-1749930300-1749938400@greenwichreview.com
SUMMARY:Table Manners
DESCRIPTION:A farce play. Norman\, an improbable ladies’ man\, tells his career-driven wife\, Ruth\, he’s off on a business trip. In reality\, he’s orchestrated a secret weekend getaway with his sister-in-law\, Annie. Their clandestine plans unravel\, however\, with the unexpected arrival of Annie’s brother\, Reg\, and his prim wife\, Sarah. Sarah quickly uncovers the “dirty weekend” and calls Ruth\, hoping to put an end to Norman’s philandering. Adding to the chaos is the untimely appearance of Annie’s well-meaning\, if slow-witted\, suitor\, Tom.
URL:https://greenwichreview.com/event/table-manners-2/
LOCATION:Bob Hope Theatre\, Wythfield Road\, London\, SE9 5TG
ORGANIZER;CN="Bob Hope Theatre":MAILTO:info@bobhopetheatre.co.uk
END:VEVENT
BEGIN:VEVENT
DTSTART;TZID=UTC:20250611T194500
DTEND;TZID=UTC:20250611T220000
DTSTAMP:20260424T220040
CREATED:20250526T191746Z
LAST-MODIFIED:20250526T192047Z
UID:10003560-1749671100-1749679200@greenwichreview.com
SUMMARY:Table Manners
DESCRIPTION:A farce play. Norman\, an improbable ladies’ man\, tells his career-driven wife\, Ruth\, he’s off on a business trip. In reality\, he’s orchestrated a secret weekend getaway with his sister-in-law\, Annie. Their clandestine plans unravel\, however\, with the unexpected arrival of Annie’s brother\, Reg\, and his prim wife\, Sarah. Sarah quickly uncovers the “dirty weekend” and calls Ruth\, hoping to put an end to Norman’s philandering. Adding to the chaos is the untimely appearance of Annie’s well-meaning\, if slow-witted\, suitor\, Tom.
URL:https://greenwichreview.com/event/table-manners/
LOCATION:Bob Hope Theatre\, Wythfield Road\, London\, SE9 5TG
ORGANIZER;CN="Bob Hope Theatre":MAILTO:info@bobhopetheatre.co.uk
END:VEVENT
BEGIN:VEVENT
DTSTART;TZID=UTC:20250607T103000
DTEND;TZID=UTC:20250607T130000
DTSTAMP:20260424T220040
CREATED:20250526T191307Z
LAST-MODIFIED:20250526T191307Z
UID:10003559-1749292200-1749301200@greenwichreview.com
SUMMARY:Coffee Morning and Craft Fair
DESCRIPTION:Coffee Morning and Craft Fair
URL:https://greenwichreview.com/event/coffee-morning-and-craft-fair/
LOCATION:Bob Hope Theatre\, Wythfield Road\, London\, SE9 5TG
END:VEVENT
END:VCALENDAR