BEGIN:VCALENDAR
VERSION:2.0
PRODID:-//Greenwich Review - ECPv6.15.20//NONSGML v1.0//EN
CALSCALE:GREGORIAN
METHOD:PUBLISH
X-WR-CALNAME:Greenwich Review
X-ORIGINAL-URL:https://greenwichreview.com
X-WR-CALDESC:Events for Greenwich Review
REFRESH-INTERVAL;VALUE=DURATION:PT1H
X-Robots-Tag:noindex
X-PUBLISHED-TTL:PT1H
BEGIN:VTIMEZONE
TZID:UTC
BEGIN:STANDARD
TZOFFSETFROM:+0000
TZOFFSETTO:+0000
TZNAME:UTC
DTSTART:20230101T000000
END:STANDARD
END:VTIMEZONE
BEGIN:VEVENT
DTSTART;TZID=UTC:20250518T110000
DTEND;TZID=UTC:20250518T190000
DTSTAMP:20260424T220043
CREATED:20250408T215948Z
LAST-MODIFIED:20250514T092430Z
UID:10003495-1747566000-1747594800@greenwichreview.com
SUMMARY:Urban Village Fete
DESCRIPTION:The 10th Urban Village Fete – Music\, dance\, street food\, Workshops and demonstrations\, bars. childrens events. Fun for all the family. \n(Some workshop events are ticketed and have to be paid for in advance)
URL:https://greenwichreview.com/event/urban-village-fete-2/
LOCATION:Central Park\, Greenwich Peninsular\, 1 W Parkside\, London\, SE10 0BN\, United Kingdom
END:VEVENT
BEGIN:VEVENT
DTSTART;TZID=UTC:20240519T110000
DTEND;TZID=UTC:20240519T220000
DTSTAMP:20260424T220043
CREATED:20240410T211232Z
LAST-MODIFIED:20240410T211232Z
UID:10002042-1716116400-1716156000@greenwichreview.com
SUMMARY:Urban Village Fete
DESCRIPTION:An urban fete for the Greenwich Peninsular community. Located in Central Park\, Greenwich Peninsular.
URL:https://greenwichreview.com/event/urban-village-fete/
LOCATION:Central Park\, Greenwich Peninsular\, 1 W Parkside\, London\, SE10 0BN\, United Kingdom
END:VEVENT
END:VCALENDAR