BEGIN:VCALENDAR
VERSION:2.0
PRODID:-//Greenwich Review - ECPv6.15.20//NONSGML v1.0//EN
CALSCALE:GREGORIAN
METHOD:PUBLISH
X-WR-CALNAME:Greenwich Review
X-ORIGINAL-URL:https://greenwichreview.com
X-WR-CALDESC:Events for Greenwich Review
REFRESH-INTERVAL;VALUE=DURATION:PT1H
X-Robots-Tag:noindex
X-PUBLISHED-TTL:PT1H
BEGIN:VTIMEZONE
TZID:UTC
BEGIN:STANDARD
TZOFFSETFROM:+0000
TZOFFSETTO:+0000
TZNAME:UTC
DTSTART:20240101T000000
END:STANDARD
END:VTIMEZONE
BEGIN:VEVENT
DTSTART;TZID=UTC:20260125T110000
DTEND;TZID=UTC:20260125T180000
DTSTAMP:20260424T023952
CREATED:20231011T120553Z
LAST-MODIFIED:20231011T120658Z
UID:10000941-1769338800-1769364000@greenwichreview.com
SUMMARY:Peninsular Market
DESCRIPTION:
URL:https://greenwichreview.com/event/2339/2026-01-25/
LOCATION:Peninsular Square\, Peninsula Square\, London\, SE10 0SQ
END:VEVENT
BEGIN:VEVENT
DTSTART;TZID=UTC:20260124T110000
DTEND;TZID=UTC:20260124T180000
DTSTAMP:20260424T023952
CREATED:20231011T120553Z
LAST-MODIFIED:20231011T120658Z
UID:10000940-1769252400-1769277600@greenwichreview.com
SUMMARY:Peninsular Market
DESCRIPTION:
URL:https://greenwichreview.com/event/2339/2026-01-24/
LOCATION:Peninsular Square\, Peninsula Square\, London\, SE10 0SQ
END:VEVENT
BEGIN:VEVENT
DTSTART;TZID=UTC:20260118T110000
DTEND;TZID=UTC:20260118T180000
DTSTAMP:20260424T023952
CREATED:20231011T120553Z
LAST-MODIFIED:20231011T120658Z
UID:10000939-1768734000-1768759200@greenwichreview.com
SUMMARY:Peninsular Market
DESCRIPTION:
URL:https://greenwichreview.com/event/2339/2026-01-18/
LOCATION:Peninsular Square\, Peninsula Square\, London\, SE10 0SQ
END:VEVENT
BEGIN:VEVENT
DTSTART;TZID=UTC:20260117T110000
DTEND;TZID=UTC:20260117T180000
DTSTAMP:20260424T023952
CREATED:20231011T120553Z
LAST-MODIFIED:20231011T120658Z
UID:10000938-1768647600-1768672800@greenwichreview.com
SUMMARY:Peninsular Market
DESCRIPTION:
URL:https://greenwichreview.com/event/2339/2026-01-17/
LOCATION:Peninsular Square\, Peninsula Square\, London\, SE10 0SQ
END:VEVENT
BEGIN:VEVENT
DTSTART;TZID=UTC:20260111T110000
DTEND;TZID=UTC:20260111T180000
DTSTAMP:20260424T023952
CREATED:20231011T120553Z
LAST-MODIFIED:20231011T120658Z
UID:10000937-1768129200-1768154400@greenwichreview.com
SUMMARY:Peninsular Market
DESCRIPTION:
URL:https://greenwichreview.com/event/2339/2026-01-11/
LOCATION:Peninsular Square\, Peninsula Square\, London\, SE10 0SQ
END:VEVENT
BEGIN:VEVENT
DTSTART;TZID=UTC:20260110T110000
DTEND;TZID=UTC:20260110T180000
DTSTAMP:20260424T023952
CREATED:20231011T120553Z
LAST-MODIFIED:20231011T120658Z
UID:10000936-1768042800-1768068000@greenwichreview.com
SUMMARY:Peninsular Market
DESCRIPTION:
URL:https://greenwichreview.com/event/2339/2026-01-10/
LOCATION:Peninsular Square\, Peninsula Square\, London\, SE10 0SQ
END:VEVENT
BEGIN:VEVENT
DTSTART;TZID=UTC:20260104T110000
DTEND;TZID=UTC:20260104T180000
DTSTAMP:20260424T023952
CREATED:20231011T120553Z
LAST-MODIFIED:20231011T120658Z
UID:10000935-1767524400-1767549600@greenwichreview.com
SUMMARY:Peninsular Market
DESCRIPTION:
URL:https://greenwichreview.com/event/2339/2026-01-04/
LOCATION:Peninsular Square\, Peninsula Square\, London\, SE10 0SQ
END:VEVENT
BEGIN:VEVENT
DTSTART;TZID=UTC:20260103T110000
DTEND;TZID=UTC:20260103T180000
DTSTAMP:20260424T023952
CREATED:20231011T120553Z
LAST-MODIFIED:20231011T120658Z
UID:10000934-1767438000-1767463200@greenwichreview.com
SUMMARY:Peninsular Market
DESCRIPTION:
URL:https://greenwichreview.com/event/2339/2026-01-03/
LOCATION:Peninsular Square\, Peninsula Square\, London\, SE10 0SQ
END:VEVENT
BEGIN:VEVENT
DTSTART;TZID=UTC:20251228T110000
DTEND;TZID=UTC:20251228T180000
DTSTAMP:20260424T023952
CREATED:20231011T120553Z
LAST-MODIFIED:20231011T120658Z
UID:10000933-1766919600-1766944800@greenwichreview.com
SUMMARY:Peninsular Market
DESCRIPTION:
URL:https://greenwichreview.com/event/2339/2025-12-28/
LOCATION:Peninsular Square\, Peninsula Square\, London\, SE10 0SQ
END:VEVENT
BEGIN:VEVENT
DTSTART;TZID=UTC:20251227T110000
DTEND;TZID=UTC:20251227T180000
DTSTAMP:20260424T023952
CREATED:20231011T120553Z
LAST-MODIFIED:20231011T120658Z
UID:10000932-1766833200-1766858400@greenwichreview.com
SUMMARY:Peninsular Market
DESCRIPTION:
URL:https://greenwichreview.com/event/2339/2025-12-27/
LOCATION:Peninsular Square\, Peninsula Square\, London\, SE10 0SQ
END:VEVENT
BEGIN:VEVENT
DTSTART;TZID=UTC:20251221T110000
DTEND;TZID=UTC:20251221T180000
DTSTAMP:20260424T023952
CREATED:20231011T120553Z
LAST-MODIFIED:20231011T120658Z
UID:10000931-1766314800-1766340000@greenwichreview.com
SUMMARY:Peninsular Market
DESCRIPTION:
URL:https://greenwichreview.com/event/2339/2025-12-21/
LOCATION:Peninsular Square\, Peninsula Square\, London\, SE10 0SQ
END:VEVENT
BEGIN:VEVENT
DTSTART;TZID=UTC:20251220T110000
DTEND;TZID=UTC:20251220T180000
DTSTAMP:20260424T023952
CREATED:20231011T120553Z
LAST-MODIFIED:20231011T120658Z
UID:10000930-1766228400-1766253600@greenwichreview.com
SUMMARY:Peninsular Market
DESCRIPTION:
URL:https://greenwichreview.com/event/2339/2025-12-20/
LOCATION:Peninsular Square\, Peninsula Square\, London\, SE10 0SQ
END:VEVENT
BEGIN:VEVENT
DTSTART;TZID=UTC:20251214T110000
DTEND;TZID=UTC:20251214T180000
DTSTAMP:20260424T023952
CREATED:20231011T120553Z
LAST-MODIFIED:20231011T120658Z
UID:10000929-1765710000-1765735200@greenwichreview.com
SUMMARY:Peninsular Market
DESCRIPTION:
URL:https://greenwichreview.com/event/2339/2025-12-14/
LOCATION:Peninsular Square\, Peninsula Square\, London\, SE10 0SQ
END:VEVENT
BEGIN:VEVENT
DTSTART;TZID=UTC:20251213T110000
DTEND;TZID=UTC:20251213T180000
DTSTAMP:20260424T023952
CREATED:20231011T120553Z
LAST-MODIFIED:20231011T120658Z
UID:10000928-1765623600-1765648800@greenwichreview.com
SUMMARY:Peninsular Market
DESCRIPTION:
URL:https://greenwichreview.com/event/2339/2025-12-13/
LOCATION:Peninsular Square\, Peninsula Square\, London\, SE10 0SQ
END:VEVENT
BEGIN:VEVENT
DTSTART;TZID=UTC:20251207T110000
DTEND;TZID=UTC:20251207T180000
DTSTAMP:20260424T023952
CREATED:20231011T120553Z
LAST-MODIFIED:20231011T120658Z
UID:10000927-1765105200-1765130400@greenwichreview.com
SUMMARY:Peninsular Market
DESCRIPTION:
URL:https://greenwichreview.com/event/2339/2025-12-07/
LOCATION:Peninsular Square\, Peninsula Square\, London\, SE10 0SQ
END:VEVENT
BEGIN:VEVENT
DTSTART;TZID=UTC:20251206T110000
DTEND;TZID=UTC:20251206T180000
DTSTAMP:20260424T023952
CREATED:20231011T120553Z
LAST-MODIFIED:20231011T120658Z
UID:10000926-1765018800-1765044000@greenwichreview.com
SUMMARY:Peninsular Market
DESCRIPTION:
URL:https://greenwichreview.com/event/2339/2025-12-06/
LOCATION:Peninsular Square\, Peninsula Square\, London\, SE10 0SQ
END:VEVENT
BEGIN:VEVENT
DTSTART;TZID=UTC:20251130T110000
DTEND;TZID=UTC:20251130T180000
DTSTAMP:20260424T023952
CREATED:20231011T120553Z
LAST-MODIFIED:20231011T120658Z
UID:10000925-1764500400-1764525600@greenwichreview.com
SUMMARY:Peninsular Market
DESCRIPTION:
URL:https://greenwichreview.com/event/2339/2025-11-30/
LOCATION:Peninsular Square\, Peninsula Square\, London\, SE10 0SQ
END:VEVENT
BEGIN:VEVENT
DTSTART;TZID=UTC:20251129T110000
DTEND;TZID=UTC:20251129T180000
DTSTAMP:20260424T023952
CREATED:20231011T120553Z
LAST-MODIFIED:20231011T120658Z
UID:10000924-1764414000-1764439200@greenwichreview.com
SUMMARY:Peninsular Market
DESCRIPTION:
URL:https://greenwichreview.com/event/2339/2025-11-29/
LOCATION:Peninsular Square\, Peninsula Square\, London\, SE10 0SQ
END:VEVENT
BEGIN:VEVENT
DTSTART;TZID=UTC:20251123T110000
DTEND;TZID=UTC:20251123T180000
DTSTAMP:20260424T023952
CREATED:20231011T120553Z
LAST-MODIFIED:20231011T120658Z
UID:10000923-1763895600-1763920800@greenwichreview.com
SUMMARY:Peninsular Market
DESCRIPTION:
URL:https://greenwichreview.com/event/2339/2025-11-23/
LOCATION:Peninsular Square\, Peninsula Square\, London\, SE10 0SQ
END:VEVENT
BEGIN:VEVENT
DTSTART;TZID=UTC:20251122T110000
DTEND;TZID=UTC:20251122T180000
DTSTAMP:20260424T023952
CREATED:20231011T120553Z
LAST-MODIFIED:20231011T120658Z
UID:10000922-1763809200-1763834400@greenwichreview.com
SUMMARY:Peninsular Market
DESCRIPTION:
URL:https://greenwichreview.com/event/2339/2025-11-22/
LOCATION:Peninsular Square\, Peninsula Square\, London\, SE10 0SQ
END:VEVENT
BEGIN:VEVENT
DTSTART;TZID=UTC:20251116T110000
DTEND;TZID=UTC:20251116T180000
DTSTAMP:20260424T023952
CREATED:20231011T120553Z
LAST-MODIFIED:20231011T120658Z
UID:10000921-1763290800-1763316000@greenwichreview.com
SUMMARY:Peninsular Market
DESCRIPTION:
URL:https://greenwichreview.com/event/2339/2025-11-16/
LOCATION:Peninsular Square\, Peninsula Square\, London\, SE10 0SQ
END:VEVENT
BEGIN:VEVENT
DTSTART;TZID=UTC:20251115T110000
DTEND;TZID=UTC:20251115T180000
DTSTAMP:20260424T023952
CREATED:20231011T120553Z
LAST-MODIFIED:20231011T120658Z
UID:10000920-1763204400-1763229600@greenwichreview.com
SUMMARY:Peninsular Market
DESCRIPTION:
URL:https://greenwichreview.com/event/2339/2025-11-15/
LOCATION:Peninsular Square\, Peninsula Square\, London\, SE10 0SQ
END:VEVENT
BEGIN:VEVENT
DTSTART;TZID=UTC:20251109T110000
DTEND;TZID=UTC:20251109T180000
DTSTAMP:20260424T023952
CREATED:20231011T120553Z
LAST-MODIFIED:20231011T120658Z
UID:10000919-1762686000-1762711200@greenwichreview.com
SUMMARY:Peninsular Market
DESCRIPTION:
URL:https://greenwichreview.com/event/2339/2025-11-09/
LOCATION:Peninsular Square\, Peninsula Square\, London\, SE10 0SQ
END:VEVENT
BEGIN:VEVENT
DTSTART;TZID=UTC:20251108T110000
DTEND;TZID=UTC:20251108T180000
DTSTAMP:20260424T023952
CREATED:20231011T120553Z
LAST-MODIFIED:20231011T120658Z
UID:10000918-1762599600-1762624800@greenwichreview.com
SUMMARY:Peninsular Market
DESCRIPTION:
URL:https://greenwichreview.com/event/2339/2025-11-08/
LOCATION:Peninsular Square\, Peninsula Square\, London\, SE10 0SQ
END:VEVENT
BEGIN:VEVENT
DTSTART;TZID=UTC:20251102T110000
DTEND;TZID=UTC:20251102T180000
DTSTAMP:20260424T023952
CREATED:20231011T120553Z
LAST-MODIFIED:20231011T120658Z
UID:10000917-1762081200-1762106400@greenwichreview.com
SUMMARY:Peninsular Market
DESCRIPTION:
URL:https://greenwichreview.com/event/2339/2025-11-02/
LOCATION:Peninsular Square\, Peninsula Square\, London\, SE10 0SQ
END:VEVENT
BEGIN:VEVENT
DTSTART;TZID=UTC:20251101T110000
DTEND;TZID=UTC:20251101T180000
DTSTAMP:20260424T023952
CREATED:20231011T120553Z
LAST-MODIFIED:20231011T120658Z
UID:10000916-1761994800-1762020000@greenwichreview.com
SUMMARY:Peninsular Market
DESCRIPTION:
URL:https://greenwichreview.com/event/2339/2025-11-01/
LOCATION:Peninsular Square\, Peninsula Square\, London\, SE10 0SQ
END:VEVENT
BEGIN:VEVENT
DTSTART;TZID=UTC:20251026T110000
DTEND;TZID=UTC:20251026T180000
DTSTAMP:20260424T023952
CREATED:20231011T120553Z
LAST-MODIFIED:20231011T120658Z
UID:10000915-1761476400-1761501600@greenwichreview.com
SUMMARY:Peninsular Market
DESCRIPTION:
URL:https://greenwichreview.com/event/2339/2025-10-26/
LOCATION:Peninsular Square\, Peninsula Square\, London\, SE10 0SQ
END:VEVENT
BEGIN:VEVENT
DTSTART;TZID=UTC:20251025T110000
DTEND;TZID=UTC:20251025T180000
DTSTAMP:20260424T023952
CREATED:20231011T120553Z
LAST-MODIFIED:20231011T120658Z
UID:10000914-1761390000-1761415200@greenwichreview.com
SUMMARY:Peninsular Market
DESCRIPTION:
URL:https://greenwichreview.com/event/2339/2025-10-25/
LOCATION:Peninsular Square\, Peninsula Square\, London\, SE10 0SQ
END:VEVENT
BEGIN:VEVENT
DTSTART;TZID=UTC:20251019T110000
DTEND;TZID=UTC:20251019T180000
DTSTAMP:20260424T023952
CREATED:20231011T120553Z
LAST-MODIFIED:20231011T120658Z
UID:10000913-1760871600-1760896800@greenwichreview.com
SUMMARY:Peninsular Market
DESCRIPTION:
URL:https://greenwichreview.com/event/2339/2025-10-19/
LOCATION:Peninsular Square\, Peninsula Square\, London\, SE10 0SQ
END:VEVENT
BEGIN:VEVENT
DTSTART;TZID=UTC:20251018T110000
DTEND;TZID=UTC:20251018T180000
DTSTAMP:20260424T023952
CREATED:20231011T120553Z
LAST-MODIFIED:20231011T120658Z
UID:10000912-1760785200-1760810400@greenwichreview.com
SUMMARY:Peninsular Market
DESCRIPTION:
URL:https://greenwichreview.com/event/2339/2025-10-18/
LOCATION:Peninsular Square\, Peninsula Square\, London\, SE10 0SQ
END:VEVENT
END:VCALENDAR