BEGIN:VCALENDAR
VERSION:2.0
PRODID:-//Greenwich Review - ECPv6.15.20//NONSGML v1.0//EN
CALSCALE:GREGORIAN
METHOD:PUBLISH
X-WR-CALNAME:Greenwich Review
X-ORIGINAL-URL:https://greenwichreview.com
X-WR-CALDESC:Events for Greenwich Review
REFRESH-INTERVAL;VALUE=DURATION:PT1H
X-Robots-Tag:noindex
X-PUBLISHED-TTL:PT1H
BEGIN:VTIMEZONE
TZID:UTC
BEGIN:STANDARD
TZOFFSETFROM:+0000
TZOFFSETTO:+0000
TZNAME:UTC
DTSTART:20250101T000000
END:STANDARD
END:VTIMEZONE
BEGIN:VEVENT
DTSTART;TZID=UTC:20261121T110000
DTEND;TZID=UTC:20261121T180000
DTSTAMP:20260424T153604
CREATED:20231011T120553Z
LAST-MODIFIED:20231011T120658Z
UID:10001026-1795258800-1795284000@greenwichreview.com
SUMMARY:Peninsular Market
DESCRIPTION:
URL:https://greenwichreview.com/event/2339/2026-11-21/
LOCATION:Peninsular Square\, Peninsula Square\, London\, SE10 0SQ
END:VEVENT
BEGIN:VEVENT
DTSTART;TZID=UTC:20261122T110000
DTEND;TZID=UTC:20261122T180000
DTSTAMP:20260424T153604
CREATED:20231011T120553Z
LAST-MODIFIED:20231011T120658Z
UID:10001027-1795345200-1795370400@greenwichreview.com
SUMMARY:Peninsular Market
DESCRIPTION:
URL:https://greenwichreview.com/event/2339/2026-11-22/
LOCATION:Peninsular Square\, Peninsula Square\, London\, SE10 0SQ
END:VEVENT
BEGIN:VEVENT
DTSTART;TZID=UTC:20261128T110000
DTEND;TZID=UTC:20261128T180000
DTSTAMP:20260424T153604
CREATED:20231011T120553Z
LAST-MODIFIED:20231011T120658Z
UID:10001028-1795863600-1795888800@greenwichreview.com
SUMMARY:Peninsular Market
DESCRIPTION:
URL:https://greenwichreview.com/event/2339/2026-11-28/
LOCATION:Peninsular Square\, Peninsula Square\, London\, SE10 0SQ
END:VEVENT
BEGIN:VEVENT
DTSTART;TZID=UTC:20261129T110000
DTEND;TZID=UTC:20261129T180000
DTSTAMP:20260424T153604
CREATED:20231011T120553Z
LAST-MODIFIED:20231011T120658Z
UID:10001029-1795950000-1795975200@greenwichreview.com
SUMMARY:Peninsular Market
DESCRIPTION:
URL:https://greenwichreview.com/event/2339/2026-11-29/
LOCATION:Peninsular Square\, Peninsula Square\, London\, SE10 0SQ
END:VEVENT
BEGIN:VEVENT
DTSTART;TZID=UTC:20261205T110000
DTEND;TZID=UTC:20261205T180000
DTSTAMP:20260424T153604
CREATED:20231011T120553Z
LAST-MODIFIED:20231011T120658Z
UID:10001030-1796468400-1796493600@greenwichreview.com
SUMMARY:Peninsular Market
DESCRIPTION:
URL:https://greenwichreview.com/event/2339/2026-12-05/
LOCATION:Peninsular Square\, Peninsula Square\, London\, SE10 0SQ
END:VEVENT
BEGIN:VEVENT
DTSTART;TZID=UTC:20261206T110000
DTEND;TZID=UTC:20261206T180000
DTSTAMP:20260424T153604
CREATED:20231011T120553Z
LAST-MODIFIED:20231011T120658Z
UID:10001031-1796554800-1796580000@greenwichreview.com
SUMMARY:Peninsular Market
DESCRIPTION:
URL:https://greenwichreview.com/event/2339/2026-12-06/
LOCATION:Peninsular Square\, Peninsula Square\, London\, SE10 0SQ
END:VEVENT
BEGIN:VEVENT
DTSTART;TZID=UTC:20261212T110000
DTEND;TZID=UTC:20261212T180000
DTSTAMP:20260424T153604
CREATED:20231011T120553Z
LAST-MODIFIED:20231011T120658Z
UID:10001032-1797073200-1797098400@greenwichreview.com
SUMMARY:Peninsular Market
DESCRIPTION:
URL:https://greenwichreview.com/event/2339/2026-12-12/
LOCATION:Peninsular Square\, Peninsula Square\, London\, SE10 0SQ
END:VEVENT
BEGIN:VEVENT
DTSTART;TZID=UTC:20261213T110000
DTEND;TZID=UTC:20261213T180000
DTSTAMP:20260424T153604
CREATED:20231011T120553Z
LAST-MODIFIED:20231011T120658Z
UID:10001033-1797159600-1797184800@greenwichreview.com
SUMMARY:Peninsular Market
DESCRIPTION:
URL:https://greenwichreview.com/event/2339/2026-12-13/
LOCATION:Peninsular Square\, Peninsula Square\, London\, SE10 0SQ
END:VEVENT
BEGIN:VEVENT
DTSTART;TZID=UTC:20261219T110000
DTEND;TZID=UTC:20261219T180000
DTSTAMP:20260424T153604
CREATED:20231011T120553Z
LAST-MODIFIED:20231011T120658Z
UID:10001034-1797678000-1797703200@greenwichreview.com
SUMMARY:Peninsular Market
DESCRIPTION:
URL:https://greenwichreview.com/event/2339/2026-12-19/
LOCATION:Peninsular Square\, Peninsula Square\, London\, SE10 0SQ
END:VEVENT
BEGIN:VEVENT
DTSTART;TZID=UTC:20261220T110000
DTEND;TZID=UTC:20261220T180000
DTSTAMP:20260424T153604
CREATED:20231011T120553Z
LAST-MODIFIED:20231011T120658Z
UID:10001035-1797764400-1797789600@greenwichreview.com
SUMMARY:Peninsular Market
DESCRIPTION:
URL:https://greenwichreview.com/event/2339/2026-12-20/
LOCATION:Peninsular Square\, Peninsula Square\, London\, SE10 0SQ
END:VEVENT
BEGIN:VEVENT
DTSTART;TZID=UTC:20261226T110000
DTEND;TZID=UTC:20261226T180000
DTSTAMP:20260424T153604
CREATED:20231011T120553Z
LAST-MODIFIED:20231011T120658Z
UID:10001036-1798282800-1798308000@greenwichreview.com
SUMMARY:Peninsular Market
DESCRIPTION:
URL:https://greenwichreview.com/event/2339/2026-12-26/
LOCATION:Peninsular Square\, Peninsula Square\, London\, SE10 0SQ
END:VEVENT
BEGIN:VEVENT
DTSTART;TZID=UTC:20261227T110000
DTEND;TZID=UTC:20261227T180000
DTSTAMP:20260424T153604
CREATED:20231011T120553Z
LAST-MODIFIED:20231011T120658Z
UID:10001037-1798369200-1798394400@greenwichreview.com
SUMMARY:Peninsular Market
DESCRIPTION:
URL:https://greenwichreview.com/event/2339/2026-12-27/
LOCATION:Peninsular Square\, Peninsula Square\, London\, SE10 0SQ
END:VEVENT
BEGIN:VEVENT
DTSTART;TZID=UTC:20270102T110000
DTEND;TZID=UTC:20270102T180000
DTSTAMP:20260424T153604
CREATED:20231011T120553Z
LAST-MODIFIED:20231011T120658Z
UID:10001038-1798887600-1798912800@greenwichreview.com
SUMMARY:Peninsular Market
DESCRIPTION:
URL:https://greenwichreview.com/event/2339/2027-01-02/
LOCATION:Peninsular Square\, Peninsula Square\, London\, SE10 0SQ
END:VEVENT
BEGIN:VEVENT
DTSTART;TZID=UTC:20270103T110000
DTEND;TZID=UTC:20270103T180000
DTSTAMP:20260424T153604
CREATED:20231011T120553Z
LAST-MODIFIED:20231011T120658Z
UID:10001039-1798974000-1798999200@greenwichreview.com
SUMMARY:Peninsular Market
DESCRIPTION:
URL:https://greenwichreview.com/event/2339/2027-01-03/
LOCATION:Peninsular Square\, Peninsula Square\, London\, SE10 0SQ
END:VEVENT
BEGIN:VEVENT
DTSTART;TZID=UTC:20270109T110000
DTEND;TZID=UTC:20270109T180000
DTSTAMP:20260424T153604
CREATED:20231011T120553Z
LAST-MODIFIED:20231011T120658Z
UID:10001040-1799492400-1799517600@greenwichreview.com
SUMMARY:Peninsular Market
DESCRIPTION:
URL:https://greenwichreview.com/event/2339/2027-01-09/
LOCATION:Peninsular Square\, Peninsula Square\, London\, SE10 0SQ
END:VEVENT
BEGIN:VEVENT
DTSTART;TZID=UTC:20270110T110000
DTEND;TZID=UTC:20270110T180000
DTSTAMP:20260424T153604
CREATED:20231011T120553Z
LAST-MODIFIED:20231011T120658Z
UID:10001041-1799578800-1799604000@greenwichreview.com
SUMMARY:Peninsular Market
DESCRIPTION:
URL:https://greenwichreview.com/event/2339/2027-01-10/
LOCATION:Peninsular Square\, Peninsula Square\, London\, SE10 0SQ
END:VEVENT
BEGIN:VEVENT
DTSTART;TZID=UTC:20270116T110000
DTEND;TZID=UTC:20270116T180000
DTSTAMP:20260424T153604
CREATED:20231011T120553Z
LAST-MODIFIED:20231011T120658Z
UID:10001042-1800097200-1800122400@greenwichreview.com
SUMMARY:Peninsular Market
DESCRIPTION:
URL:https://greenwichreview.com/event/2339/2027-01-16/
LOCATION:Peninsular Square\, Peninsula Square\, London\, SE10 0SQ
END:VEVENT
BEGIN:VEVENT
DTSTART;TZID=UTC:20270117T110000
DTEND;TZID=UTC:20270117T180000
DTSTAMP:20260424T153604
CREATED:20231011T120553Z
LAST-MODIFIED:20231011T120658Z
UID:10001043-1800183600-1800208800@greenwichreview.com
SUMMARY:Peninsular Market
DESCRIPTION:
URL:https://greenwichreview.com/event/2339/2027-01-17/
LOCATION:Peninsular Square\, Peninsula Square\, London\, SE10 0SQ
END:VEVENT
BEGIN:VEVENT
DTSTART;TZID=UTC:20270123T110000
DTEND;TZID=UTC:20270123T180000
DTSTAMP:20260424T153604
CREATED:20231011T120553Z
LAST-MODIFIED:20231011T120658Z
UID:10001044-1800702000-1800727200@greenwichreview.com
SUMMARY:Peninsular Market
DESCRIPTION:
URL:https://greenwichreview.com/event/2339/2027-01-23/
LOCATION:Peninsular Square\, Peninsula Square\, London\, SE10 0SQ
END:VEVENT
BEGIN:VEVENT
DTSTART;TZID=UTC:20270124T110000
DTEND;TZID=UTC:20270124T180000
DTSTAMP:20260424T153604
CREATED:20231011T120553Z
LAST-MODIFIED:20231011T120658Z
UID:10001045-1800788400-1800813600@greenwichreview.com
SUMMARY:Peninsular Market
DESCRIPTION:
URL:https://greenwichreview.com/event/2339/2027-01-24/
LOCATION:Peninsular Square\, Peninsula Square\, London\, SE10 0SQ
END:VEVENT
BEGIN:VEVENT
DTSTART;TZID=UTC:20270130T110000
DTEND;TZID=UTC:20270130T180000
DTSTAMP:20260424T153604
CREATED:20231011T120553Z
LAST-MODIFIED:20231011T120658Z
UID:10001046-1801306800-1801332000@greenwichreview.com
SUMMARY:Peninsular Market
DESCRIPTION:
URL:https://greenwichreview.com/event/2339/2027-01-30/
LOCATION:Peninsular Square\, Peninsula Square\, London\, SE10 0SQ
END:VEVENT
BEGIN:VEVENT
DTSTART;TZID=UTC:20270131T110000
DTEND;TZID=UTC:20270131T180000
DTSTAMP:20260424T153604
CREATED:20231011T120553Z
LAST-MODIFIED:20231011T120658Z
UID:10001047-1801393200-1801418400@greenwichreview.com
SUMMARY:Peninsular Market
DESCRIPTION:
URL:https://greenwichreview.com/event/2339/2027-01-31/
LOCATION:Peninsular Square\, Peninsula Square\, London\, SE10 0SQ
END:VEVENT
BEGIN:VEVENT
DTSTART;TZID=UTC:20270206T110000
DTEND;TZID=UTC:20270206T180000
DTSTAMP:20260424T153604
CREATED:20231011T120553Z
LAST-MODIFIED:20231011T120658Z
UID:10001048-1801911600-1801936800@greenwichreview.com
SUMMARY:Peninsular Market
DESCRIPTION:
URL:https://greenwichreview.com/event/2339/2027-02-06/
LOCATION:Peninsular Square\, Peninsula Square\, London\, SE10 0SQ
END:VEVENT
BEGIN:VEVENT
DTSTART;TZID=UTC:20270207T110000
DTEND;TZID=UTC:20270207T180000
DTSTAMP:20260424T153604
CREATED:20231011T120553Z
LAST-MODIFIED:20231011T120658Z
UID:10001049-1801998000-1802023200@greenwichreview.com
SUMMARY:Peninsular Market
DESCRIPTION:
URL:https://greenwichreview.com/event/2339/2027-02-07/
LOCATION:Peninsular Square\, Peninsula Square\, London\, SE10 0SQ
END:VEVENT
BEGIN:VEVENT
DTSTART;TZID=UTC:20270213T110000
DTEND;TZID=UTC:20270213T180000
DTSTAMP:20260424T153604
CREATED:20231011T120553Z
LAST-MODIFIED:20231011T120658Z
UID:10001050-1802516400-1802541600@greenwichreview.com
SUMMARY:Peninsular Market
DESCRIPTION:
URL:https://greenwichreview.com/event/2339/2027-02-13/
LOCATION:Peninsular Square\, Peninsula Square\, London\, SE10 0SQ
END:VEVENT
BEGIN:VEVENT
DTSTART;TZID=UTC:20270214T110000
DTEND;TZID=UTC:20270214T180000
DTSTAMP:20260424T153604
CREATED:20231011T120553Z
LAST-MODIFIED:20231011T120658Z
UID:10001051-1802602800-1802628000@greenwichreview.com
SUMMARY:Peninsular Market
DESCRIPTION:
URL:https://greenwichreview.com/event/2339/2027-02-14/
LOCATION:Peninsular Square\, Peninsula Square\, London\, SE10 0SQ
END:VEVENT
BEGIN:VEVENT
DTSTART;TZID=UTC:20270220T110000
DTEND;TZID=UTC:20270220T180000
DTSTAMP:20260424T153604
CREATED:20231011T120553Z
LAST-MODIFIED:20231011T120658Z
UID:10001052-1803121200-1803146400@greenwichreview.com
SUMMARY:Peninsular Market
DESCRIPTION:
URL:https://greenwichreview.com/event/2339/2027-02-20/
LOCATION:Peninsular Square\, Peninsula Square\, London\, SE10 0SQ
END:VEVENT
BEGIN:VEVENT
DTSTART;TZID=UTC:20270221T110000
DTEND;TZID=UTC:20270221T180000
DTSTAMP:20260424T153604
CREATED:20231011T120553Z
LAST-MODIFIED:20231011T120658Z
UID:10001053-1803207600-1803232800@greenwichreview.com
SUMMARY:Peninsular Market
DESCRIPTION:
URL:https://greenwichreview.com/event/2339/2027-02-21/
LOCATION:Peninsular Square\, Peninsula Square\, London\, SE10 0SQ
END:VEVENT
BEGIN:VEVENT
DTSTART;TZID=UTC:20270227T110000
DTEND;TZID=UTC:20270227T180000
DTSTAMP:20260424T153604
CREATED:20231011T120553Z
LAST-MODIFIED:20231011T120658Z
UID:10001054-1803726000-1803751200@greenwichreview.com
SUMMARY:Peninsular Market
DESCRIPTION:
URL:https://greenwichreview.com/event/2339/2027-02-27/
LOCATION:Peninsular Square\, Peninsula Square\, London\, SE10 0SQ
END:VEVENT
BEGIN:VEVENT
DTSTART;TZID=UTC:20270228T110000
DTEND;TZID=UTC:20270228T180000
DTSTAMP:20260424T153604
CREATED:20231011T120553Z
LAST-MODIFIED:20231011T120658Z
UID:10001055-1803812400-1803837600@greenwichreview.com
SUMMARY:Peninsular Market
DESCRIPTION:
URL:https://greenwichreview.com/event/2339/2027-02-28/
LOCATION:Peninsular Square\, Peninsula Square\, London\, SE10 0SQ
END:VEVENT
END:VCALENDAR