BEGIN:VCALENDAR
VERSION:2.0
PRODID:-//Greenwich Review - ECPv6.15.20//NONSGML v1.0//EN
CALSCALE:GREGORIAN
METHOD:PUBLISH
X-WR-CALNAME:Greenwich Review
X-ORIGINAL-URL:https://greenwichreview.com
X-WR-CALDESC:Events for Greenwich Review
REFRESH-INTERVAL;VALUE=DURATION:PT1H
X-Robots-Tag:noindex
X-PUBLISHED-TTL:PT1H
BEGIN:VTIMEZONE
TZID:UTC
BEGIN:STANDARD
TZOFFSETFROM:+0000
TZOFFSETTO:+0000
TZNAME:UTC
DTSTART:20230101T000000
END:STANDARD
END:VTIMEZONE
BEGIN:VEVENT
DTSTART;TZID=UTC:20250607T120000
DTEND;TZID=UTC:20250607T190000
DTSTAMP:20260426T003443
CREATED:20250504T151853Z
LAST-MODIFIED:20250504T152113Z
UID:10003536-1749297600-1749322800@greenwichreview.com
SUMMARY:Plumstead Make Merry
DESCRIPTION:Celebrating its 50th year and organised by members of the community and featured local people and organisations that volunteered their time. \nWith a packed day of music\, arts and activities that celebrate the history of the area and its diverse community. With up to 100 different stalls from local groups and businesses\, there is plenty on offer including food and activities for all the family.
URL:https://greenwichreview.com/event/plumstead-make-merry-2/
LOCATION:Plumstead make Merry\, Old Mill Road\, Plumstead Common\, London\, SE18 1QJ
END:VEVENT
BEGIN:VEVENT
DTSTART;TZID=UTC:20240608T080000
DTEND;TZID=UTC:20240608T170000
DTSTAMP:20260426T003443
CREATED:20240410T213230Z
LAST-MODIFIED:20240410T213230Z
UID:10002044-1717833600-1717866000@greenwichreview.com
SUMMARY:Plumstead Make Merry.
DESCRIPTION:Fete for the Plumstead community.
URL:https://greenwichreview.com/event/plumstead-make-merry/
LOCATION:Plumstead make Merry\, Old Mill Road\, Plumstead Common\, London\, SE18 1QJ
END:VEVENT
END:VCALENDAR