BEGIN:VCALENDAR
VERSION:2.0
PRODID:-//Greenwich Review - ECPv6.15.20//NONSGML v1.0//EN
CALSCALE:GREGORIAN
METHOD:PUBLISH
X-WR-CALNAME:Greenwich Review
X-ORIGINAL-URL:https://greenwichreview.com
X-WR-CALDESC:Events for Greenwich Review
REFRESH-INTERVAL;VALUE=DURATION:PT1H
X-Robots-Tag:noindex
X-PUBLISHED-TTL:PT1H
BEGIN:VTIMEZONE
TZID:UTC
BEGIN:STANDARD
TZOFFSETFROM:+0000
TZOFFSETTO:+0000
TZNAME:UTC
DTSTART:20220101T000000
END:STANDARD
END:VTIMEZONE
BEGIN:VEVENT
DTSTART;TZID=UTC:20241228T210000
DTEND;TZID=UTC:20241228T230000
DTSTAMP:20260425T035257
CREATED:20241216T100716Z
LAST-MODIFIED:20241216T100716Z
UID:10003420-1735419600-1735426800@greenwichreview.com
SUMMARY:Wired for Sound
DESCRIPTION:Bristol based band playing cover versions of pop\, rock and Motown soul songs.
URL:https://greenwichreview.com/event/wired-for-sound/
LOCATION:The Old Mill Plumstead Common\, 1 Old Mill Rd\, London\, SE18 1QG\, United Kingdom
END:VEVENT
BEGIN:VEVENT
DTSTART;TZID=UTC:20241222T150000
DTEND;TZID=UTC:20241222T180000
DTSTAMP:20260425T035257
CREATED:20241216T101342Z
LAST-MODIFIED:20241216T101342Z
UID:10003421-1734879600-1734890400@greenwichreview.com
SUMMARY:Legends Show
DESCRIPTION:Frank Sinatra\, Dean Martin\, Robbie Willams and Bruno Mars tribute acts. \nCall 07870879394 for ticket which cost £10. \nPlaying in the back bar. \n 
URL:https://greenwichreview.com/event/legends-show/
LOCATION:The Old Mill Plumstead Common\, 1 Old Mill Rd\, London\, SE18 1QG\, United Kingdom
END:VEVENT
BEGIN:VEVENT
DTSTART;TZID=UTC:20241221T210000
DTEND;TZID=UTC:20241221T230000
DTSTAMP:20260425T035257
CREATED:20241216T095629Z
LAST-MODIFIED:20241216T095629Z
UID:10003419-1734814800-1734822000@greenwichreview.com
SUMMARY:Broken Bones
DESCRIPTION:Hardcore punk band Broken Bones play live at the Old Mill.
URL:https://greenwichreview.com/event/broken-bones/
LOCATION:The Old Mill Plumstead Common\, 1 Old Mill Rd\, London\, SE18 1QG\, United Kingdom
END:VEVENT
BEGIN:VEVENT
DTSTART;TZID=UTC:20241210T070000
DTEND;TZID=UTC:20241210T220000
DTSTAMP:20260425T035257
CREATED:20241208T111726Z
LAST-MODIFIED:20241208T111726Z
UID:10003332-1733814000-1733868000@greenwichreview.com
SUMMARY:Annual Plumstead Pickle Festival
DESCRIPTION:The Annual Art Plumstead Pickle Festival returns to the Old Mill Pub\, Old Mill Road\, Plumstead Common\, on Tuesday 10th December 2024. The Pickle Festival is free for everyone to enter and to judge. Bread and cheese will be provided to accompany the many delicious pickles you will get to ponder. \n 
URL:https://greenwichreview.com/event/annual-plumstead-pickle-festival/
LOCATION:The Old Mill Plumstead Common\, 1 Old Mill Rd\, London\, SE18 1QG\, United Kingdom
ORGANIZER;CN="Art Plumstead":MAILTO:PlumsteadCommMkt@gmail.com
END:VEVENT
BEGIN:VEVENT
DTSTART;TZID=UTC:20241207T193000
DTEND;TZID=UTC:20241207T230000
DTSTAMP:20260425T035257
CREATED:20241207T142438Z
LAST-MODIFIED:20241207T142438Z
UID:10003312-1733599800-1733612400@greenwichreview.com
SUMMARY:OC3
DESCRIPTION:OC3 – A multi Genre covers band. Playing mainly Rock and Indie covers.
URL:https://greenwichreview.com/event/oc3/
LOCATION:The Old Mill Plumstead Common\, 1 Old Mill Rd\, London\, SE18 1QG\, United Kingdom
END:VEVENT
BEGIN:VEVENT
DTSTART;TZID=UTC:20241026T090000
DTEND;TZID=UTC:20241026T230000
DTSTAMP:20260425T035257
CREATED:20241010T204801Z
LAST-MODIFIED:20241010T204801Z
UID:10002433-1729933200-1729983600@greenwichreview.com
SUMMARY:The Bad Pennies
DESCRIPTION:A four-piece Rock and Blues band. \nBiography (badpennies.co.uk)
URL:https://greenwichreview.com/event/the-bad-pennies/
LOCATION:The Old Mill Plumstead Common\, 1 Old Mill Rd\, London\, SE18 1QG\, United Kingdom
END:VEVENT
BEGIN:VEVENT
DTSTART;TZID=UTC:20241012T210000
DTEND;TZID=UTC:20241012T230000
DTSTAMP:20260425T035257
CREATED:20241010T203857Z
LAST-MODIFIED:20241010T203857Z
UID:10002432-1728766800-1728774000@greenwichreview.com
SUMMARY:MT Pockets
DESCRIPTION:Popular South East London three-piece rock band.
URL:https://greenwichreview.com/event/mt-pockets/
LOCATION:The Old Mill Plumstead Common\, 1 Old Mill Rd\, London\, SE18 1QG\, United Kingdom
END:VEVENT
BEGIN:VEVENT
DTSTART;TZID=UTC:20231130T203000
DTEND;TZID=UTC:20231130T233000
DTSTAMP:20260425T035257
CREATED:20231015T112146Z
LAST-MODIFIED:20231015T112154Z
UID:10001365-1701376200-1701387000@greenwichreview.com
SUMMARY:Open Mic: Nik and Max
DESCRIPTION:Open mic session hosted by Nik and Max at the Old Mill pub\, Plumstead Common.
URL:https://greenwichreview.com/event/open-mic-nik-and-max/
LOCATION:The Old Mill Plumstead Common\, 1 Old Mill Rd\, London\, SE18 1QG\, United Kingdom
END:VEVENT
BEGIN:VEVENT
DTSTART;TZID=UTC:20231125T210000
DTEND;TZID=UTC:20231125T233000
DTSTAMP:20260425T035257
CREATED:20231015T111924Z
LAST-MODIFIED:20231015T111924Z
UID:10001364-1700946000-1700955000@greenwichreview.com
SUMMARY:Happnin' Boy
DESCRIPTION:Happnin’ Boy playing live at the Old Mill Plumstead Common pub.
URL:https://greenwichreview.com/event/happnin-boy/
LOCATION:The Old Mill Plumstead Common\, 1 Old Mill Rd\, London\, SE18 1QG\, United Kingdom
END:VEVENT
BEGIN:VEVENT
DTSTART;TZID=UTC:20231111T210000
DTEND;TZID=UTC:20231111T233000
DTSTAMP:20260425T035257
CREATED:20231015T111500Z
LAST-MODIFIED:20231015T111538Z
UID:10001363-1699736400-1699745400@greenwichreview.com
SUMMARY:MT Pockets - Band
DESCRIPTION:Band MT Pockets play at the Old Mill\, Plumstead Common.
URL:https://greenwichreview.com/event/mt-pockets-band/
LOCATION:The Old Mill Plumstead Common\, 1 Old Mill Rd\, London\, SE18 1QG\, United Kingdom
END:VEVENT
END:VCALENDAR