BEGIN:VCALENDAR
VERSION:2.0
PRODID:-//Greenwich Review - ECPv6.15.20//NONSGML v1.0//EN
CALSCALE:GREGORIAN
METHOD:PUBLISH
X-WR-CALNAME:Greenwich Review
X-ORIGINAL-URL:https://greenwichreview.com
X-WR-CALDESC:Events for Greenwich Review
REFRESH-INTERVAL;VALUE=DURATION:PT1H
X-Robots-Tag:noindex
X-PUBLISHED-TTL:PT1H
BEGIN:VTIMEZONE
TZID:UTC
BEGIN:STANDARD
TZOFFSETFROM:+0000
TZOFFSETTO:+0000
TZNAME:UTC
DTSTART:20240101T000000
END:STANDARD
END:VTIMEZONE
BEGIN:VEVENT
DTSTART;TZID=UTC:20260210T203000
DTEND;TZID=UTC:20260210T203000
DTSTAMP:20260425T020156
CREATED:20251122T094649Z
LAST-MODIFIED:20251122T094852Z
UID:10003657-1770755400-1770755400@greenwichreview.com
SUMMARY:Pelton Pub Quiz
DESCRIPTION:Every Tuesday 830PM – Cash Prizes \n£2 Quiz entry fee.
URL:https://greenwichreview.com/event/pelton-pub-quiz-3/2026-02-10/
LOCATION:The Pelton Arms\, 23-25 Pelton Rd\,\, London\, SE10 9PQ
END:VEVENT
BEGIN:VEVENT
DTSTART;TZID=UTC:20260205T193000
DTEND;TZID=UTC:20260205T213000
DTSTAMP:20260425T020156
CREATED:20240427T102207Z
LAST-MODIFIED:20240427T102207Z
UID:10002222-1770319800-1770327000@greenwichreview.com
SUMMARY:Monthly Music Quiz
DESCRIPTION:Monthly music quiz every first Thursday of the month. \nBegins at 7:30 pm for an 8 pm start.
URL:https://greenwichreview.com/event/monthly-music-quiz/2026-02-05/
LOCATION:The Pelton Arms\, 23-25 Pelton Rd\,\, London\, SE10 9PQ
END:VEVENT
BEGIN:VEVENT
DTSTART;TZID=UTC:20260203T203000
DTEND;TZID=UTC:20260203T203000
DTSTAMP:20260425T020156
CREATED:20251122T094649Z
LAST-MODIFIED:20251122T094852Z
UID:10003656-1770150600-1770150600@greenwichreview.com
SUMMARY:Pelton Pub Quiz
DESCRIPTION:Every Tuesday 830PM – Cash Prizes \n£2 Quiz entry fee.
URL:https://greenwichreview.com/event/pelton-pub-quiz-3/2026-02-03/
LOCATION:The Pelton Arms\, 23-25 Pelton Rd\,\, London\, SE10 9PQ
END:VEVENT
BEGIN:VEVENT
DTSTART;TZID=UTC:20260127T203000
DTEND;TZID=UTC:20260127T203000
DTSTAMP:20260425T020156
CREATED:20251122T094649Z
LAST-MODIFIED:20251122T094852Z
UID:10003655-1769545800-1769545800@greenwichreview.com
SUMMARY:Pelton Pub Quiz
DESCRIPTION:Every Tuesday 830PM – Cash Prizes \n£2 Quiz entry fee.
URL:https://greenwichreview.com/event/pelton-pub-quiz-3/2026-01-27/
LOCATION:The Pelton Arms\, 23-25 Pelton Rd\,\, London\, SE10 9PQ
END:VEVENT
BEGIN:VEVENT
DTSTART;TZID=UTC:20260120T203000
DTEND;TZID=UTC:20260120T203000
DTSTAMP:20260425T020156
CREATED:20251122T094649Z
LAST-MODIFIED:20251122T094852Z
UID:10003654-1768941000-1768941000@greenwichreview.com
SUMMARY:Pelton Pub Quiz
DESCRIPTION:Every Tuesday 830PM – Cash Prizes \n£2 Quiz entry fee.
URL:https://greenwichreview.com/event/pelton-pub-quiz-3/2026-01-20/
LOCATION:The Pelton Arms\, 23-25 Pelton Rd\,\, London\, SE10 9PQ
END:VEVENT
BEGIN:VEVENT
DTSTART;TZID=UTC:20260113T203000
DTEND;TZID=UTC:20260113T203000
DTSTAMP:20260425T020156
CREATED:20251122T094649Z
LAST-MODIFIED:20251122T094852Z
UID:10003653-1768336200-1768336200@greenwichreview.com
SUMMARY:Pelton Pub Quiz
DESCRIPTION:Every Tuesday 830PM – Cash Prizes \n£2 Quiz entry fee.
URL:https://greenwichreview.com/event/pelton-pub-quiz-3/2026-01-13/
LOCATION:The Pelton Arms\, 23-25 Pelton Rd\,\, London\, SE10 9PQ
END:VEVENT
BEGIN:VEVENT
DTSTART;TZID=UTC:20260106T203000
DTEND;TZID=UTC:20260106T203000
DTSTAMP:20260425T020156
CREATED:20251122T094649Z
LAST-MODIFIED:20251122T094852Z
UID:10003652-1767731400-1767731400@greenwichreview.com
SUMMARY:Pelton Pub Quiz
DESCRIPTION:Every Tuesday 830PM – Cash Prizes \n£2 Quiz entry fee.
URL:https://greenwichreview.com/event/pelton-pub-quiz-3/2026-01-06/
LOCATION:The Pelton Arms\, 23-25 Pelton Rd\,\, London\, SE10 9PQ
END:VEVENT
BEGIN:VEVENT
DTSTART;TZID=UTC:20260104T170000
DTEND;TZID=UTC:20260104T190000
DTSTAMP:20260425T020156
CREATED:20251214T230645Z
LAST-MODIFIED:20251214T230645Z
UID:10003728-1767546000-1767553200@greenwichreview.com
SUMMARY:The Oakland Brothers
DESCRIPTION:Soft rock\, pop and jazz cover songs.
URL:https://greenwichreview.com/event/the-oakland-brothers-2/
LOCATION:The Pelton Arms\, 23-25 Pelton Rd\,\, London\, SE10 9PQ
END:VEVENT
BEGIN:VEVENT
DTSTART;TZID=UTC:20260103T210000
DTEND;TZID=UTC:20260103T230000
DTSTAMP:20260425T020156
CREATED:20251214T230422Z
LAST-MODIFIED:20251214T230857Z
UID:10003727-1767474000-1767481200@greenwichreview.com
SUMMARY:The Nameless
DESCRIPTION:Rock band playing everything from Britney Spears to Guns N Roses
URL:https://greenwichreview.com/event/the-nameless/
LOCATION:The Pelton Arms\, 23-25 Pelton Rd\,\, London\, SE10 9PQ
END:VEVENT
BEGIN:VEVENT
DTSTART;TZID=UTC:20260102T210000
DTEND;TZID=UTC:20260102T230000
DTSTAMP:20260425T020156
CREATED:20251214T230246Z
LAST-MODIFIED:20251214T230246Z
UID:10003726-1767387600-1767394800@greenwichreview.com
SUMMARY:Jamie and the Jets
DESCRIPTION:Elton John tribute band.
URL:https://greenwichreview.com/event/jamie-and-the-jets/
LOCATION:The Pelton Arms\, 23-25 Pelton Rd\,\, London\, SE10 9PQ
END:VEVENT
BEGIN:VEVENT
DTSTART;TZID=UTC:20260101T193000
DTEND;TZID=UTC:20260101T213000
DTSTAMP:20260425T020156
CREATED:20240427T102207Z
LAST-MODIFIED:20240427T102207Z
UID:10002221-1767295800-1767303000@greenwichreview.com
SUMMARY:Monthly Music Quiz
DESCRIPTION:Monthly music quiz every first Thursday of the month. \nBegins at 7:30 pm for an 8 pm start.
URL:https://greenwichreview.com/event/monthly-music-quiz/2026-01-01/
LOCATION:The Pelton Arms\, 23-25 Pelton Rd\,\, London\, SE10 9PQ
END:VEVENT
BEGIN:VEVENT
DTSTART;TZID=UTC:20251231T070000
DTEND;TZID=UTC:20260101T020000
DTSTAMP:20260425T020156
CREATED:20251214T230042Z
LAST-MODIFIED:20251214T230042Z
UID:10003725-1767164400-1767232800@greenwichreview.com
SUMMARY:Subtle Hustle
DESCRIPTION:3 piece Rock covers band. \nNew Years Eve live music \n£20 tickets available behind the bar.
URL:https://greenwichreview.com/event/subtle-hustle-4/
LOCATION:The Pelton Arms\, 23-25 Pelton Rd\,\, London\, SE10 9PQ
END:VEVENT
BEGIN:VEVENT
DTSTART;TZID=UTC:20251230T210000
DTEND;TZID=UTC:20251230T230000
DTSTAMP:20260425T020156
CREATED:20251214T225705Z
LAST-MODIFIED:20251214T225705Z
UID:10003724-1767128400-1767135600@greenwichreview.com
SUMMARY:Mardy Bums
DESCRIPTION:Artic Monkeys tribute band.
URL:https://greenwichreview.com/event/mardy-bums/
LOCATION:The Pelton Arms\, 23-25 Pelton Rd\,\, London\, SE10 9PQ
END:VEVENT
BEGIN:VEVENT
DTSTART;TZID=UTC:20251230T203000
DTEND;TZID=UTC:20251230T203000
DTSTAMP:20260425T020156
CREATED:20251122T094649Z
LAST-MODIFIED:20251122T094852Z
UID:10003651-1767126600-1767126600@greenwichreview.com
SUMMARY:Pelton Pub Quiz
DESCRIPTION:Every Tuesday 830PM – Cash Prizes \n£2 Quiz entry fee.
URL:https://greenwichreview.com/event/pelton-pub-quiz-3/2025-12-30/
LOCATION:The Pelton Arms\, 23-25 Pelton Rd\,\, London\, SE10 9PQ
END:VEVENT
BEGIN:VEVENT
DTSTART;TZID=UTC:20251229T170000
DTEND;TZID=UTC:20251229T190000
DTSTAMP:20260425T020156
CREATED:20251214T225504Z
LAST-MODIFIED:20251214T225504Z
UID:10003723-1767027600-1767034800@greenwichreview.com
SUMMARY:Chris Daley
DESCRIPTION:Mod\, Britpop\, Indie and Rock\,
URL:https://greenwichreview.com/event/chris-daley-3/
LOCATION:The Pelton Arms\, 23-25 Pelton Rd\,\, London\, SE10 9PQ
END:VEVENT
BEGIN:VEVENT
DTSTART;TZID=UTC:20251228T180000
DTEND;TZID=UTC:20251228T210000
DTSTAMP:20260425T020156
CREATED:20251214T225229Z
LAST-MODIFIED:20251214T225229Z
UID:10003722-1766944800-1766955600@greenwichreview.com
SUMMARY:Dennis Greaves Blues Jam
DESCRIPTION:All performers are welcome and get the chance to play alongside Dennis and his house band
URL:https://greenwichreview.com/event/dennis-greaves-blues-jam-10/
LOCATION:The Pelton Arms\, 23-25 Pelton Rd\,\, London\, SE10 9PQ
END:VEVENT
BEGIN:VEVENT
DTSTART;TZID=UTC:20251227T210000
DTEND;TZID=UTC:20251227T230000
DTSTAMP:20260425T020156
CREATED:20251214T225010Z
LAST-MODIFIED:20251214T225010Z
UID:10003721-1766869200-1766876400@greenwichreview.com
SUMMARY:The Estimators
DESCRIPTION:Traditional Jamaican Ska.
URL:https://greenwichreview.com/event/the-estimators-2/
LOCATION:The Pelton Arms\, 23-25 Pelton Rd\,\, London\, SE10 9PQ
END:VEVENT
BEGIN:VEVENT
DTSTART;TZID=UTC:20251226T180000
DTEND;TZID=UTC:20251226T203000
DTSTAMP:20260425T020156
CREATED:20251214T224827Z
LAST-MODIFIED:20251214T224827Z
UID:10003720-1766772000-1766781000@greenwichreview.com
SUMMARY:The Spiders From Sidcup
DESCRIPTION:David Bowie tribute band.
URL:https://greenwichreview.com/event/the-spiders-from-sidcup/
LOCATION:The Pelton Arms\, 23-25 Pelton Rd\,\, London\, SE10 9PQ
END:VEVENT
BEGIN:VEVENT
DTSTART;TZID=UTC:20251224T210000
DTEND;TZID=UTC:20251224T230000
DTSTAMP:20260425T020156
CREATED:20251213T091856Z
LAST-MODIFIED:20251213T091856Z
UID:10003719-1766610000-1766617200@greenwichreview.com
SUMMARY:The Galactix
DESCRIPTION:Multi genre covers band.
URL:https://greenwichreview.com/event/the-galactix/
LOCATION:The Pelton Arms\, 23-25 Pelton Rd\,\, London\, SE10 9PQ
END:VEVENT
BEGIN:VEVENT
DTSTART;TZID=UTC:20251223T203000
DTEND;TZID=UTC:20251223T203000
DTSTAMP:20260425T020156
CREATED:20251122T094649Z
LAST-MODIFIED:20251122T094852Z
UID:10003650-1766521800-1766521800@greenwichreview.com
SUMMARY:Pelton Pub Quiz
DESCRIPTION:Every Tuesday 830PM – Cash Prizes \n£2 Quiz entry fee.
URL:https://greenwichreview.com/event/pelton-pub-quiz-3/2025-12-23/
LOCATION:The Pelton Arms\, 23-25 Pelton Rd\,\, London\, SE10 9PQ
END:VEVENT
BEGIN:VEVENT
DTSTART;TZID=UTC:20251223T080000
DTEND;TZID=UTC:20251223T170000
DTSTAMP:20260425T020156
CREATED:20251213T091617Z
LAST-MODIFIED:20251213T091617Z
UID:10003718-1766476800-1766509200@greenwichreview.com
SUMMARY:Christmas Shindig
DESCRIPTION:Festive fun with Stephen Large\, Andrea Britton\, Steve Smith\, Dave Temple and special guests.
URL:https://greenwichreview.com/event/christmas-shindig/
LOCATION:The Pelton Arms\, 23-25 Pelton Rd\,\, London\, SE10 9PQ
END:VEVENT
BEGIN:VEVENT
DTSTART;TZID=UTC:20251222T200000
DTEND;TZID=UTC:20251222T220000
DTSTAMP:20260425T020156
CREATED:20251213T091414Z
LAST-MODIFIED:20251213T091414Z
UID:10003717-1766433600-1766440800@greenwichreview.com
SUMMARY:UKADELIX
DESCRIPTION:A five piece\, all female\, band performing a different genres and covers.
URL:https://greenwichreview.com/event/ukadelix-5/
LOCATION:The Pelton Arms\, 23-25 Pelton Rd\,\, London\, SE10 9PQ
END:VEVENT
BEGIN:VEVENT
DTSTART;TZID=UTC:20251221T080000
DTEND;TZID=UTC:20251221T170000
DTSTAMP:20260425T020156
CREATED:20251213T091129Z
LAST-MODIFIED:20251213T091129Z
UID:10003716-1766304000-1766336400@greenwichreview.com
SUMMARY:The Counterfeit Beatles
DESCRIPTION:Beatles tribute band.
URL:https://greenwichreview.com/event/the-counterfeit-beatles/
LOCATION:The Pelton Arms\, 23-25 Pelton Rd\,\, London\, SE10 9PQ
END:VEVENT
BEGIN:VEVENT
DTSTART;TZID=UTC:20251220T210000
DTEND;TZID=UTC:20251220T230000
DTSTAMP:20260425T020156
CREATED:20251213T090933Z
LAST-MODIFIED:20251213T090933Z
UID:10003715-1766264400-1766271600@greenwichreview.com
SUMMARY:Blur 2
DESCRIPTION:Blur tribute band.
URL:https://greenwichreview.com/event/blur-2/
LOCATION:The Pelton Arms\, 23-25 Pelton Rd\,\, London\, SE10 9PQ
END:VEVENT
BEGIN:VEVENT
DTSTART;TZID=UTC:20251219T210000
DTEND;TZID=UTC:20251219T230000
DTSTAMP:20260425T020156
CREATED:20251213T090746Z
LAST-MODIFIED:20251213T090746Z
UID:10003714-1766178000-1766185200@greenwichreview.com
SUMMARY:Frank the Cat
DESCRIPTION:60s\, 70s and 80s soul and disco and funk covers.
URL:https://greenwichreview.com/event/frank-the-cat-3/
LOCATION:The Pelton Arms\, 23-25 Pelton Rd\,\, London\, SE10 9PQ
END:VEVENT
BEGIN:VEVENT
DTSTART;TZID=UTC:20251216T203000
DTEND;TZID=UTC:20251216T203000
DTSTAMP:20260425T020156
CREATED:20251122T094649Z
LAST-MODIFIED:20251122T094852Z
UID:10003649-1765917000-1765917000@greenwichreview.com
SUMMARY:Pelton Pub Quiz
DESCRIPTION:Every Tuesday 830PM – Cash Prizes \n£2 Quiz entry fee.
URL:https://greenwichreview.com/event/pelton-pub-quiz-3/2025-12-16/
LOCATION:The Pelton Arms\, 23-25 Pelton Rd\,\, London\, SE10 9PQ
END:VEVENT
BEGIN:VEVENT
DTSTART;TZID=UTC:20251216T190000
DTEND;TZID=UTC:20251216T203000
DTSTAMP:20260425T020156
CREATED:20251213T090459Z
LAST-MODIFIED:20251213T090459Z
UID:10003713-1765911600-1765917000@greenwichreview.com
SUMMARY:Carol Singing
DESCRIPTION:Carol singing with Jazzy Jeff and friends. \nIn aid of the Cystic Fibrosis Trust. \nPrize for the best Christmas jumper and free mince pies.
URL:https://greenwichreview.com/event/carol-singing/
LOCATION:The Pelton Arms\, 23-25 Pelton Rd\,\, London\, SE10 9PQ
END:VEVENT
BEGIN:VEVENT
DTSTART;TZID=UTC:20251214T170000
DTEND;TZID=UTC:20251214T190000
DTSTAMP:20260425T020156
CREATED:20251213T090106Z
LAST-MODIFIED:20251213T090106Z
UID:10003712-1765731600-1765738800@greenwichreview.com
SUMMARY:The Shambolicks
DESCRIPTION:Good old\, down ‘n dirty rock ‘n roll\, feat. members of Not The Rolling Stones and The Konks.
URL:https://greenwichreview.com/event/the-shambolicks-3/
LOCATION:The Pelton Arms\, 23-25 Pelton Rd\,\, London\, SE10 9PQ
END:VEVENT
BEGIN:VEVENT
DTSTART;TZID=UTC:20251213T210000
DTEND;TZID=UTC:20251213T230000
DTSTAMP:20260425T020156
CREATED:20251213T085807Z
LAST-MODIFIED:20251213T085807Z
UID:10003711-1765659600-1765666800@greenwichreview.com
SUMMARY:The Madchester Experience
DESCRIPTION:Experience the crazy 90s Manchester music scene.
URL:https://greenwichreview.com/event/the-madchester-experience/
LOCATION:The Pelton Arms\, 23-25 Pelton Rd\,\, London\, SE10 9PQ
END:VEVENT
BEGIN:VEVENT
DTSTART;TZID=UTC:20251209T203000
DTEND;TZID=UTC:20251209T203000
DTSTAMP:20260425T020156
CREATED:20251122T094649Z
LAST-MODIFIED:20251122T094852Z
UID:10003648-1765312200-1765312200@greenwichreview.com
SUMMARY:Pelton Pub Quiz
DESCRIPTION:Every Tuesday 830PM – Cash Prizes \n£2 Quiz entry fee.
URL:https://greenwichreview.com/event/pelton-pub-quiz-3/2025-12-09/
LOCATION:The Pelton Arms\, 23-25 Pelton Rd\,\, London\, SE10 9PQ
END:VEVENT
END:VCALENDAR